Workbook

Sheet Rekapitulácia stavby
A1: Export Komplet | BA1: 2.0 | BT1: False | BU1: False | BV1: {40e0a0a1-8e9d-4862-93ac-59efe932a300}
AR2: >> skryté stĺpce << | BS2: 0,01 | BT2: 20
BS3: 0,01 | BT3: 20
D4: REKAPITULÁCIA STAVBY | AS4: v --- nižšie sa nachádzajú doplnkové a pomocné údaje k zostavám --- v | BE4: Návod na vyplnenie | BS4: 0,001
D5: Kód: | K5: 2021-20 | BE5: Meniť je možné iba bunky so žltým podfarbením!_x000D_ _x000D_ 1) na prvom liste Rekapitulácie stavby vyplňte v zostave_x000D_ _x000D_ a) Rekapitulácia stavby_x000D_ - údaje o Zhotoviteľovi_x000D_ (prenesú sa do ostatných zostáv aj v iných listoch)_x000D_ _x000D_ b) Rekapitulácia objektov stavby_x000D_ - potrebné Ostatné náklady_x000D_ _x000D_ 2) na vybraných listoch vyplňte v zostave_x000D_ _x000D_ a) Krycí list_x000D_ - údaje o Zhotoviteľovi, pokiaľ sa líšia od údajov o Zhotoviteľovi na Rekapitulácii stavby_x000D_ (údaje se prenesú do ostatných zostav v danom liste)_x000D_ _x000D_ b) Rekapitulácia rozpočtu_x000D_ - potrebné Ostatné náklady_x000D_ _x000D_ c) Celkové náklady za stavbu_x000D_ - ceny na položkách_x000D_ - množstvo, pokiaľ má žlté podfarbenie_x000D_ - a v prípade potreby poznámku (tá je v skrytom stĺpci) | BS5: 0,01
D6: Stavba: | K6: Oplotenie areálu zariadenia pre seniorov, Starínska 2271/147 v Humennom | BS6: 0,01
D7: JKSO: | AK7: KS: | BS7: 0,01
D8: Miesto: | K8: Starínska 2271/147, 066 01 Humenné | AK8: Dátum: | AN8: 20. 9. 2021 | BS8: 0,01
BS9: 0,01
D10: Objednávateľ: | AK10: IČO: | BS10: 0,01
E11: Mesto Humenné, Kukorelliho 1501/34, 066 01 Humenné | AK11: IČ DPH: | BS11: 0,01
BS12: 0,01
D13: Zhotoviteľ: | AK13: IČO: | AN13: Vyplň údaj | BS13: 0,01
E14: Vyplň údaj | AK14: IČ DPH: | AN14: Vyplň údaj | BS14: 0,01
BS15: False
D16: Projektant: | AK16: IČO: | BS16: False
E17: Ing. Lukáš Jenčo | AK17: IČ DPH: | BS17: True
BS18: 0,01
D19: Spracovateľ: | AK19: IČO: | BS19: 0,01
E20: Ing. Lukáš Jenčo | AK20: IČ DPH: | BS20: True
D22: Poznámka:
D26: Cena bez DPH | AK26: =ROUND(AG94,2) -> 0
L28: Sadzba dane | W28: Základ dane | AK28: Výška dane
D29: DPH | F29: základná | L29: 0.2 | W29: =ROUND(AZ94, 2) -> 0 | AK29: =ROUND(AV94, 2) -> 0
F30: znížená | L30: 0.2 | W30: =ROUND(BA94, 2) -> 0 | AK30: =ROUND(AW94, 2) -> 0
F31: zákl. prenesená | L31: 0.2 | W31: =ROUND(BB94, 2) -> 0 | AK31: 0
F32: zníž. prenesená | L32: 0.2 | W32: =ROUND(BC94, 2) -> 0 | AK32: 0
F33: nulová | L33: 0 | W33: =ROUND(BD94, 2) -> 0 | AK33: 0
D35: Cena s DPH | T35: v | X35: EUR | AK35: =SUM(AK26:AK33) -> 0
D49: Projektant | AH49: Spracovateľ
D60: Dátum a podpis: | V60: Pečiatka | AH60: Dátum a podpis: | AM60: Pečiatka
D64: Objednávateľ | AH64: Zhotoviteľ
D75: Dátum a podpis: | V75: Pečiatka | AH75: Dátum a podpis: | AM75: Pečiatka
C82: REKAPITULÁCIA OBJEKTOV STAVBY
C84: Kód: | L84: =K5 -> 2021-20
C85: Stavba: | L85: =K6 -> Oplotenie areálu zariadenia pre seniorov, Starínska 2271/147 v Humennom
C87: Miesto: | L87: =IF(K8="","",K8) -> Starínska 2271/147, 066 01 Humenné | AI87: Dátum: | AM87: =IF(AN8= "","",AN8) -> 20. 9. 2021
C89: Objednávateľ: | L89: =IF(E11= "","",E11) -> Mesto Humenné, Kukorelliho 1501/34, 066 01 Humenné | AI89: Projektant: | AM89: =IF(E17="","",E17) -> Ing. Lukáš Jenčo | AS89: Informatívne údaje z listov zákaziek
C90: Zhotoviteľ: | L90: =IF(E14= "Vyplň údaj","",E14) | AI90: Spracovateľ: | AM90: =IF(E20="","",E20) -> Ing. Lukáš Jenčo
C92: Kód | I92: Popis | AG92: Cena bez DPH [EUR] | AN92: Cena s DPH [EUR] | AQ92: Typ | AS92: z toho Ostat._x000D_ náklady [EUR] | AT92: DPH [EUR] | AU92: Normohodiny [h] | AV92: DPH základná [EUR] | AW92: DPH znížená [EUR] | AX92: DPH základná prenesená_x000D_ [EUR] | AY92: DPH znížená prenesená_x000D_ [EUR] | AZ92: Základňa_x000D_ DPH základná | BA92: Základňa_x000D_ DPH znížená | BB92: Základňa_x000D_ DPH zákl. prenesená | BC92: Základňa_x000D_ DPH zníž. prenesená | BD92: Základňa_x000D_ DPH nulová
C94: Náklady z rozpočtov | AG94: =ROUND(AG95,2) -> 0 | AN94: =SUM(AG94,AT94) -> 0 | AS94: =ROUND(AS95,2) -> 0 | AT94: =ROUND(SUM(AV94:AW94),2) -> 0 | AU94: =ROUND(AU95,5) -> 0 | AV94: =ROUND(AZ94*L29,2) -> 0 | AW94: =ROUND(BA94*L30,2) -> 0 | AX94: =ROUND(BB94*L29,2) -> 0 | AY94: =ROUND(BC94*L30,2) -> 0 | AZ94: =ROUND(AZ95,2) -> 0 | BA94: =ROUND(BA95,2) -> 0 | BB94: =ROUND(BB95,2) -> 0 | BC94: =ROUND(BC95,2) -> 0 | BD94: =ROUND(BD95,2) -> 0 | BS94: D | BT94: 0 | BV94: IMPORT | BW94: {40e0a0a1-8e9d-4862-93ac-59efe932a300} | BX94: {00000000-0000-0000-0000-000000000000}
A95: / | D95: 2021-20 | J95: Oplotenie areálu zariadenia pre seniorov, Starínska 2271/147 v Humennom | AG95: ='2021-20 - Oplotenie areál...'!J30 -> 0 | AN95: =SUM(AG95,AT95) -> 0 | AQ95: STA | AS95: 0 | AT95: =ROUND(SUM(AV95:AW95),2) -> 0 | AU95: ='2021-20 - Oplotenie areál...'!P129 -> 0 | AV95: ='2021-20 - Oplotenie areál...'!J33 -> 0 | AW95: ='2021-20 - Oplotenie areál...'!J34 -> 0 | AX95: ='2021-20 - Oplotenie areál...'!J35 -> 0 | AY95: ='2021-20 - Oplotenie areál...'!J36 -> 0 | AZ95: ='2021-20 - Oplotenie areál...'!F33 -> 0 | BA95: ='2021-20 - Oplotenie areál...'!F34 -> 0 | BB95: ='2021-20 - Oplotenie areál...'!F35 -> 0 | BC95: ='2021-20 - Oplotenie areál...'!F36 -> 0 | BD95: ='2021-20 - Oplotenie areál...'!F37 -> 0 | BT95: 1 | BU95: ###NOINSERT### | BV95: IMPORT | BW95: {40e0a0a1-8e9d-4862-93ac-59efe932a300} | BX95: {00000000-0000-0000-0000-000000000000}

Sheet 2021-20 - Oplotenie areál...
L2: >> skryté stĺpce << | AT2: {40e0a0a1-8e9d-4862-93ac-59efe932a300}
AT3: 0
D4: KRYCÍ LIST ROZPOČTU | M4: v --- nižšie sa nachádzajú doplnkové a pomocné údaje k zostavám --- v | AT4: False
D6: Stavba:
E7: Oplotenie areálu zariadenia pre seniorov, Starínska 2271/147 v Humennom
D9: JKSO: | I9: KS:
D10: Miesto: | F10: Starínska 2271/147, 066 01 Humenné | I10: Dátum: | J10: ='Rekapitulácia stavby'!AN8 -> 20. 9. 2021
D12: Objednávateľ: | I12: IČO:
E13: Mesto Humenné, Kukorelliho 1501/34, 066 01 Humenné | I13: IČ DPH:
D15: Zhotoviteľ: | I15: IČO: | J15: ='Rekapitulácia stavby'!AN13 -> Vyplň údaj
E16: ='Rekapitulácia stavby'!E14 -> Vyplň údaj | I16: IČ DPH: | J16: ='Rekapitulácia stavby'!AN14 -> Vyplň údaj
D18: Projektant: | I18: IČO:
E19: Ing. Lukáš Jenčo | I19: IČ DPH:
D21: Spracovateľ: | I21: IČO:
E22: Ing. Lukáš Jenčo | I22: IČ DPH:
D24: Poznámka:
D28: Náklady z rozpočtu | J28: =J94 -> 0
D29: Ostatné náklady | J29: =J104 -> 0
D30: Cena bez DPH | J30: =ROUND(J28 + J29, 2) -> 0
F32: Základ dane | I32: Sadzba dane | J32: Výška dane
D33: DPH | E33: základná | F33: =ROUND((SUM(BE104:BE111) + SUM(BE129:BE157)), 2) -> 0 | I33: 0.2 | J33: =ROUND(((SUM(BE104:BE111) + SUM(BE129:BE157))*I33), 2) -> 0
E34: znížená | F34: =ROUND((SUM(BF104:BF111) + SUM(BF129:BF157)), 2) -> 0 | I34: 0.2 | J34: =ROUND(((SUM(BF104:BF111) + SUM(BF129:BF157))*I34), 2) -> 0
E35: zákl. prenesená | F35: =ROUND((SUM(BG104:BG111) + SUM(BG129:BG157)), 2) -> 0 | I35: 0.2 | J35: =0 -> 0
E36: zníž. prenesená | F36: =ROUND((SUM(BH104:BH111) + SUM(BH129:BH157)), 2) -> 0 | I36: 0.2 | J36: =0 -> 0
E37: nulová | F37: =ROUND((SUM(BI104:BI111) + SUM(BI129:BI157)), 2) -> 0 | I37: 0 | J37: =0 -> 0
D39: Cena s DPH | G39: v | H39: EUR | J39: =SUM(J30:J37) -> 0
D50: Projektant | G50: Spracovateľ
D61: Dátum a podpis: | F61: Pečiatka | G61: Dátum a podpis: | J61: Pečiatka
D65: Objednávateľ | G65: Zhotoviteľ
D76: Dátum a podpis: | F76: Pečiatka | G76: Dátum a podpis: | J76: Pečiatka
C82: REKAPITULÁCIA ROZPOČTU
C84: Stavba:
E85: =E7 -> Oplotenie areálu zariadenia pre seniorov, Starínska 2271/147 v Humennom
C87: Miesto: | F87: =F10 -> Starínska 2271/147, 066 01 Humenné | I87: Dátum: | J87: =IF(J10="","",J10) -> 20. 9. 2021
C89: Objednávateľ: | F89: =E13 -> Mesto Humenné, Kukorelliho 1501/34, 066 01 Humenné | I89: Projektant: | J89: =E19 -> Ing. Lukáš Jenčo
C90: Zhotoviteľ: | F90: =IF(E16="","",E16) -> Vyplň údaj | I90: Spracovateľ: | J90: =E22 -> Ing. Lukáš Jenčo
C92: Kód dielu - Popis | J92: Cena celkom [EUR]
C94: 1) Náklady z rozpočtu | J94: =J129 -> 0 | AU94: -1
D95: HSV - Práce a dodávky HSV | J95: =J130 -> 0
D96: 1 - Zemné práce | J96: =J131 -> 0
D97: 2 - Zakladanie | J97: =J136 -> 0
D98: 3 - Zvislé a kompletné konštrukcie | J98: =J138 -> 0
D99: 9 - Ostatné konštrukcie a práce-búranie | J99: =J142 -> 0
D100: PSV - Práce a dodávky PSV | J100: =J148 -> 0
D101: 767 - Konštrukcie doplnkové kovové | J101: =J149 -> 0
C104: 2) Ostatné náklady | J104: =ROUND(J105 + J106 + J107 + J108 + J109 + J110,2) -> 0 | N104: DPH
D105: GZS | J105: 0 | N105: znížená | AY105: VRN | BE105: =IF(N105="základná",J105,0) -> 0 | BF105: =IF(N105="znížená",J105,0) -> 0 | BG105: =IF(N105="zákl. prenesená",J105,0) -> 0 | BH105: =IF(N105="zníž. prenesená",J105,0) -> 0 | BI105: =IF(N105="nulová",J105,0) -> 0 | BJ105: 2
D106: Projektové práce | J106: 0 | N106: znížená | AY106: VRN | BE106: =IF(N106="základná",J106,0) -> 0 | BF106: =IF(N106="znížená",J106,0) -> 0 | BG106: =IF(N106="zákl. prenesená",J106,0) -> 0 | BH106: =IF(N106="zníž. prenesená",J106,0) -> 0 | BI106: =IF(N106="nulová",J106,0) -> 0 | BJ106: 2
D107: Sťažené podmienky | J107: 0 | N107: znížená | AY107: VRN | BE107: =IF(N107="základná",J107,0) -> 0 | BF107: =IF(N107="znížená",J107,0) -> 0 | BG107: =IF(N107="zákl. prenesená",J107,0) -> 0 | BH107: =IF(N107="zníž. prenesená",J107,0) -> 0 | BI107: =IF(N107="nulová",J107,0) -> 0 | BJ107: 2
D108: Vplyv prostredia | J108: 0 | N108: znížená | AY108: VRN | BE108: =IF(N108="základná",J108,0) -> 0 | BF108: =IF(N108="znížená",J108,0) -> 0 | BG108: =IF(N108="zákl. prenesená",J108,0) -> 0 | BH108: =IF(N108="zníž. prenesená",J108,0) -> 0 | BI108: =IF(N108="nulová",J108,0) -> 0 | BJ108: 2
D109: Iné VRN | J109: 0 | N109: znížená | AY109: VRN | BE109: =IF(N109="základná",J109,0) -> 0 | BF109: =IF(N109="znížená",J109,0) -> 0 | BG109: =IF(N109="zákl. prenesená",J109,0) -> 0 | BH109: =IF(N109="zníž. prenesená",J109,0) -> 0 | BI109: =IF(N109="nulová",J109,0) -> 0 | BJ109: 2
D110: Kompletačná činnosť | J110: =ROUND(J28*T110,2) -> 0 | N110: znížená | AY110: KOMPLETACNA | BE110: =IF(N110="základná",J110,0) -> 0 | BF110: =IF(N110="znížená",J110,0) -> 0 | BG110: =IF(N110="zákl. prenesená",J110,0) -> 0 | BH110: =IF(N110="zníž. prenesená",J110,0) -> 0 | BI110: =IF(N110="nulová",J110,0) -> 0 | BJ110: 2
C112: Celkové náklady za stavbu 1) + 2) | J112: =ROUND(J94+J104,2) -> 0
C118: ROZPOČET
C120: Stavba:
E121: =E7 -> Oplotenie areálu zariadenia pre seniorov, Starínska 2271/147 v Humennom
C123: Miesto: | F123: =F10 -> Starínska 2271/147, 066 01 Humenné | I123: Dátum: | J123: =IF(J10="","",J10) -> 20. 9. 2021
C125: Objednávateľ: | F125: =E13 -> Mesto Humenné, Kukorelliho 1501/34, 066 01 Humenné | I125: Projektant: | J125: =E19 -> Ing. Lukáš Jenčo
C126: Zhotoviteľ: | F126: =IF(E16="","",E16) -> Vyplň údaj | I126: Spracovateľ: | J126: =E22 -> Ing. Lukáš Jenčo
C128: PČ | D128: Typ | E128: Kód | F128: Popis | G128: MJ | H128: Množstvo | I128: J.cena [EUR] | J128: Cena celkom [EUR] | K128: Cenová sústava | N128: DPH | O128: J. Nh [h] | P128: Nh celkom [h] | Q128: J. hmotnosť [t] | R128: Hmotnosť celkom [t] | S128: J. suť [t] | T128: Suť Celkom [t]
C129: Náklady z rozpočtu | J129: =BK129 -> 0 | P129: =P130+P148 -> 0 | R129: =R130+R148 -> 35.856952 | T129: =T130+T148 -> 123.52 | AT129: D | AU129: -1 | BK129: =BK130+BK148 -> 0
D130: D | E130: HSV | F130: Práce a dodávky HSV | J130: =BK130 -> 0 | P130: =P131+P136+P138+P142 -> 0 | R130: =R131+R136+R138+R142 -> 31.4594 | T130: =T131+T136+T138+T142 -> 121 | AR130: 1 | AT130: D | AU130: 0 | AY130: ROZPOCET | BK130: =BK131+BK136+BK138+BK142 -> 0
D131: D | E131: 1 | F131: Zemné práce | J131: =BK131 -> 0 | P131: =SUM(P132:P135) -> 0 | R131: =SUM(R132:R135) -> 0 | T131: =SUM(T132:T135) -> 0 | AR131: 1 | AT131: D | AU131: 1 | AY131: ROZPOCET | BK131: =SUM(BK132:BK135) -> 0
C132: 24 | D132: K | E132: 130001101.S | F132: Príplatok k cenám za sťaženie výkopu v blízkosti podzemného vedenia - pre všetky triedy | G132: m3 | H132: 7 | J132: =ROUND(I132*H132,2) -> 0 | N132: znížená | P132: =O132*H132 -> 0 | Q132: 0 | R132: =Q132*H132 -> 0 | S132: 0 | T132: =S132*H132 -> 0 | AR132: 4 | AT132: K | AU132: 2 | AY132: ROZPOCET | BE132: =IF(N132="základná",J132,0) -> 0 | BF132: =IF(N132="znížená",J132,0) -> 0 | BG132: =IF(N132="zákl. prenesená",J132,0) -> 0 | BH132: =IF(N132="zníž. prenesená",J132,0) -> 0 | BI132: =IF(N132="nulová",J132,0) -> 0 | BJ132: 2 | BK132: =ROUND(I132*H132,2) -> 0 | BL132: 4 | BM132: 1970569015
C133: 23 | D133: K | E133: 130201001.S | F133: Výkop jamy a ryhy v obmedzenom priestore horn. tr.3 ručne | G133: m3 | H133: 7 | J133: =ROUND(I133*H133,2) -> 0 | N133: znížená | P133: =O133*H133 -> 0 | Q133: 0 | R133: =Q133*H133 -> 0 | S133: 0 | T133: =S133*H133 -> 0 | AR133: 4 | AT133: K | AU133: 2 | AY133: ROZPOCET | BE133: =IF(N133="základná",J133,0) -> 0 | BF133: =IF(N133="znížená",J133,0) -> 0 | BG133: =IF(N133="zákl. prenesená",J133,0) -> 0 | BH133: =IF(N133="zníž. prenesená",J133,0) -> 0 | BI133: =IF(N133="nulová",J133,0) -> 0 | BJ133: 2 | BK133: =ROUND(I133*H133,2) -> 0 | BL133: 4 | BM133: -1512929098
C134: 50 | D134: K | E134: 181101102.S | F134: Úprava pláne v zárezoch v hornine 1-4 so zhutnením | G134: m2 | H134: 270 | J134: =ROUND(I134*H134,2) -> 0 | N134: znížená | P134: =O134*H134 -> 0 | Q134: 0 | R134: =Q134*H134 -> 0 | S134: 0 | T134: =S134*H134 -> 0 | AR134: 4 | AT134: K | AU134: 2 | AY134: ROZPOCET | BE134: =IF(N134="základná",J134,0) -> 0 | BF134: =IF(N134="znížená",J134,0) -> 0 | BG134: =IF(N134="zákl. prenesená",J134,0) -> 0 | BH134: =IF(N134="zníž. prenesená",J134,0) -> 0 | BI134: =IF(N134="nulová",J134,0) -> 0 | BJ134: 2 | BK134: =ROUND(I134*H134,2) -> 0 | BL134: 4 | BM134: 1516017378
C135: 51 | D135: K | E135: 181301103.S | F135: Rozprestretie ornice v rovine , plocha do 500 m2, hr.do 200 mm | G135: m2 | H135: 270 | J135: =ROUND(I135*H135,2) -> 0 | N135: znížená | P135: =O135*H135 -> 0 | Q135: 0 | R135: =Q135*H135 -> 0 | S135: 0 | T135: =S135*H135 -> 0 | AR135: 4 | AT135: K | AU135: 2 | AY135: ROZPOCET | BE135: =IF(N135="základná",J135,0) -> 0 | BF135: =IF(N135="znížená",J135,0) -> 0 | BG135: =IF(N135="zákl. prenesená",J135,0) -> 0 | BH135: =IF(N135="zníž. prenesená",J135,0) -> 0 | BI135: =IF(N135="nulová",J135,0) -> 0 | BJ135: 2 | BK135: =ROUND(I135*H135,2) -> 0 | BL135: 4 | BM135: -621041292
D136: D | E136: 2 | F136: Zakladanie | J136: =BK136 -> 0 | P136: =P137 -> 0 | R136: =R137 -> 22.3543 | T136: =T137 -> 0 | AR136: 1 | AT136: D | AU136: 1 | AY136: ROZPOCET | BK136: =BK137 -> 0
C137: 25 | D137: K | E137: 275313521.S | F137: Betón základových pätiek, prostý tr. C 12/15 | G137: m3 | H137: 10 | J137: =ROUND(I137*H137,2) -> 0 | N137: znížená | P137: =O137*H137 -> 0 | Q137: 2.23543 | R137: =Q137*H137 -> 22.3543 | S137: 0 | T137: =S137*H137 -> 0 | AR137: 4 | AT137: K | AU137: 2 | AY137: ROZPOCET | BE137: =IF(N137="základná",J137,0) -> 0 | BF137: =IF(N137="znížená",J137,0) -> 0 | BG137: =IF(N137="zákl. prenesená",J137,0) -> 0 | BH137: =IF(N137="zníž. prenesená",J137,0) -> 0 | BI137: =IF(N137="nulová",J137,0) -> 0 | BJ137: 2 | BK137: =ROUND(I137*H137,2) -> 0 | BL137: 4 | BM137: -1793614749
D138: D | E138: 3 | F138: Zvislé a kompletné konštrukcie | J138: =BK138 -> 0 | P138: =SUM(P139:P141) -> 0 | R138: =SUM(R139:R141) -> 9.1051 | T138: =SUM(T139:T141) -> 0 | AR138: 1 | AT138: D | AU138: 1 | AY138: ROZPOCET | BK138: =SUM(BK139:BK141) -> 0
C139: 20 | D139: M | E139: 553510029900.S | F139: Stĺpik, výška 2,2 m, poplastovaný na pozinkovanej oceli, pre panelový plotový systém | G139: ks | H139: 69 | J139: =ROUND(I139*H139,2) -> 0 | N139: znížená | P139: =O139*H139 -> 0 | Q139: 0.0083 | R139: =Q139*H139 -> 0.5727 | S139: 0 | T139: =S139*H139 -> 0 | AR139: 8 | AT139: M | AU139: 2 | AY139: ROZPOCET | BE139: =IF(N139="základná",J139,0) -> 0 | BF139: =IF(N139="znížená",J139,0) -> 0 | BG139: =IF(N139="zákl. prenesená",J139,0) -> 0 | BH139: =IF(N139="zníž. prenesená",J139,0) -> 0 | BI139: =IF(N139="nulová",J139,0) -> 0 | BJ139: 2 | BK139: =ROUND(I139*H139,2) -> 0 | BL139: 4 | BM139: 474163382
C140: 45 | D140: M | E140: 553510030100.S | F140: Stĺpik, výška 2,5 m, poplastovaný na pozinkovanej oceli, pre panelový plotový systém | G140: ks | H140: 46 | J140: =ROUND(I140*H140,2) -> 0 | N140: znížená | P140: =O140*H140 -> 0 | Q140: 0.0094 | R140: =Q140*H140 -> 0.4324 | S140: 0 | T140: =S140*H140 -> 0 | AR140: 8 | AT140: M | AU140: 2 | AY140: ROZPOCET | BE140: =IF(N140="základná",J140,0) -> 0 | BF140: =IF(N140="znížená",J140,0) -> 0 | BG140: =IF(N140="zákl. prenesená",J140,0) -> 0 | BH140: =IF(N140="zníž. prenesená",J140,0) -> 0 | BI140: =IF(N140="nulová",J140,0) -> 0 | BJ140: 2 | BK140: =ROUND(I140*H140,2) -> 0 | BL140: 4 | BM140: -910969376
C141: 22 | D141: M | E141: 592330002400.S | F141: Betónový panel lxvxhr 2350x300x35 mm, podhrabová doska pre oplotenie z pletiva | G141: ks | H141: 150 | J141: =ROUND(I141*H141,2) -> 0 | N141: znížená | P141: =O141*H141 -> 0 | Q141: 0.054 | R141: =Q141*H141 -> 8.1 | S141: 0 | T141: =S141*H141 -> 0 | AR141: 8 | AT141: M | AU141: 2 | AY141: ROZPOCET | BE141: =IF(N141="základná",J141,0) -> 0 | BF141: =IF(N141="znížená",J141,0) -> 0 | BG141: =IF(N141="zákl. prenesená",J141,0) -> 0 | BH141: =IF(N141="zníž. prenesená",J141,0) -> 0 | BI141: =IF(N141="nulová",J141,0) -> 0 | BJ141: 2 | BK141: =ROUND(I141*H141,2) -> 0 | BL141: 4 | BM141: 1375978848
D142: D | E142: 9 | F142: Ostatné konštrukcie a práce-búranie | J142: =BK142 -> 0 | P142: =SUM(P143:P147) -> 0 | R142: =SUM(R143:R147) -> 0 | T142: =SUM(T143:T147) -> 121 | AR142: 1 | AT142: D | AU142: 1 | AY142: ROZPOCET | BK142: =SUM(BK143:BK147) -> 0
C143: 11 | D143: K | E143: 961043111.S | F143: Búranie základov alebo vybúranie otvorov plochy nad 4 m2 z betónu prostého alebo preloženého kameňom, -2,20000t | G143: m3 | H143: 55 | J143: =ROUND(I143*H143,2) -> 0 | N143: znížená | P143: =O143*H143 -> 0 | Q143: 0 | R143: =Q143*H143 -> 0 | S143: 2.2 | T143: =S143*H143 -> 121 | AR143: 4 | AT143: K | AU143: 2 | AY143: ROZPOCET | BE143: =IF(N143="základná",J143,0) -> 0 | BF143: =IF(N143="znížená",J143,0) -> 0 | BG143: =IF(N143="zákl. prenesená",J143,0) -> 0 | BH143: =IF(N143="zníž. prenesená",J143,0) -> 0 | BI143: =IF(N143="nulová",J143,0) -> 0 | BJ143: 2 | BK143: =ROUND(I143*H143,2) -> 0 | BL143: 4 | BM143: -643904274
C144: 28 | D144: K | E144: 979081111.S | F144: Odvoz sutiny a vybúraných hmôt na skládku do 1 km | G144: t | H144: 123.52 | J144: =ROUND(I144*H144,2) -> 0 | N144: znížená | P144: =O144*H144 -> 0 | Q144: 0 | R144: =Q144*H144 -> 0 | S144: 0 | T144: =S144*H144 -> 0 | AR144: 4 | AT144: K | AU144: 2 | AY144: ROZPOCET | BE144: =IF(N144="základná",J144,0) -> 0 | BF144: =IF(N144="znížená",J144,0) -> 0 | BG144: =IF(N144="zákl. prenesená",J144,0) -> 0 | BH144: =IF(N144="zníž. prenesená",J144,0) -> 0 | BI144: =IF(N144="nulová",J144,0) -> 0 | BJ144: 2 | BK144: =ROUND(I144*H144,2) -> 0 | BL144: 4 | BM144: -1970065151
C145: 44 | D145: K | E145: 979081121.S | F145: Odvoz sutiny a vybúraných hmôt na skládku za každý ďalší km - 8 km | G145: t | H145: 123.52 | J145: =ROUND(I145*H145,2) -> 0 | N145: znížená | P145: =O145*H145 -> 0 | Q145: 0 | R145: =Q145*H145 -> 0 | S145: 0 | T145: =S145*H145 -> 0 | AR145: 4 | AT145: K | AU145: 2 | AY145: ROZPOCET | BE145: =IF(N145="základná",J145,0) -> 0 | BF145: =IF(N145="znížená",J145,0) -> 0 | BG145: =IF(N145="zákl. prenesená",J145,0) -> 0 | BH145: =IF(N145="zníž. prenesená",J145,0) -> 0 | BI145: =IF(N145="nulová",J145,0) -> 0 | BJ145: 2 | BK145: =ROUND(I145*H145,2) -> 0 | BL145: 4 | BM145: -1462563923
C146: 29 | D146: K | E146: 979082111.S | F146: Nakladanie, doprava sutiny a vybúraných hmôt | G146: t | H146: 123.52 | J146: =ROUND(I146*H146,2) -> 0 | N146: znížená | P146: =O146*H146 -> 0 | Q146: 0 | R146: =Q146*H146 -> 0 | S146: 0 | T146: =S146*H146 -> 0 | AR146: 4 | AT146: K | AU146: 2 | AY146: ROZPOCET | BE146: =IF(N146="základná",J146,0) -> 0 | BF146: =IF(N146="znížená",J146,0) -> 0 | BG146: =IF(N146="zákl. prenesená",J146,0) -> 0 | BH146: =IF(N146="zníž. prenesená",J146,0) -> 0 | BI146: =IF(N146="nulová",J146,0) -> 0 | BJ146: 2 | BK146: =ROUND(I146*H146,2) -> 0 | BL146: 4 | BM146: -902457992
C147: 31 | D147: K | E147: 979089012.S | F147: Poplatok za skladovanie - betón, tehly, dlaždice (17 01) ostatné | G147: t | H147: 123.52 | J147: =ROUND(I147*H147,2) -> 0 | N147: znížená | P147: =O147*H147 -> 0 | Q147: 0 | R147: =Q147*H147 -> 0 | S147: 0 | T147: =S147*H147 -> 0 | AR147: 4 | AT147: K | AU147: 2 | AY147: ROZPOCET | BE147: =IF(N147="základná",J147,0) -> 0 | BF147: =IF(N147="znížená",J147,0) -> 0 | BG147: =IF(N147="zákl. prenesená",J147,0) -> 0 | BH147: =IF(N147="zníž. prenesená",J147,0) -> 0 | BI147: =IF(N147="nulová",J147,0) -> 0 | BJ147: 2 | BK147: =ROUND(I147*H147,2) -> 0 | BL147: 4 | BM147: -1490628928
D148: D | E148: PSV | F148: Práce a dodávky PSV | J148: =BK148 -> 0 | P148: =P149 -> 0 | R148: =R149 -> 4.397552 | T148: =T149 -> 2.52 | AR148: 2 | AT148: D | AU148: 0 | AY148: ROZPOCET | BK148: =BK149 -> 0
D149: D | E149: 767 | F149: Konštrukcie doplnkové kovové | J149: =BK149 -> 0 | P149: =SUM(P150:P157) -> 0 | R149: =SUM(R150:R157) -> 4.397552 | T149: =SUM(T150:T157) -> 2.52 | AR149: 2 | AT149: D | AU149: 1 | AY149: ROZPOCET | BK149: =SUM(BK150:BK157) -> 0
C150: 27 | D150: M | E150: 553410061505.S | F150: Brána pozink farebný s elektrickým pohonom, hrúbka panelu 40 mm, vxš 1500x4500mm | G150: ks | H150: 2 | J150: =ROUND(I150*H150,2) -> 0 | N150: znížená | P150: =O150*H150 -> 0 | Q150: 0.161 | R150: =Q150*H150 -> 0.322 | S150: 0 | T150: =S150*H150 -> 0 | AR150: 32 | AT150: M | AU150: 2 | AY150: ROZPOCET | BE150: =IF(N150="základná",J150,0) -> 0 | BF150: =IF(N150="znížená",J150,0) -> 0 | BG150: =IF(N150="zákl. prenesená",J150,0) -> 0 | BH150: =IF(N150="zníž. prenesená",J150,0) -> 0 | BI150: =IF(N150="nulová",J150,0) -> 0 | BJ150: 2 | BK150: =ROUND(I150*H150,2) -> 0 | BL150: 16 | BM150: 219320775
C151: 47 | D151: K | E151: 767654220.S | F151: Montáž vrát posuvných, osadených do oceľovej konštrukcie, s plochou nad 6 do 9 m2 | G151: ks | H151: 2 | J151: =ROUND(I151*H151,2) -> 0 | N151: znížená | P151: =O151*H151 -> 0 | Q151: 0.00101 | R151: =Q151*H151 -> 0.00202 | S151: 0 | T151: =S151*H151 -> 0 | AR151: 16 | AT151: K | AU151: 2 | AY151: ROZPOCET | BE151: =IF(N151="základná",J151,0) -> 0 | BF151: =IF(N151="znížená",J151,0) -> 0 | BG151: =IF(N151="zákl. prenesená",J151,0) -> 0 | BH151: =IF(N151="zníž. prenesená",J151,0) -> 0 | BI151: =IF(N151="nulová",J151,0) -> 0 | BJ151: 2 | BK151: =ROUND(I151*H151,2) -> 0 | BL151: 16 | BM151: -2062780214
C152: 48 | D152: M | E152: 553410013600 | F152: Bránka kovová 1000x1500 mm L otočné so zámkom FAB | G152: ks | H152: 2 | J152: =ROUND(I152*H152,2) -> 0 | N152: znížená | P152: =O152*H152 -> 0 | Q152: 0.0515 | R152: =Q152*H152 -> 0.103 | S152: 0 | T152: =S152*H152 -> 0 | AR152: 32 | AT152: M | AU152: 2 | AY152: ROZPOCET | BE152: =IF(N152="základná",J152,0) -> 0 | BF152: =IF(N152="znížená",J152,0) -> 0 | BG152: =IF(N152="zákl. prenesená",J152,0) -> 0 | BH152: =IF(N152="zníž. prenesená",J152,0) -> 0 | BI152: =IF(N152="nulová",J152,0) -> 0 | BJ152: 2 | BK152: =ROUND(I152*H152,2) -> 0 | BL152: 16 | BM152: 807128391
C153: 49 | D153: K | E153: 767651210.S | F153: Montáž bránky otočnej, osadenej do oceľovej konštrukcie, s plochou do 6 m2 | G153: ks | H153: 2 | J153: =ROUND(I153*H153,2) -> 0 | N153: znížená | P153: =O153*H153 -> 0 | Q153: 0.00032 | R153: =Q153*H153 -> 0.00064 | S153: 0 | T153: =S153*H153 -> 0 | AR153: 16 | AT153: K | AU153: 2 | AY153: ROZPOCET | BE153: =IF(N153="základná",J153,0) -> 0 | BF153: =IF(N153="znížená",J153,0) -> 0 | BG153: =IF(N153="zákl. prenesená",J153,0) -> 0 | BH153: =IF(N153="zníž. prenesená",J153,0) -> 0 | BI153: =IF(N153="nulová",J153,0) -> 0 | BJ153: 2 | BK153: =ROUND(I153*H153,2) -> 0 | BL153: 16 | BM153: 1004692674
C154: 15 | D154: K | E154: 767914150.S | F154: Montáž oplotenia panelového z pletiva na stĺpiky výšky do 2,2 m | G154: m | H154: 280 | J154: =ROUND(I154*H154,2) -> 0 | N154: znížená | P154: =O154*H154 -> 0 | Q154: 0 | R154: =Q154*H154 -> 0 | S154: 0 | T154: =S154*H154 -> 0 | AR154: 16 | AT154: K | AU154: 2 | AY154: ROZPOCET | BE154: =IF(N154="základná",J154,0) -> 0 | BF154: =IF(N154="znížená",J154,0) -> 0 | BG154: =IF(N154="zákl. prenesená",J154,0) -> 0 | BH154: =IF(N154="zníž. prenesená",J154,0) -> 0 | BI154: =IF(N154="nulová",J154,0) -> 0 | BJ154: 2 | BK154: =ROUND(I154*H154,2) -> 0 | BL154: 16 | BM154: -1727595060
C155: 16 | D155: M | E155: 553510024800.S | F155: Panel pre panelový plotový systém, veľkosť oka 200x50 mm, vxl 1,5x2,48 m, poplastovaný na pozinkovanej oceli | G155: ks | H155: 120.08 | J155: =ROUND(I155*H155,2) -> 0 | N155: znížená | P155: =O155*H155 -> 0 | Q155: 0.0299 | R155: =Q155*H155 -> 3.590392 | S155: 0 | T155: =S155*H155 -> 0 | AR155: 32 | AT155: M | AU155: 2 | AY155: ROZPOCET | BE155: =IF(N155="základná",J155,0) -> 0 | BF155: =IF(N155="znížená",J155,0) -> 0 | BG155: =IF(N155="zákl. prenesená",J155,0) -> 0 | BH155: =IF(N155="zníž. prenesená",J155,0) -> 0 | BI155: =IF(N155="nulová",J155,0) -> 0 | BJ155: 2 | BK155: =ROUND(I155*H155,2) -> 0 | BL155: 16 | BM155: 49196235
C156: 12 | D156: K | E156: 767914830.S | F156: Demontáž oplotenia rámového na oceľové stĺpiky, výšky nad 1 do 2 m, -0,00900t | G156: m | H156: 280 | J156: =ROUND(I156*H156,2) -> 0 | N156: znížená | P156: =O156*H156 -> 0 | Q156: 0 | R156: =Q156*H156 -> 0 | S156: 0.009 | T156: =S156*H156 -> 2.52 | AR156: 16 | AT156: K | AU156: 2 | AY156: ROZPOCET | BE156: =IF(N156="základná",J156,0) -> 0 | BF156: =IF(N156="znížená",J156,0) -> 0 | BG156: =IF(N156="zákl. prenesená",J156,0) -> 0 | BH156: =IF(N156="zníž. prenesená",J156,0) -> 0 | BI156: =IF(N156="nulová",J156,0) -> 0 | BJ156: 2 | BK156: =ROUND(I156*H156,2) -> 0 | BL156: 16 | BM156: 1534815199
C157: 13 | D157: K | E157: 767916720.S | F157: Osadenie stĺpika pre pletivové panelové ploty, s výškou nad 2 m do betónu | G157: ks | H157: 115 | J157: =ROUND(I157*H157,2) -> 0 | N157: znížená | P157: =O157*H157 -> 0 | Q157: 0.0033 | R157: =Q157*H157 -> 0.3795 | S157: 0 | T157: =S157*H157 -> 0 | AR157: 16 | AT157: K | AU157: 2 | AY157: ROZPOCET | BE157: =IF(N157="základná",J157,0) -> 0 | BF157: =IF(N157="znížená",J157,0) -> 0 | BG157: =IF(N157="zákl. prenesená",J157,0) -> 0 | BH157: =IF(N157="zníž. prenesená",J157,0) -> 0 | BI157: =IF(N157="nulová",J157,0) -> 0 | BJ157: 2 | BK157: =ROUND(I157*H157,2) -> 0 | BL157: 16 | BM157: 237504402
