Workbook

Sheet Rekapitulácia stavby
A1: Export Komplet | BA1: 2.0 | BT1: False | BU1: False | BV1: {40e0a0a1-8e9d-4862-93ac-59efe932a300}
AR2: >> skryté stĺpce << | BS2: 0,01 | BT2: 20
BS3: 0,01 | BT3: 20
D4: REKAPITULÁCIA STAVBY | AS4: v --- nižšie sa nachádzajú doplnkové a pomocné údaje k zostavám --- v | BE4: Návod na vyplnenie | BS4: 0,001
D5: Kód: | K5: 2021-20 | BE5: Meniť je možné iba bunky so žltým podfarbením!_x000D_ _x000D_ 1) na prvom liste Rekapitulácie stavby vyplňte v zostave_x000D_ _x000D_ a) Rekapitulácia stavby_x000D_ - údaje o Zhotoviteľovi_x000D_ (prenesú sa do ostatných zostáv aj v iných listoch)_x000D_ _x000D_ b) Rekapitulácia objektov stavby_x000D_ - potrebné Ostatné náklady_x000D_ _x000D_ 2) na vybraných listoch vyplňte v zostave_x000D_ _x000D_ a) Krycí list_x000D_ - údaje o Zhotoviteľovi, pokiaľ sa líšia od údajov o Zhotoviteľovi na Rekapitulácii stavby_x000D_ (údaje se prenesú do ostatných zostav v danom liste)_x000D_ _x000D_ b) Rekapitulácia rozpočtu_x000D_ - potrebné Ostatné náklady_x000D_ _x000D_ c) Celkové náklady za stavbu_x000D_ - ceny na položkách_x000D_ - množstvo, pokiaľ má žlté podfarbenie_x000D_ - a v prípade potreby poznámku (tá je v skrytom stĺpci) | BS5: 0,01
D6: Stavba: | K6: Oplotenie areálu zariadenia pre seniorov, Starínska 2271/147 v Humennom | BS6: 0,01
D7: JKSO: | AK7: KS: | BS7: 0,01
D8: Miesto: | K8: Starínska 2271/147, 066 01 Humenné | AK8: Dátum: | AN8: 20. 9. 2021 | BS8: 0,01
BS9: 0,01
D10: Objednávateľ: | AK10: IČO: | BS10: 0,01
E11: Mesto Humenné, Kukorelliho 1501/34, 066 01 Humenné | AK11: IČ DPH: | BS11: 0,01
BS12: 0,01
D13: Zhotoviteľ: | AK13: IČO: | AN13: Vyplň údaj | BS13: 0,01
E14: Vyplň údaj | AK14: IČ DPH: | AN14: Vyplň údaj | BS14: 0,01
BS15: False
D16: Projektant: | AK16: IČO: | BS16: False
E17: Ing. Lukáš Jenčo | AK17: IČ DPH: | BS17: True
BS18: 0,01
D19: Spracovateľ: | AK19: IČO: | BS19: 0,01
E20: Ing. Lukáš Jenčo | AK20: IČ DPH: | BS20: True
D22: Poznámka:
D26: Cena bez DPH | AK26: =ROUND(AG94,2) -> 0
L28: Sadzba dane | W28: Základ dane | AK28: Výška dane
D29: DPH | F29: základná | L29: 0.2 | W29: =ROUND(AZ94, 2) -> 0 | AK29: =ROUND(AV94, 2) -> 0
F30: znížená | L30: 0.2 | W30: =ROUND(BA94, 2) -> 0 | AK30: =ROUND(AW94, 2) -> 0
F31: zákl. prenesená | L31: 0.2 | W31: =ROUND(BB94, 2) -> 0 | AK31: 0
F32: zníž. prenesená | L32: 0.2 | W32: =ROUND(BC94, 2) -> 0 | AK32: 0
F33: nulová | L33: 0 | W33: =ROUND(BD94, 2) -> 0 | AK33: 0
D35: Cena s DPH | T35: v | X35: EUR | AK35: =SUM(AK26:AK33) -> 0
D49: Projektant | AH49: Spracovateľ
D60: Dátum a podpis: | V60: Pečiatka | AH60: Dátum a podpis: | AM60: Pečiatka
D64: Objednávateľ | AH64: Zhotoviteľ
D75: Dátum a podpis: | V75: Pečiatka | AH75: Dátum a podpis: | AM75: Pečiatka
C82: REKAPITULÁCIA OBJEKTOV STAVBY
C84: Kód: | L84: =K5 -> 2021-20
C85: Stavba: | L85: =K6 -> Oplotenie areálu zariadenia pre seniorov, Starínska 2271/147 v Humennom
C87: Miesto: | L87: =IF(K8="","",K8) -> Starínska 2271/147, 066 01 Humenné | AI87: Dátum: | AM87: =IF(AN8= "","",AN8) -> 20. 9. 2021
C89: Objednávateľ: | L89: =IF(E11= "","",E11) -> Mesto Humenné, Kukorelliho 1501/34, 066 01 Humenné | AI89: Projektant: | AM89: =IF(E17="","",E17) -> Ing. Lukáš Jenčo | AS89: Informatívne údaje z listov zákaziek
C90: Zhotoviteľ: | L90: =IF(E14= "Vyplň údaj","",E14) | AI90: Spracovateľ: | AM90: =IF(E20="","",E20) -> Ing. Lukáš Jenčo
C92: Kód | I92: Popis | AG92: Cena bez DPH [EUR] | AN92: Cena s DPH [EUR] | AQ92: Typ | AS92: z toho Ostat._x000D_ náklady [EUR] | AT92: DPH [EUR] | AU92: Normohodiny [h] | AV92: DPH základná [EUR] | AW92: DPH znížená [EUR] | AX92: DPH základná prenesená_x000D_ [EUR] | AY92: DPH znížená prenesená_x000D_ [EUR] | AZ92: Základňa_x000D_ DPH základná | BA92: Základňa_x000D_ DPH znížená | BB92: Základňa_x000D_ DPH zákl. prenesená | BC92: Základňa_x000D_ DPH zníž. prenesená | BD92: Základňa_x000D_ DPH nulová
...

Sheet 2021-20 - Oplotenie areál...
L2: >> skryté stĺpce << | AT2: {40e0a0a1-8e9d-4862-93ac-59efe932a300}
AT3: 0
D4: KRYCÍ LIST ROZPOČTU | M4: v --- nižšie sa nachádzajú doplnkové a pomocné údaje k zostavám --- v | AT4: False
D6: Stavba:
E7: Oplotenie areálu zariadenia pre seniorov, Starínska 2271/147 v Humennom
D9: JKSO: | I9: KS:
D10: Miesto: | F10: Starínska 2271/147, 066 01 Humenné | I10: Dátum: | J10: ='Rekapitulácia stavby'!AN8 -> 20. 9. 2021
D12: Objednávateľ: | I12: IČO:
E13: Mesto Humenné, Kukorelliho 1501/34, 066 01 Humenné | I13: IČ DPH:
D15: Zhotoviteľ: | I15: IČO: | J15: ='Rekapitulácia stavby'!AN13 -> Vyplň údaj
E16: ='Rekapitulácia stavby'!E14 -> Vyplň údaj | I16: IČ DPH: | J16: ='Rekapitulácia stavby'!AN14 -> Vyplň údaj
D18: Projektant: | I18: IČO:
E19: Ing. Lukáš Jenčo | I19: IČ DPH:
D21: Spracovateľ: | I21: IČO:
E22: Ing. Lukáš Jenčo | I22: IČ DPH:
D24: Poznámka:
D28: Náklady z rozpočtu | J28: =J94 -> 0
D29: Ostatné náklady | J29: =J104 -> 0
D30: Cena bez DPH | J30: =ROUND(J28 + J29, 2) -> 0
F32: Základ dane | I32: Sadzba dane | J32: Výška dane
D33: DPH | E33: základná | F33: =ROUND((SUM(BE104:BE111) + SUM(BE129:BE157)), 2) -> 0 | I33: 0.2 | J33: =ROUND(((SUM(BE104:BE111) + SUM(BE129:BE157))*I33), 2) -> 0
E34: znížená | F34: =ROUND((SUM(BF104:BF111) + SUM(BF129:BF157)), 2) -> 0 | I34: 0.2 | J34: =ROUND(((SUM(BF104:BF111) + SUM(BF129:BF157))*I34), 2) -> 0
E35: zákl. prenesená | F35: =ROUND((SUM(BG104:BG111) + SUM(BG129:BG157)), 2) -> 0 | I35: 0.2 | J35: =0 -> 0
E36: zníž. prenesená | F36: =ROUND((SUM(BH104:BH111) + SUM(BH129:BH157)), 2) -> 0 | I36: 0.2 | J36: =0 -> 0
E37: nulová | F37: =ROUND((SUM(BI104:BI111) + SUM(BI129:BI157)), 2) -> 0 | I37: 0 | J37: =0 -> 0
D39: Cena s DPH | G39: v | H39: EUR | J39: =SUM(J30:J37) -> 0
D50: Projektant | G50: Spracovateľ
D61: Dátum a podpis: | F61: Pečiatka | G61: Dátum a podpis: | J61: Pečiatka
D65: Objednávateľ | G65: Zhotoviteľ
D76: Dátum a podpis: | F76: Pečiatka | G76: Dátum a podpis: | J76: Pečiatka
C82: REKAPITULÁCIA ROZPOČTU
C84: Stavba:
E85: =E7 -> Oplotenie areálu zariadenia pre seniorov, Starínska 2271/147 v Humennom
C87: Miesto: | F87: =F10 -> Starínska 2271/147, 066 01 Humenné | I87: Dátum: | J87: =IF(J10="","",J10) -> 20. 9. 2021
C89: Objednávateľ: | F89: =E13 -> Mesto Humenné, Kukorelliho 1501/34, 066 01 Humenné | I89: Projektant: | J89: =E19 -> Ing. Lukáš Jenčo
C90: Zhotoviteľ: | F90: =IF(E16="","",E16) -> Vyplň údaj | I90: Spracovateľ: | J90: =E22 -> Ing. Lukáš Jenčo
C92: Kód dielu - Popis | J92: Cena celkom [EUR]
C94: 1) Náklady z rozpočtu | J94: =J129 -> 0 | AU94: -1
D95: HSV - Práce a dodávky HSV | J95: =J130 -> 0
D96: 1 - Zemné práce | J96: =J131 -> 0
...
