Workbook

Sheet Rekapitulácia stavby
A1: Export Komplet | BA1: 2.0 | BT1: False | BU1: False | BV1: {b7b6c965-6d1b-4193-a23c-4a571e6971a3}
AR2: >> skryté stĺpce << | BS2: 0,01 | BT2: 20
BS3: 0,01 | BT3: 20
D4: REKAPITULÁCIA STAVBY | AS4: v --- nižšie sa nachádzajú doplnkové a pomocné údaje k zostavám --- v | BE4: Návod na vyplnenie | BS4: 0,001
D5: Kód: | K5: 2023 | BE5: Meniť je možné iba bunky so žltým podfarbením!_x000D_ _x000D_ 1) na prvom liste Rekapitulácie stavby vyplňte v zostave_x000D_ _x000D_ a) Rekapitulácia stavby_x000D_ - údaje o Zhotoviteľovi_x000D_ (prenesú sa do ostatných zostáv aj v iných listoch)_x000D_ _x000D_ b) Rekapitulácia objektov stavby_x000D_ - potrebné Ostatné náklady_x000D_ _x000D_ 2) na vybraných listoch vyplňte v zostave_x000D_ _x000D_ a) Krycí list_x000D_ - údaje o Zhotoviteľovi, pokiaľ sa líšia od údajov o Zhotoviteľovi na Rekapitulácii stavby_x000D_ (údaje se prenesú do ostatných zostav v danom liste)_x000D_ _x000D_ b) Rekapitulácia rozpočtu_x000D_ - potrebné Ostatné náklady_x000D_ _x000D_ c) Celkové náklady za stavbu_x000D_ - ceny na položkách_x000D_ - množstvo, pokiaľ má žlté podfarbenie_x000D_ - a v prípade potreby poznámku (tá je v skrytom stĺpci) | BS5: 0,01
D6: Stavba: | K6: Osadenie prístreškov v areáloch základných škôl v Humennom | BS6: 0,01
D7: JKSO: | AK7: KS: | BS7: 0,01
D8: Miesto: | AK8: Dátum: | BS8: 0,01
BS9: 0,01
D10: Objednávateľ: | AK10: IČO: | BS10: 0,01
AK11: IČ DPH: | BS11: 0,01
BS12: 0,01
D13: Zhotoviteľ: | AK13: IČO: | AN13: Vyplň údaj | BS13: 0,01
E14: Vyplň údaj | AK14: IČ DPH: | AN14: Vyplň údaj | BS14: 0,01
BS15: False
D16: Projektant: | AK16: IČO: | BS16: False
AK17: IČ DPH: | BS17: True
BS18: 0,01
D19: Spracovateľ: | AK19: IČO: | BS19: 0,01
AK20: IČ DPH: | BS20: True
D22: Poznámka:
D26: Cena bez DPH | AK26: =ROUND(AG94,2) -> 0
L28: Sadzba dane | W28: Základ dane | AK28: Výška dane
D29: DPH | F29: základná | L29: 0.2 | W29: =ROUND(AZ94, 2) -> 0 | AK29: =ROUND(AV94, 2) -> 0
F30: znížená | L30: 0.2 | W30: =ROUND(BA94, 2) -> 0 | AK30: =ROUND(AW94, 2) -> 0
F31: zákl. prenesená | L31: 0.2 | W31: =ROUND(BB94, 2) -> 0 | AK31: 0
F32: zníž. prenesená | L32: 0.2 | W32: =ROUND(BC94, 2) -> 0 | AK32: 0
F33: nulová | L33: 0 | W33: =ROUND(BD94, 2) -> 0 | AK33: 0
D35: Cena s DPH | T35: v | X35: EUR | AK35: =SUM(AK26:AK33) -> 0
D49: Projektant | AH49: Spracovateľ
D60: Dátum a podpis: | V60: Pečiatka | AH60: Dátum a podpis: | AM60: Pečiatka
D64: Objednávateľ | AH64: Zhotoviteľ
D75: Dátum a podpis: | V75: Pečiatka | AH75: Dátum a podpis: | AM75: Pečiatka
C82: REKAPITULÁCIA OBJEKTOV STAVBY
C84: Kód: | L84: =K5 -> 2023
C85: Stavba: | L85: =K6 -> Osadenie prístreškov v areáloch základných škôl v Humennom
C87: Miesto: | L87: =IF(K8="","",K8) | AI87: Dátum: | AM87: =IF(AN8= "","",AN8)
C89: Objednávateľ: | L89: =IF(E11= "","",E11) | AI89: Projektant: | AM89: =IF(E17="","",E17) | AS89: Informatívne údaje z listov zákaziek
C90: Zhotoviteľ: | L90: =IF(E14= "Vyplň údaj","",E14) | AI90: Spracovateľ: | AM90: =IF(E20="","",E20)
C92: Kód | I92: Popis | AG92: Cena bez DPH [EUR] | AN92: Cena s DPH [EUR] | AQ92: Typ | AS92: z toho Ostat._x000D_ náklady [EUR] | AT92: DPH [EUR] | AU92: Normohodiny [h] | AV92: DPH základná [EUR] | AW92: DPH znížená [EUR] | AX92: DPH základná prenesená_x000D_ [EUR] | AY92: DPH znížená prenesená_x000D_ [EUR] | AZ92: Základňa_x000D_ DPH základná | BA92: Základňa_x000D_ DPH znížená | BB92: Základňa_x000D_ DPH zákl. prenesená | BC92: Základňa_x000D_ DPH zníž. prenesená | BD92: Základňa_x000D_ DPH nulová
C94: Náklady z rozpočtov | AG94: =ROUND(SUM(AG95:AG98),2) -> 0 | AN94: =SUM(AG94,AT94) -> 0 | AS94: =ROUND(SUM(AS95:AS98),2) -> 0 | AT94: =ROUND(SUM(AV94:AW94),2) -> 0 | AU94: =ROUND(SUM(AU95:AU98),5) -> 0 | AV94: =ROUND(AZ94*L29,2) -> 0 | AW94: =ROUND(BA94*L30,2) -> 0 | AX94: =ROUND(BB94*L29,2) -> 0 | AY94: =ROUND(BC94*L30,2) -> 0 | AZ94: =ROUND(SUM(AZ95:AZ98),2) -> 0 | BA94: =ROUND(SUM(BA95:BA98),2) -> 0 | BB94: =ROUND(SUM(BB95:BB98),2) -> 0 | BC94: =ROUND(SUM(BC95:BC98),2) -> 0 | BD94: =ROUND(SUM(BD95:BD98),2) -> 0 | BS94: D | BT94: 0 | BU94: ###NOIMPORT### | BV94: IMPORT | BW94: {b7b6c965-6d1b-4193-a23c-4a571e6971a3} | BX94: {00000000-0000-0000-0000-000000000000}
A95: / | D95: 1 | J95: Osadenie prístrešku pre bicykle v areáli ZŠ Ulica dargovských hrdinov. | AG95: ='1 - Osadenie prístrešku p...'!J30 -> 0 | AN95: =SUM(AG95,AT95) -> 0 | AQ95: STA | AS95: 0 | AT95: =ROUND(SUM(AV95:AW95),2) -> 0 | AU95: ='1 - Osadenie prístrešku p...'!P122 -> 0 | AV95: ='1 - Osadenie prístrešku p...'!J33 -> 0 | AW95: ='1 - Osadenie prístrešku p...'!J34 -> 0 | AX95: ='1 - Osadenie prístrešku p...'!J35 -> 0 | AY95: ='1 - Osadenie prístrešku p...'!J36 -> 0 | AZ95: ='1 - Osadenie prístrešku p...'!F33 -> 0 | BA95: ='1 - Osadenie prístrešku p...'!F34 -> 0 | BB95: ='1 - Osadenie prístrešku p...'!F35 -> 0 | BC95: ='1 - Osadenie prístrešku p...'!F36 -> 0 | BD95: ='1 - Osadenie prístrešku p...'!F37 -> 0 | BT95: 1 | BV95: IMPORT | BW95: {9feb0810-0b82-4caf-835e-15d7b22226ff} | BX95: {b7b6c965-6d1b-4193-a23c-4a571e6971a3} | CM95: 0
A96: / | D96: 2 | J96: Osadenie prístreškov pre bicykle v areáli ZŠ Hrnčiarska | AG96: ='2 - Osadenie prístreškov ...'!J30 -> 0 | AN96: =SUM(AG96,AT96) -> 0 | AQ96: STA | AS96: 0 | AT96: =ROUND(SUM(AV96:AW96),2) -> 0 | AU96: ='2 - Osadenie prístreškov ...'!P122 -> 0 | AV96: ='2 - Osadenie prístreškov ...'!J33 -> 0 | AW96: ='2 - Osadenie prístreškov ...'!J34 -> 0 | AX96: ='2 - Osadenie prístreškov ...'!J35 -> 0 | AY96: ='2 - Osadenie prístreškov ...'!J36 -> 0 | AZ96: ='2 - Osadenie prístreškov ...'!F33 -> 0 | BA96: ='2 - Osadenie prístreškov ...'!F34 -> 0 | BB96: ='2 - Osadenie prístreškov ...'!F35 -> 0 | BC96: ='2 - Osadenie prístreškov ...'!F36 -> 0 | BD96: ='2 - Osadenie prístreškov ...'!F37 -> 0 | BT96: 1 | BV96: IMPORT | BW96: {21b3577a-0516-4e03-9d97-147c64a9372a} | BX96: {b7b6c965-6d1b-4193-a23c-4a571e6971a3} | CM96: 0
A97: / | D97: 3 | J97: Osadenie prístreškov pre bicykle v areáli ZŠ Kudlovská | AG97: ='3 - Osadenie prístreškov ...'!J30 -> 0 | AN97: =SUM(AG97,AT97) -> 0 | AQ97: STA | AS97: 0 | AT97: =ROUND(SUM(AV97:AW97),2) -> 0 | AU97: ='3 - Osadenie prístreškov ...'!P121 -> 0 | AV97: ='3 - Osadenie prístreškov ...'!J33 -> 0 | AW97: ='3 - Osadenie prístreškov ...'!J34 -> 0 | AX97: ='3 - Osadenie prístreškov ...'!J35 -> 0 | AY97: ='3 - Osadenie prístreškov ...'!J36 -> 0 | AZ97: ='3 - Osadenie prístreškov ...'!F33 -> 0 | BA97: ='3 - Osadenie prístreškov ...'!F34 -> 0 | BB97: ='3 - Osadenie prístreškov ...'!F35 -> 0 | BC97: ='3 - Osadenie prístreškov ...'!F36 -> 0 | BD97: ='3 - Osadenie prístreškov ...'!F37 -> 0 | BT97: 1 | BV97: IMPORT | BW97: {e6c74423-856d-487a-8815-e01a245755fd} | BX97: {b7b6c965-6d1b-4193-a23c-4a571e6971a3} | CM97: 0
A98: / | D98: 4 | J98: Osadenie prístrešku pre bicykle v areáli ZŠ Laborecká | AG98: ='4 - Osadenie prístrešku p...'!J30 -> 0 | AN98: =SUM(AG98,AT98) -> 0 | AQ98: STA | AS98: 0 | AT98: =ROUND(SUM(AV98:AW98),2) -> 0 | AU98: ='4 - Osadenie prístrešku p...'!P119 -> 0 | AV98: ='4 - Osadenie prístrešku p...'!J33 -> 0 | AW98: ='4 - Osadenie prístrešku p...'!J34 -> 0 | AX98: ='4 - Osadenie prístrešku p...'!J35 -> 0 | AY98: ='4 - Osadenie prístrešku p...'!J36 -> 0 | AZ98: ='4 - Osadenie prístrešku p...'!F33 -> 0 | BA98: ='4 - Osadenie prístrešku p...'!F34 -> 0 | BB98: ='4 - Osadenie prístrešku p...'!F35 -> 0 | BC98: ='4 - Osadenie prístrešku p...'!F36 -> 0 | BD98: ='4 - Osadenie prístrešku p...'!F37 -> 0 | BT98: 1 | BV98: IMPORT | BW98: {7c78e963-3689-4ff9-8f55-1f4bef63e7c5} | BX98: {b7b6c965-6d1b-4193-a23c-4a571e6971a3} | CM98: 0

Sheet 1 - Osadenie prístrešku p...
L2: >> skryté stĺpce << | AT2: {9feb0810-0b82-4caf-835e-15d7b22226ff}
AT3: 0
D4: KRYCÍ LIST ROZPOČTU | M4: v --- nižšie sa nachádzajú doplnkové a pomocné údaje k zostavám --- v | AT4: False
D6: Stavba:
E7: ='Rekapitulácia stavby'!K6 -> Osadenie prístreškov v areáloch základných škôl v Humennom
D8: Objekt:
E9: 1 - Osadenie prístrešku pre bicykle v areáli ZŠ Ulica dargovských hrdinov.
D11: JKSO: | I11: KS:
D12: Miesto: | I12: Dátum:
D14: Objednávateľ: | I14: IČO: | J14: =IF('Rekapitulácia stavby'!AN10="","",'Rekapitulácia stavby'!AN10)
E15: =IF('Rekapitulácia stavby'!E11="","",'Rekapitulácia stavby'!E11) | I15: IČ DPH: | J15: =IF('Rekapitulácia stavby'!AN11="","",'Rekapitulácia stavby'!AN11)
D17: Zhotoviteľ: | I17: IČO: | J17: ='Rekapitulácia stavby'!AN13 -> Vyplň údaj
E18: ='Rekapitulácia stavby'!E14 -> Vyplň údaj | I18: IČ DPH: | J18: ='Rekapitulácia stavby'!AN14 -> Vyplň údaj
D20: Projektant: | I20: IČO: | J20: =IF('Rekapitulácia stavby'!AN16="","",'Rekapitulácia stavby'!AN16)
E21: =IF('Rekapitulácia stavby'!E17="","",'Rekapitulácia stavby'!E17) | I21: IČ DPH: | J21: =IF('Rekapitulácia stavby'!AN17="","",'Rekapitulácia stavby'!AN17)
D23: Spracovateľ: | I23: IČO: | J23: =IF('Rekapitulácia stavby'!AN19="","",'Rekapitulácia stavby'!AN19)
E24: =IF('Rekapitulácia stavby'!E20="","",'Rekapitulácia stavby'!E20) | I24: IČ DPH: | J24: =IF('Rekapitulácia stavby'!AN20="","",'Rekapitulácia stavby'!AN20)
D26: Poznámka:
D30: Cena bez DPH | J30: =ROUND(J122, 2) -> 0
F32: Základ dane | I32: Sadzba dane | J32: Výška dane
D33: DPH | E33: základná | F33: =ROUND((SUM(BE122:BE142)), 2) -> 0 | I33: 0.2 | J33: =ROUND(((SUM(BE122:BE142))*I33), 2) -> 0
E34: znížená | F34: =ROUND((SUM(BF122:BF142)), 2) -> 0 | I34: 0.2 | J34: =ROUND(((SUM(BF122:BF142))*I34), 2) -> 0
E35: zákl. prenesená | F35: =ROUND((SUM(BG122:BG142)), 2) -> 0 | I35: 0.2 | J35: =0 -> 0
E36: zníž. prenesená | F36: =ROUND((SUM(BH122:BH142)), 2) -> 0 | I36: 0.2 | J36: =0 -> 0
E37: nulová | F37: =ROUND((SUM(BI122:BI142)), 2) -> 0 | I37: 0 | J37: =0 -> 0
D39: Cena s DPH | G39: v | H39: EUR | J39: =SUM(J30:J37) -> 0
D50: Projektant | G50: Spracovateľ
D61: Dátum a podpis: | F61: Pečiatka | G61: Dátum a podpis: | J61: Pečiatka
D65: Objednávateľ | G65: Zhotoviteľ
D76: Dátum a podpis: | F76: Pečiatka | G76: Dátum a podpis: | J76: Pečiatka
C82: REKAPITULÁCIA ROZPOČTU
C84: Stavba:
E85: =E7 -> Osadenie prístreškov v areáloch základných škôl v Humennom
C86: Objekt:
E87: =E9 -> 1 - Osadenie prístrešku pre bicykle v areáli ZŠ Ulica dargovských hrdinov.
C89: Miesto: | F89: =F12 | I89: Dátum: | J89: =IF(J12="","",J12)
C91: Objednávateľ: | F91: =E15 | I91: Projektant: | J91: =E21
C92: Zhotoviteľ: | F92: =IF(E18="","",E18) -> Vyplň údaj | I92: Spracovateľ: | J92: =E24
C94: Kód dielu - Popis | J94: Cena celkom [EUR]
C96: Náklady z rozpočtu | J96: =J122 -> 0 | AU96: -1
D97: HSV - Práce a dodávky HSV | J97: =J123 -> 0
D98: 1 - Zemné práce | J98: =J124 -> 0
D99: 2 - Zakladanie | J99: =J129 -> 0
D100: 5 - Komunikácie | J100: =J132 -> 0
D101: 9 - Ostatné konštrukcie a práce-búranie | J101: =J134 -> 0
D102: 99 - Presun hmôt HSV | J102: =J141 -> 0
C109: ROZPOČET
C111: Stavba:
E112: =E7 -> Osadenie prístreškov v areáloch základných škôl v Humennom
C113: Objekt:
E114: =E9 -> 1 - Osadenie prístrešku pre bicykle v areáli ZŠ Ulica dargovských hrdinov.
C116: Miesto: | F116: =F12 | I116: Dátum: | J116: =IF(J12="","",J12)
C118: Objednávateľ: | F118: =E15 | I118: Projektant: | J118: =E21
C119: Zhotoviteľ: | F119: =IF(E18="","",E18) -> Vyplň údaj | I119: Spracovateľ: | J119: =E24
C121: PČ | D121: Typ | E121: Kód | F121: Popis | G121: MJ | H121: Množstvo | I121: J.cena [EUR] | J121: Cena celkom [EUR] | K121: Cenová sústava | N121: DPH | O121: J. Nh [h] | P121: Nh celkom [h] | Q121: J. hmotnosť [t] | R121: Hmotnosť celkom [t] | S121: J. suť [t] | T121: Suť Celkom [t]
C122: Náklady z rozpočtu | J122: =BK122 -> 0 | P122: =P123 -> 0 | R122: =R123 -> 15.150141 | T122: =T123 -> 0 | AT122: D | AU122: -1 | BK122: =BK123 -> 0
D123: D | E123: HSV | F123: Práce a dodávky HSV | J123: =BK123 -> 0 | P123: =P124+P129+P132+P134+P141 -> 0 | R123: =R124+R129+R132+R134+R141 -> 15.150141 | T123: =T124+T129+T132+T134+T141 -> 0 | AR123: 1 | AT123: D | AU123: 0 | AY123: ROZPOCET | BK123: =BK124+BK129+BK132+BK134+BK141 -> 0
D124: D | E124: 1 | F124: Zemné práce | J124: =BK124 -> 0 | P124: =SUM(P125:P128) -> 0 | R124: =SUM(R125:R128) -> 0 | T124: =SUM(T125:T128) -> 0 | AR124: 1 | AT124: D | AU124: 1 | AY124: ROZPOCET | BK124: =SUM(BK125:BK128) -> 0
C125: 1 | D125: K | E125: 122201101.S | F125: Odkopávka a prekopávka nezapažená v hornine 3, do 100 m3 | G125: m3 | H125: 6 | J125: =ROUND(I125*H125,2) -> 0 | N125: znížená | P125: =O125*H125 -> 0 | Q125: 0 | R125: =Q125*H125 -> 0 | S125: 0 | T125: =S125*H125 -> 0 | AR125: 4 | AT125: K | AU125: 2 | AY125: ROZPOCET | BE125: =IF(N125="základná",J125,0) -> 0 | BF125: =IF(N125="znížená",J125,0) -> 0 | BG125: =IF(N125="zákl. prenesená",J125,0) -> 0 | BH125: =IF(N125="zníž. prenesená",J125,0) -> 0 | BI125: =IF(N125="nulová",J125,0) -> 0 | BJ125: 2 | BK125: =ROUND(I125*H125,2) -> 0 | BL125: 4 | BM125: 1024626750
C126: 2 | D126: K | E126: 122201109.S | F126: Odkopávky a prekopávky nezapažené. Príplatok k cenám za lepivosť horniny 3 | G126: m3 | H126: 1.8 | J126: =ROUND(I126*H126,2) -> 0 | N126: znížená | P126: =O126*H126 -> 0 | Q126: 0 | R126: =Q126*H126 -> 0 | S126: 0 | T126: =S126*H126 -> 0 | AR126: 4 | AT126: K | AU126: 2 | AY126: ROZPOCET | BE126: =IF(N126="základná",J126,0) -> 0 | BF126: =IF(N126="znížená",J126,0) -> 0 | BG126: =IF(N126="zákl. prenesená",J126,0) -> 0 | BH126: =IF(N126="zníž. prenesená",J126,0) -> 0 | BI126: =IF(N126="nulová",J126,0) -> 0 | BJ126: 2 | BK126: =ROUND(I126*H126,2) -> 0 | BL126: 4 | BM126: 727943755
C127: 3 | D127: K | E127: 162201102.S | F127: Vodorovné premiestnenie výkopku z horniny 1-4 nad 20-50m | G127: m3 | H127: 6 | J127: =ROUND(I127*H127,2) -> 0 | N127: znížená | P127: =O127*H127 -> 0 | Q127: 0 | R127: =Q127*H127 -> 0 | S127: 0 | T127: =S127*H127 -> 0 | AR127: 4 | AT127: K | AU127: 2 | AY127: ROZPOCET | BE127: =IF(N127="základná",J127,0) -> 0 | BF127: =IF(N127="znížená",J127,0) -> 0 | BG127: =IF(N127="zákl. prenesená",J127,0) -> 0 | BH127: =IF(N127="zníž. prenesená",J127,0) -> 0 | BI127: =IF(N127="nulová",J127,0) -> 0 | BJ127: 2 | BK127: =ROUND(I127*H127,2) -> 0 | BL127: 4 | BM127: 1452900840
C128: 4 | D128: K | E128: 181301102.S | F128: Rozprestretie ornice v rovine, plocha do 500 m2, hr.do 150 mm | G128: m2 | H128: 15 | J128: =ROUND(I128*H128,2) -> 0 | N128: znížená | P128: =O128*H128 -> 0 | Q128: 0 | R128: =Q128*H128 -> 0 | S128: 0 | T128: =S128*H128 -> 0 | AR128: 4 | AT128: K | AU128: 2 | AY128: ROZPOCET | BE128: =IF(N128="základná",J128,0) -> 0 | BF128: =IF(N128="znížená",J128,0) -> 0 | BG128: =IF(N128="zákl. prenesená",J128,0) -> 0 | BH128: =IF(N128="zníž. prenesená",J128,0) -> 0 | BI128: =IF(N128="nulová",J128,0) -> 0 | BJ128: 2 | BK128: =ROUND(I128*H128,2) -> 0 | BL128: 4 | BM128: -2143027999
D129: D | E129: 2 | F129: Zakladanie | J129: =BK129 -> 0 | P129: =SUM(P130:P131) -> 0 | R129: =SUM(R130:R131) -> 6.543007 | T129: =SUM(T130:T131) -> 0 | AR129: 1 | AT129: D | AU129: 1 | AY129: ROZPOCET | BK129: =SUM(BK130:BK131) -> 0
C130: 5 | D130: K | E130: 273321312.S | F130: Betón základových dosiek, železový (bez výstuže), tr. C 20/25 | G130: m3 | H130: 2.9 | J130: =ROUND(I130*H130,2) -> 0 | N130: znížená | P130: =O130*H130 -> 0 | Q130: 2.21513 | R130: =Q130*H130 -> 6.423877 | S130: 0 | T130: =S130*H130 -> 0 | AR130: 4 | AT130: K | AU130: 2 | AY130: ROZPOCET | BE130: =IF(N130="základná",J130,0) -> 0 | BF130: =IF(N130="znížená",J130,0) -> 0 | BG130: =IF(N130="zákl. prenesená",J130,0) -> 0 | BH130: =IF(N130="zníž. prenesená",J130,0) -> 0 | BI130: =IF(N130="nulová",J130,0) -> 0 | BJ130: 2 | BK130: =ROUND(I130*H130,2) -> 0 | BL130: 4 | BM130: -359983709
C131: 6 | D131: K | E131: 273362442.S | F131: Výstuž základových dosiek zo zvár. sietí KARI, priemer drôtu 8/8 mm, veľkosť oka 150x150 mm | G131: m2 | H131: 19 | J131: =ROUND(I131*H131,2) -> 0 | N131: znížená | P131: =O131*H131 -> 0 | Q131: 0.00627 | R131: =Q131*H131 -> 0.11913 | S131: 0 | T131: =S131*H131 -> 0 | AR131: 4 | AT131: K | AU131: 2 | AY131: ROZPOCET | BE131: =IF(N131="základná",J131,0) -> 0 | BF131: =IF(N131="znížená",J131,0) -> 0 | BG131: =IF(N131="zákl. prenesená",J131,0) -> 0 | BH131: =IF(N131="zníž. prenesená",J131,0) -> 0 | BI131: =IF(N131="nulová",J131,0) -> 0 | BJ131: 2 | BK131: =ROUND(I131*H131,2) -> 0 | BL131: 4 | BM131: -1525506089
D132: D | E132: 5 | F132: Komunikácie | J132: =BK132 -> 0 | P132: =P133 -> 0 | R132: =R133 -> 6.99846 | T132: =T133 -> 0 | AR132: 1 | AT132: D | AU132: 1 | AY132: ROZPOCET | BK132: =BK133 -> 0
C133: 7 | D133: K | E133: 564752111.S | F133: Podklad alebo kryt z kameniva hrubého drveného veľ. 32-63 mm (vibr.štrk) po zhut.hr. 150 mm | G133: m2 | H133: 19 | J133: =ROUND(I133*H133,2) -> 0 | N133: znížená | P133: =O133*H133 -> 0 | Q133: 0.36834 | R133: =Q133*H133 -> 6.99846 | S133: 0 | T133: =S133*H133 -> 0 | AR133: 4 | AT133: K | AU133: 2 | AY133: ROZPOCET | BE133: =IF(N133="základná",J133,0) -> 0 | BF133: =IF(N133="znížená",J133,0) -> 0 | BG133: =IF(N133="zákl. prenesená",J133,0) -> 0 | BH133: =IF(N133="zníž. prenesená",J133,0) -> 0 | BI133: =IF(N133="nulová",J133,0) -> 0 | BJ133: 2 | BK133: =ROUND(I133*H133,2) -> 0 | BL133: 4 | BM133: -1027214693
D134: D | E134: 9 | F134: Ostatné konštrukcie a práce-búranie | J134: =BK134 -> 0 | P134: =SUM(P135:P140) -> 0 | R134: =SUM(R135:R140) -> 1.608674 | T134: =SUM(T135:T140) -> 0 | AR134: 1 | AT134: D | AU134: 1 | AY134: ROZPOCET | BK134: =SUM(BK135:BK140) -> 0
C135: 8 | D135: K | E135: 916561111.S | F135: Osadenie záhonového alebo parkového obrubníka betón., do lôžka z bet. pros. tr. C 12/15 s bočnou oporou | G135: m | H135: 12.4 | J135: =ROUND(I135*H135,2) -> 0 | N135: znížená | P135: =O135*H135 -> 0 | Q135: 0.09793 | R135: =Q135*H135 -> 1.214332 | S135: 0 | T135: =S135*H135 -> 0 | AR135: 4 | AT135: K | AU135: 2 | AY135: ROZPOCET | BE135: =IF(N135="základná",J135,0) -> 0 | BF135: =IF(N135="znížená",J135,0) -> 0 | BG135: =IF(N135="zákl. prenesená",J135,0) -> 0 | BH135: =IF(N135="zníž. prenesená",J135,0) -> 0 | BI135: =IF(N135="nulová",J135,0) -> 0 | BJ135: 2 | BK135: =ROUND(I135*H135,2) -> 0 | BL135: 4 | BM135: -1834494159
C136: 9 | D136: M | E136: 592170001800.S | F136: Obrubník parkový, lxšxv 1000x50x200 mm, prírodný | G136: ks | H136: 12.524 | J136: =ROUND(I136*H136,2) -> 0 | N136: znížená | P136: =O136*H136 -> 0 | Q136: 0.023 | R136: =Q136*H136 -> 0.288052 | S136: 0 | T136: =S136*H136 -> 0 | AR136: 8 | AT136: M | AU136: 2 | AY136: ROZPOCET | BE136: =IF(N136="základná",J136,0) -> 0 | BF136: =IF(N136="znížená",J136,0) -> 0 | BG136: =IF(N136="zákl. prenesená",J136,0) -> 0 | BH136: =IF(N136="zníž. prenesená",J136,0) -> 0 | BI136: =IF(N136="nulová",J136,0) -> 0 | BJ136: 2 | BK136: =ROUND(I136*H136,2) -> 0 | BL136: 4 | BM136: 1445188490
C137: 10 | D137: K | E137: 936174312.S | F137: Osadenie stojana na bicykle kotevnými skrutkami bez zabetónovania nôh na pevný podklad | G137: ks | H137: 7 | J137: =ROUND(I137*H137,2) -> 0 | N137: znížená | P137: =O137*H137 -> 0 | Q137: 0.00067 | R137: =Q137*H137 -> 0.00469 | S137: 0 | T137: =S137*H137 -> 0 | AR137: 4 | AT137: K | AU137: 2 | AY137: ROZPOCET | BE137: =IF(N137="základná",J137,0) -> 0 | BF137: =IF(N137="znížená",J137,0) -> 0 | BG137: =IF(N137="zákl. prenesená",J137,0) -> 0 | BH137: =IF(N137="zníž. prenesená",J137,0) -> 0 | BI137: =IF(N137="nulová",J137,0) -> 0 | BJ137: 2 | BK137: =ROUND(I137*H137,2) -> 0 | BL137: 4 | BM137: 657718901
C138: 11 | D138: M | E138: 553560009100.S | F138: Stojan na bicykel tvaru U výška 750mm, oceľový zinkovaná rúrka, na ukotvenie skrutkami | G138: ks | H138: 7 | J138: =ROUND(I138*H138,2) -> 0 | N138: znížená | P138: =O138*H138 -> 0 | Q138: 0.011 | R138: =Q138*H138 -> 0.077 | S138: 0 | T138: =S138*H138 -> 0 | AR138: 8 | AT138: M | AU138: 2 | AY138: ROZPOCET | BE138: =IF(N138="základná",J138,0) -> 0 | BF138: =IF(N138="znížená",J138,0) -> 0 | BG138: =IF(N138="zákl. prenesená",J138,0) -> 0 | BH138: =IF(N138="zníž. prenesená",J138,0) -> 0 | BI138: =IF(N138="nulová",J138,0) -> 0 | BJ138: 2 | BK138: =ROUND(I138*H138,2) -> 0 | BL138: 4 | BM138: 1072703379
C139: 12 | D139: K | E139: 936941412.S | F139: Montáž prístrešku pre bicykle | G139: ks | H139: 1 | J139: =ROUND(I139*H139,2) -> 0 | N139: znížená | P139: =O139*H139 -> 0 | Q139: 0.0149 | R139: =Q139*H139 -> 0.0149 | S139: 0 | T139: =S139*H139 -> 0 | AR139: 16 | AT139: K | AU139: 2 | AY139: ROZPOCET | BE139: =IF(N139="základná",J139,0) -> 0 | BF139: =IF(N139="znížená",J139,0) -> 0 | BG139: =IF(N139="zákl. prenesená",J139,0) -> 0 | BH139: =IF(N139="zníž. prenesená",J139,0) -> 0 | BI139: =IF(N139="nulová",J139,0) -> 0 | BJ139: 2 | BK139: =ROUND(I139*H139,2) -> 0 | BL139: 16 | BM139: 1293226753
C140: 13 | D140: M | E140: 553580pc | F140: Prístrešok pre bicykle pre 15 bicyklov s krytinou a stenami z komôrkového polykarbonátu,kotvenie skrutkami, TYP 09 dodávateľ Ecoprogress s.r.o, pozinkovaná konštrukcia, alebo ekvivalent s rovnakými vlastnosťami a parametrami | G140: ks | H140: 1 | J140: =ROUND(I140*H140,2) -> 0 | N140: znížená | P140: =O140*H140 -> 0 | Q140: 0.0097 | R140: =Q140*H140 -> 0.0097 | S140: 0 | T140: =S140*H140 -> 0 | AR140: 32 | AT140: M | AU140: 2 | AY140: ROZPOCET | BE140: =IF(N140="základná",J140,0) -> 0 | BF140: =IF(N140="znížená",J140,0) -> 0 | BG140: =IF(N140="zákl. prenesená",J140,0) -> 0 | BH140: =IF(N140="zníž. prenesená",J140,0) -> 0 | BI140: =IF(N140="nulová",J140,0) -> 0 | BJ140: 2 | BK140: =ROUND(I140*H140,2) -> 0 | BL140: 16 | BM140: 1137953095
D141: D | E141: 99 | F141: Presun hmôt HSV | J141: =BK141 -> 0 | P141: =P142 -> 0 | R141: =R142 -> 0 | T141: =T142 -> 0 | AR141: 1 | AT141: D | AU141: 1 | AY141: ROZPOCET | BK141: =BK142 -> 0
C142: 14 | D142: K | E142: 998223011.S | F142: Presun hmôt pre pozemné komunikácie s krytom dláždeným (822 2.3, 822 5.3) akejkoľvek dĺžky objektu | G142: t | H142: 15.126 | J142: =ROUND(I142*H142,2) -> 0 | N142: znížená | P142: =O142*H142 -> 0 | Q142: 0 | R142: =Q142*H142 -> 0 | S142: 0 | T142: =S142*H142 -> 0 | AR142: 4 | AT142: K | AU142: 2 | AY142: ROZPOCET | BE142: =IF(N142="základná",J142,0) -> 0 | BF142: =IF(N142="znížená",J142,0) -> 0 | BG142: =IF(N142="zákl. prenesená",J142,0) -> 0 | BH142: =IF(N142="zníž. prenesená",J142,0) -> 0 | BI142: =IF(N142="nulová",J142,0) -> 0 | BJ142: 2 | BK142: =ROUND(I142*H142,2) -> 0 | BL142: 4 | BM142: 1879901874

Sheet 2 - Osadenie prístreškov ...
L2: >> skryté stĺpce << | AT2: {21b3577a-0516-4e03-9d97-147c64a9372a}
AT3: 0
D4: KRYCÍ LIST ROZPOČTU | M4: v --- nižšie sa nachádzajú doplnkové a pomocné údaje k zostavám --- v | AT4: False
D6: Stavba:
E7: ='Rekapitulácia stavby'!K6 -> Osadenie prístreškov v areáloch základných škôl v Humennom
D8: Objekt:
E9: 2 - Osadenie prístreškov pre bicykle v areáli ZŠ Hrnčiarska
D11: JKSO: | I11: KS:
D12: Miesto: | I12: Dátum:
D14: Objednávateľ: | I14: IČO: | J14: =IF('Rekapitulácia stavby'!AN10="","",'Rekapitulácia stavby'!AN10)
E15: =IF('Rekapitulácia stavby'!E11="","",'Rekapitulácia stavby'!E11) | I15: IČ DPH: | J15: =IF('Rekapitulácia stavby'!AN11="","",'Rekapitulácia stavby'!AN11)
D17: Zhotoviteľ: | I17: IČO: | J17: ='Rekapitulácia stavby'!AN13 -> Vyplň údaj
E18: ='Rekapitulácia stavby'!E14 -> Vyplň údaj | I18: IČ DPH: | J18: ='Rekapitulácia stavby'!AN14 -> Vyplň údaj
D20: Projektant: | I20: IČO: | J20: =IF('Rekapitulácia stavby'!AN16="","",'Rekapitulácia stavby'!AN16)
E21: =IF('Rekapitulácia stavby'!E17="","",'Rekapitulácia stavby'!E17) | I21: IČ DPH: | J21: =IF('Rekapitulácia stavby'!AN17="","",'Rekapitulácia stavby'!AN17)
D23: Spracovateľ: | I23: IČO: | J23: =IF('Rekapitulácia stavby'!AN19="","",'Rekapitulácia stavby'!AN19)
E24: =IF('Rekapitulácia stavby'!E20="","",'Rekapitulácia stavby'!E20) | I24: IČ DPH: | J24: =IF('Rekapitulácia stavby'!AN20="","",'Rekapitulácia stavby'!AN20)
D26: Poznámka:
D30: Cena bez DPH | J30: =ROUND(J122, 2) -> 0
F32: Základ dane | I32: Sadzba dane | J32: Výška dane
D33: DPH | E33: základná | F33: =ROUND((SUM(BE122:BE147)), 2) -> 0 | I33: 0.2 | J33: =ROUND(((SUM(BE122:BE147))*I33), 2) -> 0
E34: znížená | F34: =ROUND((SUM(BF122:BF147)), 2) -> 0 | I34: 0.2 | J34: =ROUND(((SUM(BF122:BF147))*I34), 2) -> 0
E35: zákl. prenesená | F35: =ROUND((SUM(BG122:BG147)), 2) -> 0 | I35: 0.2 | J35: =0 -> 0
E36: zníž. prenesená | F36: =ROUND((SUM(BH122:BH147)), 2) -> 0 | I36: 0.2 | J36: =0 -> 0
E37: nulová | F37: =ROUND((SUM(BI122:BI147)), 2) -> 0 | I37: 0 | J37: =0 -> 0
D39: Cena s DPH | G39: v | H39: EUR | J39: =SUM(J30:J37) -> 0
D50: Projektant | G50: Spracovateľ
D61: Dátum a podpis: | F61: Pečiatka | G61: Dátum a podpis: | J61: Pečiatka
D65: Objednávateľ | G65: Zhotoviteľ
D76: Dátum a podpis: | F76: Pečiatka | G76: Dátum a podpis: | J76: Pečiatka
C82: REKAPITULÁCIA ROZPOČTU
C84: Stavba:
E85: =E7 -> Osadenie prístreškov v areáloch základných škôl v Humennom
C86: Objekt:
E87: =E9 -> 2 - Osadenie prístreškov pre bicykle v areáli ZŠ Hrnčiarska
C89: Miesto: | F89: =F12 | I89: Dátum: | J89: =IF(J12="","",J12)
C91: Objednávateľ: | F91: =E15 | I91: Projektant: | J91: =E21
C92: Zhotoviteľ: | F92: =IF(E18="","",E18) -> Vyplň údaj | I92: Spracovateľ: | J92: =E24
C94: Kód dielu - Popis | J94: Cena celkom [EUR]
C96: Náklady z rozpočtu | J96: =J122 -> 0 | AU96: -1
D97: HSV - Práce a dodávky HSV | J97: =J123 -> 0
D98: 1 - Zemné práce | J98: =J124 -> 0
D99: 2 - Zakladanie | J99: =J130 -> 0
D100: 5 - Komunikácie | J100: =J133 -> 0
D101: 9 - Ostatné konštrukcie a práce-búranie | J101: =J135 -> 0
D102: 99 - Presun hmôt HSV | J102: =J146 -> 0
C109: ROZPOČET
C111: Stavba:
E112: =E7 -> Osadenie prístreškov v areáloch základných škôl v Humennom
C113: Objekt:
E114: =E9 -> 2 - Osadenie prístreškov pre bicykle v areáli ZŠ Hrnčiarska
C116: Miesto: | F116: =F12 | I116: Dátum: | J116: =IF(J12="","",J12)
C118: Objednávateľ: | F118: =E15 | I118: Projektant: | J118: =E21
C119: Zhotoviteľ: | F119: =IF(E18="","",E18) -> Vyplň údaj | I119: Spracovateľ: | J119: =E24
C121: PČ | D121: Typ | E121: Kód | F121: Popis | G121: MJ | H121: Množstvo | I121: J.cena [EUR] | J121: Cena celkom [EUR] | K121: Cenová sústava | N121: DPH | O121: J. Nh [h] | P121: Nh celkom [h] | Q121: J. hmotnosť [t] | R121: Hmotnosť celkom [t] | S121: J. suť [t] | T121: Suť Celkom [t]
C122: Náklady z rozpočtu | J122: =BK122 -> 0 | P122: =P123 -> 0 | R122: =R123 -> 13.910709 | T122: =T123 -> 0.725 | AT122: D | AU122: -1 | BK122: =BK123 -> 0
D123: D | E123: HSV | F123: Práce a dodávky HSV | J123: =BK123 -> 0 | P123: =P124+P130+P133+P135+P146 -> 0 | R123: =R124+R130+R133+R135+R146 -> 13.910709 | T123: =T124+T130+T133+T135+T146 -> 0.725 | AR123: 1 | AT123: D | AU123: 0 | AY123: ROZPOCET | BK123: =BK124+BK130+BK133+BK135+BK146 -> 0
D124: D | E124: 1 | F124: Zemné práce | J124: =BK124 -> 0 | P124: =SUM(P125:P129) -> 0 | R124: =SUM(R125:R129) -> 0 | T124: =SUM(T125:T129) -> 0.725 | AR124: 1 | AT124: D | AU124: 1 | AY124: ROZPOCET | BK124: =SUM(BK125:BK129) -> 0
C125: 1 | D125: K | E125: 113202111.S | F125: Vytrhanie obrúb kamenných, s vybúraním lôžka, z krajníkov alebo obrubníkov stojatých, -0,14500t | G125: m | H125: 5 | J125: =ROUND(I125*H125,2) -> 0 | N125: znížená | P125: =O125*H125 -> 0 | Q125: 0 | R125: =Q125*H125 -> 0 | S125: 0.145 | T125: =S125*H125 -> 0.725 | AR125: 4 | AT125: K | AU125: 2 | AY125: ROZPOCET | BE125: =IF(N125="základná",J125,0) -> 0 | BF125: =IF(N125="znížená",J125,0) -> 0 | BG125: =IF(N125="zákl. prenesená",J125,0) -> 0 | BH125: =IF(N125="zníž. prenesená",J125,0) -> 0 | BI125: =IF(N125="nulová",J125,0) -> 0 | BJ125: 2 | BK125: =ROUND(I125*H125,2) -> 0 | BL125: 4 | BM125: 466604068
C126: 2 | D126: K | E126: 122201101.S | F126: Odkopávka a prekopávka nezapažená v hornine 3, do 100 m3 | G126: m3 | H126: 8 | J126: =ROUND(I126*H126,2) -> 0 | N126: znížená | P126: =O126*H126 -> 0 | Q126: 0 | R126: =Q126*H126 -> 0 | S126: 0 | T126: =S126*H126 -> 0 | AR126: 4 | AT126: K | AU126: 2 | AY126: ROZPOCET | BE126: =IF(N126="základná",J126,0) -> 0 | BF126: =IF(N126="znížená",J126,0) -> 0 | BG126: =IF(N126="zákl. prenesená",J126,0) -> 0 | BH126: =IF(N126="zníž. prenesená",J126,0) -> 0 | BI126: =IF(N126="nulová",J126,0) -> 0 | BJ126: 2 | BK126: =ROUND(I126*H126,2) -> 0 | BL126: 4 | BM126: -60758911
C127: 3 | D127: K | E127: 122201109.S | F127: Odkopávky a prekopávky nezapažené. Príplatok k cenám za lepivosť horniny 3 | G127: m3 | H127: 2.4 | J127: =ROUND(I127*H127,2) -> 0 | N127: znížená | P127: =O127*H127 -> 0 | Q127: 0 | R127: =Q127*H127 -> 0 | S127: 0 | T127: =S127*H127 -> 0 | AR127: 4 | AT127: K | AU127: 2 | AY127: ROZPOCET | BE127: =IF(N127="základná",J127,0) -> 0 | BF127: =IF(N127="znížená",J127,0) -> 0 | BG127: =IF(N127="zákl. prenesená",J127,0) -> 0 | BH127: =IF(N127="zníž. prenesená",J127,0) -> 0 | BI127: =IF(N127="nulová",J127,0) -> 0 | BJ127: 2 | BK127: =ROUND(I127*H127,2) -> 0 | BL127: 4 | BM127: -33387862
C128: 4 | D128: K | E128: 162201102.S | F128: Vodorovné premiestnenie výkopku z horniny 1-4 nad 20-50m | G128: m3 | H128: 8 | J128: =ROUND(I128*H128,2) -> 0 | N128: znížená | P128: =O128*H128 -> 0 | Q128: 0 | R128: =Q128*H128 -> 0 | S128: 0 | T128: =S128*H128 -> 0 | AR128: 4 | AT128: K | AU128: 2 | AY128: ROZPOCET | BE128: =IF(N128="základná",J128,0) -> 0 | BF128: =IF(N128="znížená",J128,0) -> 0 | BG128: =IF(N128="zákl. prenesená",J128,0) -> 0 | BH128: =IF(N128="zníž. prenesená",J128,0) -> 0 | BI128: =IF(N128="nulová",J128,0) -> 0 | BJ128: 2 | BK128: =ROUND(I128*H128,2) -> 0 | BL128: 4 | BM128: -663899989
C129: 5 | D129: K | E129: 181301102.S | F129: Rozprestretie ornice v rovine, plocha do 500 m2, hr.do 150 mm | G129: m2 | H129: 40 | J129: =ROUND(I129*H129,2) -> 0 | N129: znížená | P129: =O129*H129 -> 0 | Q129: 0 | R129: =Q129*H129 -> 0 | S129: 0 | T129: =S129*H129 -> 0 | AR129: 4 | AT129: K | AU129: 2 | AY129: ROZPOCET | BE129: =IF(N129="základná",J129,0) -> 0 | BF129: =IF(N129="znížená",J129,0) -> 0 | BG129: =IF(N129="zákl. prenesená",J129,0) -> 0 | BH129: =IF(N129="zníž. prenesená",J129,0) -> 0 | BI129: =IF(N129="nulová",J129,0) -> 0 | BJ129: 2 | BK129: =ROUND(I129*H129,2) -> 0 | BL129: 4 | BM129: -400347243
D130: D | E130: 2 | F130: Zakladanie | J130: =BK130 -> 0 | P130: =SUM(P131:P132) -> 0 | R130: =SUM(R131:R132) -> 4.514905 | T130: =SUM(T131:T132) -> 0 | AR130: 1 | AT130: D | AU130: 1 | AY130: ROZPOCET | BK130: =SUM(BK131:BK132) -> 0
C131: 6 | D131: K | E131: 273321312.S | F131: Betón základových dosiek, železový (bez výstuže), tr. C 20/25 | G131: m3 | H131: 2 | J131: =ROUND(I131*H131,2) -> 0 | N131: znížená | P131: =O131*H131 -> 0 | Q131: 2.21513 | R131: =Q131*H131 -> 4.43026 | S131: 0 | T131: =S131*H131 -> 0 | AR131: 4 | AT131: K | AU131: 2 | AY131: ROZPOCET | BE131: =IF(N131="základná",J131,0) -> 0 | BF131: =IF(N131="znížená",J131,0) -> 0 | BG131: =IF(N131="zákl. prenesená",J131,0) -> 0 | BH131: =IF(N131="zníž. prenesená",J131,0) -> 0 | BI131: =IF(N131="nulová",J131,0) -> 0 | BJ131: 2 | BK131: =ROUND(I131*H131,2) -> 0 | BL131: 4 | BM131: -1850467636
C132: 7 | D132: K | E132: 273362442.S | F132: Výstuž základových dosiek zo zvár. sietí KARI, priemer drôtu 8/8 mm, veľkosť oka 150x150 mm | G132: m2 | H132: 13.5 | J132: =ROUND(I132*H132,2) -> 0 | N132: znížená | P132: =O132*H132 -> 0 | Q132: 0.00627 | R132: =Q132*H132 -> 0.084645 | S132: 0 | T132: =S132*H132 -> 0 | AR132: 4 | AT132: K | AU132: 2 | AY132: ROZPOCET | BE132: =IF(N132="základná",J132,0) -> 0 | BF132: =IF(N132="znížená",J132,0) -> 0 | BG132: =IF(N132="zákl. prenesená",J132,0) -> 0 | BH132: =IF(N132="zníž. prenesená",J132,0) -> 0 | BI132: =IF(N132="nulová",J132,0) -> 0 | BJ132: 2 | BK132: =ROUND(I132*H132,2) -> 0 | BL132: 4 | BM132: 1182771637
D133: D | E133: 5 | F133: Komunikácie | J133: =BK133 -> 0 | P133: =P134 -> 0 | R133: =R134 -> 4.97259 | T133: =T134 -> 0 | AR133: 1 | AT133: D | AU133: 1 | AY133: ROZPOCET | BK133: =BK134 -> 0
C134: 8 | D134: K | E134: 564752111.S | F134: Podklad alebo kryt z kameniva hrubého drveného veľ. 32-63 mm (vibr.štrk) po zhut.hr. 150 mm | G134: m2 | H134: 13.5 | J134: =ROUND(I134*H134,2) -> 0 | N134: znížená | P134: =O134*H134 -> 0 | Q134: 0.36834 | R134: =Q134*H134 -> 4.97259 | S134: 0 | T134: =S134*H134 -> 0 | AR134: 4 | AT134: K | AU134: 2 | AY134: ROZPOCET | BE134: =IF(N134="základná",J134,0) -> 0 | BF134: =IF(N134="znížená",J134,0) -> 0 | BG134: =IF(N134="zákl. prenesená",J134,0) -> 0 | BH134: =IF(N134="zníž. prenesená",J134,0) -> 0 | BI134: =IF(N134="nulová",J134,0) -> 0 | BJ134: 2 | BK134: =ROUND(I134*H134,2) -> 0 | BL134: 4 | BM134: 1524773779
D135: D | E135: 9 | F135: Ostatné konštrukcie a práce-búranie | J135: =BK135 -> 0 | P135: =SUM(P136:P145) -> 0 | R135: =SUM(R136:R145) -> 4.4232136 | T135: =SUM(T136:T145) -> 0 | AR135: 1 | AT135: D | AU135: 1 | AY135: ROZPOCET | BK135: =SUM(BK136:BK145) -> 0
C136: 9 | D136: K | E136: 916561111.S | F136: Osadenie záhonového alebo parkového obrubníka betón., do lôžka z bet. pros. tr. C 12/15 s bočnou oporou | G136: m | H136: 5 | J136: =ROUND(I136*H136,2) -> 0 | N136: znížená | P136: =O136*H136 -> 0 | Q136: 0.09793 | R136: =Q136*H136 -> 0.48965 | S136: 0 | T136: =S136*H136 -> 0 | AR136: 4 | AT136: K | AU136: 2 | AY136: ROZPOCET | BE136: =IF(N136="základná",J136,0) -> 0 | BF136: =IF(N136="znížená",J136,0) -> 0 | BG136: =IF(N136="zákl. prenesená",J136,0) -> 0 | BH136: =IF(N136="zníž. prenesená",J136,0) -> 0 | BI136: =IF(N136="nulová",J136,0) -> 0 | BJ136: 2 | BK136: =ROUND(I136*H136,2) -> 0 | BL136: 4 | BM136: 1968692749
C137: 10 | D137: M | E137: 592170001800.S | F137: Obrubník parkový, lxšxv 1000x50x200 mm, prírodný | G137: ks | H137: 5.05 | J137: =ROUND(I137*H137,2) -> 0 | N137: znížená | P137: =O137*H137 -> 0 | Q137: 0.023 | R137: =Q137*H137 -> 0.11615 | S137: 0 | T137: =S137*H137 -> 0 | AR137: 8 | AT137: M | AU137: 2 | AY137: ROZPOCET | BE137: =IF(N137="základná",J137,0) -> 0 | BF137: =IF(N137="znížená",J137,0) -> 0 | BG137: =IF(N137="zákl. prenesená",J137,0) -> 0 | BH137: =IF(N137="zníž. prenesená",J137,0) -> 0 | BI137: =IF(N137="nulová",J137,0) -> 0 | BJ137: 2 | BK137: =ROUND(I137*H137,2) -> 0 | BL137: 4 | BM137: 1238047259
C138: 11 | D138: K | E138: 917831512.S | F138: Osadenie palisád hranatých betónových do betónu dĺžky 60 cm - do radu | G138: m | H138: 5 | J138: =ROUND(I138*H138,2) -> 0 | N138: znížená | P138: =O138*H138 -> 0 | Q138: 0.16332 | R138: =Q138*H138 -> 0.8166 | S138: 0 | T138: =S138*H138 -> 0 | AR138: 4 | AT138: K | AU138: 2 | AY138: ROZPOCET | BE138: =IF(N138="základná",J138,0) -> 0 | BF138: =IF(N138="znížená",J138,0) -> 0 | BG138: =IF(N138="zákl. prenesená",J138,0) -> 0 | BH138: =IF(N138="zníž. prenesená",J138,0) -> 0 | BI138: =IF(N138="nulová",J138,0) -> 0 | BJ138: 2 | BK138: =ROUND(I138*H138,2) -> 0 | BL138: 4 | BM138: 140679692
C139: 12 | D139: M | E139: 592170005400.S | F139: Palisáda betónová, rozmer 120x165x600 mm, prírodná | G139: ks | H139: 30.6 | J139: =ROUND(I139*H139,2) -> 0 | N139: znížená | P139: =O139*H139 -> 0 | Q139: 0.0213 | R139: =Q139*H139 -> 0.65178 | S139: 0 | T139: =S139*H139 -> 0 | AR139: 8 | AT139: M | AU139: 2 | AY139: ROZPOCET | BE139: =IF(N139="základná",J139,0) -> 0 | BF139: =IF(N139="znížená",J139,0) -> 0 | BG139: =IF(N139="zákl. prenesená",J139,0) -> 0 | BH139: =IF(N139="zníž. prenesená",J139,0) -> 0 | BI139: =IF(N139="nulová",J139,0) -> 0 | BJ139: 2 | BK139: =ROUND(I139*H139,2) -> 0 | BL139: 4 | BM139: -1816137179
C140: 13 | D140: K | E140: 917831513.S | F140: Osadenie palisád hranatých betónových do betónu dĺžky 80 cm - do radu | G140: m | H140: 5.4 | J140: =ROUND(I140*H140,2) -> 0 | N140: znížená | P140: =O140*H140 -> 0 | Q140: 0.20416 | R140: =Q140*H140 -> 1.102464 | S140: 0 | T140: =S140*H140 -> 0 | AR140: 4 | AT140: K | AU140: 2 | AY140: ROZPOCET | BE140: =IF(N140="základná",J140,0) -> 0 | BF140: =IF(N140="znížená",J140,0) -> 0 | BG140: =IF(N140="zákl. prenesená",J140,0) -> 0 | BH140: =IF(N140="zníž. prenesená",J140,0) -> 0 | BI140: =IF(N140="nulová",J140,0) -> 0 | BJ140: 2 | BK140: =ROUND(I140*H140,2) -> 0 | BL140: 4 | BM140: 2049576036
C141: 14 | D141: M | E141: 592170005500.S | F141: Palisáda betónová, rozmer 120x165x800 mm, prírodná | G141: ks | H141: 33.048 | J141: =ROUND(I141*H141,2) -> 0 | N141: znížená | P141: =O141*H141 -> 0 | Q141: 0.0327 | R141: =Q141*H141 -> 1.0806696 | S141: 0 | T141: =S141*H141 -> 0 | AR141: 8 | AT141: M | AU141: 2 | AY141: ROZPOCET | BE141: =IF(N141="základná",J141,0) -> 0 | BF141: =IF(N141="znížená",J141,0) -> 0 | BG141: =IF(N141="zákl. prenesená",J141,0) -> 0 | BH141: =IF(N141="zníž. prenesená",J141,0) -> 0 | BI141: =IF(N141="nulová",J141,0) -> 0 | BJ141: 2 | BK141: =ROUND(I141*H141,2) -> 0 | BL141: 4 | BM141: 80786408
C142: 15 | D142: K | E142: 936174312.S | F142: Osadenie stojana na bicykle kotevnými skrutkami bez zabetónovania nôh na pevný podklad | G142: ks | H142: 10 | J142: =ROUND(I142*H142,2) -> 0 | N142: znížená | P142: =O142*H142 -> 0 | Q142: 0.00067 | R142: =Q142*H142 -> 0.0067 | S142: 0 | T142: =S142*H142 -> 0 | AR142: 4 | AT142: K | AU142: 2 | AY142: ROZPOCET | BE142: =IF(N142="základná",J142,0) -> 0 | BF142: =IF(N142="znížená",J142,0) -> 0 | BG142: =IF(N142="zákl. prenesená",J142,0) -> 0 | BH142: =IF(N142="zníž. prenesená",J142,0) -> 0 | BI142: =IF(N142="nulová",J142,0) -> 0 | BJ142: 2 | BK142: =ROUND(I142*H142,2) -> 0 | BL142: 4 | BM142: 155595808
C143: 16 | D143: M | E143: 553560009100.S | F143: Stojan na bicykel tvaru U výška 750mm, oceľový zinkovaná rúrka, na ukotvenie skrutkami | G143: ks | H143: 10 | J143: =ROUND(I143*H143,2) -> 0 | N143: znížená | P143: =O143*H143 -> 0 | Q143: 0.011 | R143: =Q143*H143 -> 0.11 | S143: 0 | T143: =S143*H143 -> 0 | AR143: 8 | AT143: M | AU143: 2 | AY143: ROZPOCET | BE143: =IF(N143="základná",J143,0) -> 0 | BF143: =IF(N143="znížená",J143,0) -> 0 | BG143: =IF(N143="zákl. prenesená",J143,0) -> 0 | BH143: =IF(N143="zníž. prenesená",J143,0) -> 0 | BI143: =IF(N143="nulová",J143,0) -> 0 | BJ143: 2 | BK143: =ROUND(I143*H143,2) -> 0 | BL143: 4 | BM143: 524229517
C144: 17 | D144: K | E144: 936941412.S | F144: Montáž prístrešku pre bicykle | G144: ks | H144: 2 | J144: =ROUND(I144*H144,2) -> 0 | N144: znížená | P144: =O144*H144 -> 0 | Q144: 0.0149 | R144: =Q144*H144 -> 0.0298 | S144: 0 | T144: =S144*H144 -> 0 | AR144: 16 | AT144: K | AU144: 2 | AY144: ROZPOCET | BE144: =IF(N144="základná",J144,0) -> 0 | BF144: =IF(N144="znížená",J144,0) -> 0 | BG144: =IF(N144="zákl. prenesená",J144,0) -> 0 | BH144: =IF(N144="zníž. prenesená",J144,0) -> 0 | BI144: =IF(N144="nulová",J144,0) -> 0 | BJ144: 2 | BK144: =ROUND(I144*H144,2) -> 0 | BL144: 16 | BM144: -1471209457
C145: 18 | D145: M | E145: 553580pc | F145: Prístrešok pre bicykle pre 10 bicyklov s krytinou a stenami z komôrkového polykarbonátu,kotvenie skrutkami, TYP 09 dodávateľ Ecoprogress s.r.o, pozinkovaná konštrukcia, alebo ekvivalent s rovnakými vlastnosťami a parametrami | G145: ks | H145: 2 | J145: =ROUND(I145*H145,2) -> 0 | N145: znížená | P145: =O145*H145 -> 0 | Q145: 0.0097 | R145: =Q145*H145 -> 0.0194 | S145: 0 | T145: =S145*H145 -> 0 | AR145: 32 | AT145: M | AU145: 2 | AY145: ROZPOCET | BE145: =IF(N145="základná",J145,0) -> 0 | BF145: =IF(N145="znížená",J145,0) -> 0 | BG145: =IF(N145="zákl. prenesená",J145,0) -> 0 | BH145: =IF(N145="zníž. prenesená",J145,0) -> 0 | BI145: =IF(N145="nulová",J145,0) -> 0 | BJ145: 2 | BK145: =ROUND(I145*H145,2) -> 0 | BL145: 16 | BM145: 154359663
D146: D | E146: 99 | F146: Presun hmôt HSV | J146: =BK146 -> 0 | P146: =P147 -> 0 | R146: =R147 -> 0 | T146: =T147 -> 0 | AR146: 1 | AT146: D | AU146: 1 | AY146: ROZPOCET | BK146: =BK147 -> 0
C147: 19 | D147: K | E147: 998223011.S | F147: Presun hmôt pre pozemné komunikácie s krytom dláždeným (822 2.3, 822 5.3) akejkoľvek dĺžky objektu | G147: t | H147: 13.862 | J147: =ROUND(I147*H147,2) -> 0 | N147: znížená | P147: =O147*H147 -> 0 | Q147: 0 | R147: =Q147*H147 -> 0 | S147: 0 | T147: =S147*H147 -> 0 | AR147: 4 | AT147: K | AU147: 2 | AY147: ROZPOCET | BE147: =IF(N147="základná",J147,0) -> 0 | BF147: =IF(N147="znížená",J147,0) -> 0 | BG147: =IF(N147="zákl. prenesená",J147,0) -> 0 | BH147: =IF(N147="zníž. prenesená",J147,0) -> 0 | BI147: =IF(N147="nulová",J147,0) -> 0 | BJ147: 2 | BK147: =ROUND(I147*H147,2) -> 0 | BL147: 4 | BM147: 6193583

Sheet 3 - Osadenie prístreškov ...
L2: >> skryté stĺpce << | AT2: {e6c74423-856d-487a-8815-e01a245755fd}
AT3: 0
D4: KRYCÍ LIST ROZPOČTU | M4: v --- nižšie sa nachádzajú doplnkové a pomocné údaje k zostavám --- v | AT4: False
D6: Stavba:
E7: ='Rekapitulácia stavby'!K6 -> Osadenie prístreškov v areáloch základných škôl v Humennom
D8: Objekt:
E9: 3 - Osadenie prístreškov pre bicykle v areáli ZŠ Kudlovská
D11: JKSO: | I11: KS:
D12: Miesto: | I12: Dátum:
D14: Objednávateľ: | I14: IČO: | J14: =IF('Rekapitulácia stavby'!AN10="","",'Rekapitulácia stavby'!AN10)
E15: =IF('Rekapitulácia stavby'!E11="","",'Rekapitulácia stavby'!E11) | I15: IČ DPH: | J15: =IF('Rekapitulácia stavby'!AN11="","",'Rekapitulácia stavby'!AN11)
D17: Zhotoviteľ: | I17: IČO: | J17: ='Rekapitulácia stavby'!AN13 -> Vyplň údaj
E18: ='Rekapitulácia stavby'!E14 -> Vyplň údaj | I18: IČ DPH: | J18: ='Rekapitulácia stavby'!AN14 -> Vyplň údaj
D20: Projektant: | I20: IČO: | J20: =IF('Rekapitulácia stavby'!AN16="","",'Rekapitulácia stavby'!AN16)
E21: =IF('Rekapitulácia stavby'!E17="","",'Rekapitulácia stavby'!E17) | I21: IČ DPH: | J21: =IF('Rekapitulácia stavby'!AN17="","",'Rekapitulácia stavby'!AN17)
D23: Spracovateľ: | I23: IČO: | J23: =IF('Rekapitulácia stavby'!AN19="","",'Rekapitulácia stavby'!AN19)
E24: =IF('Rekapitulácia stavby'!E20="","",'Rekapitulácia stavby'!E20) | I24: IČ DPH: | J24: =IF('Rekapitulácia stavby'!AN20="","",'Rekapitulácia stavby'!AN20)
D26: Poznámka:
D30: Cena bez DPH | J30: =ROUND(J121, 2) -> 0
F32: Základ dane | I32: Sadzba dane | J32: Výška dane
D33: DPH | E33: základná | F33: =ROUND((SUM(BE121:BE137)), 2) -> 0 | I33: 0.2 | J33: =ROUND(((SUM(BE121:BE137))*I33), 2) -> 0
E34: znížená | F34: =ROUND((SUM(BF121:BF137)), 2) -> 0 | I34: 0.2 | J34: =ROUND(((SUM(BF121:BF137))*I34), 2) -> 0
E35: zákl. prenesená | F35: =ROUND((SUM(BG121:BG137)), 2) -> 0 | I35: 0.2 | J35: =0 -> 0
E36: zníž. prenesená | F36: =ROUND((SUM(BH121:BH137)), 2) -> 0 | I36: 0.2 | J36: =0 -> 0
E37: nulová | F37: =ROUND((SUM(BI121:BI137)), 2) -> 0 | I37: 0 | J37: =0 -> 0
D39: Cena s DPH | G39: v | H39: EUR | J39: =SUM(J30:J37) -> 0
D50: Projektant | G50: Spracovateľ
D61: Dátum a podpis: | F61: Pečiatka | G61: Dátum a podpis: | J61: Pečiatka
D65: Objednávateľ | G65: Zhotoviteľ
D76: Dátum a podpis: | F76: Pečiatka | G76: Dátum a podpis: | J76: Pečiatka
C82: REKAPITULÁCIA ROZPOČTU
C84: Stavba:
E85: =E7 -> Osadenie prístreškov v areáloch základných škôl v Humennom
C86: Objekt:
E87: =E9 -> 3 - Osadenie prístreškov pre bicykle v areáli ZŠ Kudlovská
C89: Miesto: | F89: =F12 | I89: Dátum: | J89: =IF(J12="","",J12)
C91: Objednávateľ: | F91: =E15 | I91: Projektant: | J91: =E21
C92: Zhotoviteľ: | F92: =IF(E18="","",E18) -> Vyplň údaj | I92: Spracovateľ: | J92: =E24
C94: Kód dielu - Popis | J94: Cena celkom [EUR]
C96: Náklady z rozpočtu | J96: =J121 -> 0 | AU96: -1
D97: HSV - Práce a dodávky HSV | J97: =J122 -> 0
D98: 1 - Zemné práce | J98: =J123 -> 0
D99: 5 - Komunikácie | J99: =J125 -> 0
D100: 9 - Ostatné konštrukcie a práce-búranie | J100: =J128 -> 0
D101: 99 - Presun hmôt HSV | J101: =J136 -> 0
C108: ROZPOČET
C110: Stavba:
E111: =E7 -> Osadenie prístreškov v areáloch základných škôl v Humennom
C112: Objekt:
E113: =E9 -> 3 - Osadenie prístreškov pre bicykle v areáli ZŠ Kudlovská
C115: Miesto: | F115: =F12 | I115: Dátum: | J115: =IF(J12="","",J12)
C117: Objednávateľ: | F117: =E15 | I117: Projektant: | J117: =E21
C118: Zhotoviteľ: | F118: =IF(E18="","",E18) -> Vyplň údaj | I118: Spracovateľ: | J118: =E24
C120: PČ | D120: Typ | E120: Kód | F120: Popis | G120: MJ | H120: Množstvo | I120: J.cena [EUR] | J120: Cena celkom [EUR] | K120: Cenová sústava | N120: DPH | O120: J. Nh [h] | P120: Nh celkom [h] | Q120: J. hmotnosť [t] | R120: Hmotnosť celkom [t] | S120: J. suť [t] | T120: Suť Celkom [t]
C121: Náklady z rozpočtu | J121: =BK121 -> 0 | P121: =P122 -> 0 | R121: =R122 -> 3.68589 | T121: =T122 -> 2.646 | AT121: D | AU121: -1 | BK121: =BK122 -> 0
D122: D | E122: HSV | F122: Práce a dodávky HSV | J122: =BK122 -> 0 | P122: =P123+P125+P128+P136 -> 0 | R122: =R123+R125+R128+R136 -> 3.68589 | T122: =T123+T125+T128+T136 -> 2.646 | AR122: 1 | AT122: D | AU122: 0 | AY122: ROZPOCET | BK122: =BK123+BK125+BK128+BK136 -> 0
D123: D | E123: 1 | F123: Zemné práce | J123: =BK123 -> 0 | P123: =P124 -> 0 | R123: =R124 -> 0 | T123: =T124 -> 2.646 | AR123: 1 | AT123: D | AU123: 1 | AY123: ROZPOCET | BK123: =BK124 -> 0
C124: 1 | D124: K | E124: 113107141.S1 | F124: Odstránenie krytu v ploche do 200 m2 asfaltového, hr. vrstvy do 50 mm, -0,09800t | G124: m2 | H124: 27 | J124: =ROUND(I124*H124,2) -> 0 | N124: znížená | P124: =O124*H124 -> 0 | Q124: 0 | R124: =Q124*H124 -> 0 | S124: 0.098 | T124: =S124*H124 -> 2.646 | AR124: 4 | AT124: K | AU124: 2 | AY124: ROZPOCET | BE124: =IF(N124="základná",J124,0) -> 0 | BF124: =IF(N124="znížená",J124,0) -> 0 | BG124: =IF(N124="zákl. prenesená",J124,0) -> 0 | BH124: =IF(N124="zníž. prenesená",J124,0) -> 0 | BI124: =IF(N124="nulová",J124,0) -> 0 | BJ124: 2 | BK124: =ROUND(I124*H124,2) -> 0 | BL124: 4 | BM124: 282001358
D125: D | E125: 5 | F125: Komunikácie | J125: =BK125 -> 0 | P125: =SUM(P126:P127) -> 0 | R125: =SUM(R126:R127) -> 3.51999 | T125: =SUM(T126:T127) -> 0 | AR125: 1 | AT125: D | AU125: 1 | AY125: ROZPOCET | BK125: =SUM(BK126:BK127) -> 0
C126: 2 | D126: K | E126: 573211111.S | F126: Postrek asfaltový spojovací bez posypu kamenivom z asfaltu cestného v množstve 0,70 kg/m2 | G126: m2 | H126: 27 | J126: =ROUND(I126*H126,2) -> 0 | N126: znížená | P126: =O126*H126 -> 0 | Q126: 0.00071 | R126: =Q126*H126 -> 0.01917 | S126: 0 | T126: =S126*H126 -> 0 | AR126: 4 | AT126: K | AU126: 2 | AY126: ROZPOCET | BE126: =IF(N126="základná",J126,0) -> 0 | BF126: =IF(N126="znížená",J126,0) -> 0 | BG126: =IF(N126="zákl. prenesená",J126,0) -> 0 | BH126: =IF(N126="zníž. prenesená",J126,0) -> 0 | BI126: =IF(N126="nulová",J126,0) -> 0 | BJ126: 2 | BK126: =ROUND(I126*H126,2) -> 0 | BL126: 4 | BM126: 1580368738
C127: 3 | D127: K | E127: 577144231.S | F127: Asfaltový betón vrstva obrusná AC 11 O v pruhu š. do 3 m z nemodifik. asfaltu tr. II, po zhutnení hr. 50 mm | G127: m2 | H127: 27 | J127: =ROUND(I127*H127,2) -> 0 | N127: znížená | P127: =O127*H127 -> 0 | Q127: 0.12966 | R127: =Q127*H127 -> 3.50082 | S127: 0 | T127: =S127*H127 -> 0 | AR127: 4 | AT127: K | AU127: 2 | AY127: ROZPOCET | BE127: =IF(N127="základná",J127,0) -> 0 | BF127: =IF(N127="znížená",J127,0) -> 0 | BG127: =IF(N127="zákl. prenesená",J127,0) -> 0 | BH127: =IF(N127="zníž. prenesená",J127,0) -> 0 | BI127: =IF(N127="nulová",J127,0) -> 0 | BJ127: 2 | BK127: =ROUND(I127*H127,2) -> 0 | BL127: 4 | BM127: 280302347
D128: D | E128: 9 | F128: Ostatné konštrukcie a práce-búranie | J128: =BK128 -> 0 | P128: =SUM(P129:P135) -> 0 | R128: =SUM(R129:R135) -> 0.1659 | T128: =SUM(T129:T135) -> 0 | AR128: 1 | AT128: D | AU128: 1 | AY128: ROZPOCET | BK128: =SUM(BK129:BK135) -> 0
C129: 4 | D129: K | E129: 919735111.S | F129: Rezanie existujúceho asfaltového krytu alebo podkladu hĺbky do 50 mm | G129: m | H129: 30.8 | J129: =ROUND(I129*H129,2) -> 0 | N129: znížená | P129: =O129*H129 -> 0 | Q129: 0 | R129: =Q129*H129 -> 0 | S129: 0 | T129: =S129*H129 -> 0 | AR129: 4 | AT129: K | AU129: 2 | AY129: ROZPOCET | BE129: =IF(N129="základná",J129,0) -> 0 | BF129: =IF(N129="znížená",J129,0) -> 0 | BG129: =IF(N129="zákl. prenesená",J129,0) -> 0 | BH129: =IF(N129="zníž. prenesená",J129,0) -> 0 | BI129: =IF(N129="nulová",J129,0) -> 0 | BJ129: 2 | BK129: =ROUND(I129*H129,2) -> 0 | BL129: 4 | BM129: -316646133
C130: 5 | D130: K | E130: 936174312.S | F130: Osadenie stojana na bicykle kotevnými skrutkami bez zabetónovania nôh na pevný podklad | G130: ks | H130: 10 | J130: =ROUND(I130*H130,2) -> 0 | N130: znížená | P130: =O130*H130 -> 0 | Q130: 0.00067 | R130: =Q130*H130 -> 0.0067 | S130: 0 | T130: =S130*H130 -> 0 | AR130: 4 | AT130: K | AU130: 2 | AY130: ROZPOCET | BE130: =IF(N130="základná",J130,0) -> 0 | BF130: =IF(N130="znížená",J130,0) -> 0 | BG130: =IF(N130="zákl. prenesená",J130,0) -> 0 | BH130: =IF(N130="zníž. prenesená",J130,0) -> 0 | BI130: =IF(N130="nulová",J130,0) -> 0 | BJ130: 2 | BK130: =ROUND(I130*H130,2) -> 0 | BL130: 4 | BM130: 341117416
C131: 6 | D131: M | E131: 553560009100.S | F131: Stojan na bicykel tvaru U výška 750mm, oceľový zinkovaná rúrka, na ukotvenie skrutkami | G131: ks | H131: 10 | J131: =ROUND(I131*H131,2) -> 0 | N131: znížená | P131: =O131*H131 -> 0 | Q131: 0.011 | R131: =Q131*H131 -> 0.11 | S131: 0 | T131: =S131*H131 -> 0 | AR131: 8 | AT131: M | AU131: 2 | AY131: ROZPOCET | BE131: =IF(N131="základná",J131,0) -> 0 | BF131: =IF(N131="znížená",J131,0) -> 0 | BG131: =IF(N131="zákl. prenesená",J131,0) -> 0 | BH131: =IF(N131="zníž. prenesená",J131,0) -> 0 | BI131: =IF(N131="nulová",J131,0) -> 0 | BJ131: 2 | BK131: =ROUND(I131*H131,2) -> 0 | BL131: 4 | BM131: -428497640
C132: 7 | D132: K | E132: 936941412.S | F132: Montáž prístrešku pre bicykle s úpravou a vyrovnaním podkladu | G132: ks | H132: 2 | J132: =ROUND(I132*H132,2) -> 0 | N132: znížená | P132: =O132*H132 -> 0 | Q132: 0.0149 | R132: =Q132*H132 -> 0.0298 | S132: 0 | T132: =S132*H132 -> 0 | AR132: 16 | AT132: K | AU132: 2 | AY132: ROZPOCET | BE132: =IF(N132="základná",J132,0) -> 0 | BF132: =IF(N132="znížená",J132,0) -> 0 | BG132: =IF(N132="zákl. prenesená",J132,0) -> 0 | BH132: =IF(N132="zníž. prenesená",J132,0) -> 0 | BI132: =IF(N132="nulová",J132,0) -> 0 | BJ132: 2 | BK132: =ROUND(I132*H132,2) -> 0 | BL132: 16 | BM132: -743371174
C133: 8 | D133: M | E133: 553580pc | F133: Prístrešok pre bicykle pre 10 bicyklov s krytinou a stenami z komôrkového polykarbonátu,kotvenie skrutkami, TYP 09 dodávateľ Ecoprogress s.r.o, pozinkovaná konštrukcia, alebo ekvivalent s rovnakými vlastnosťami a parametrami | G133: ks | H133: 2 | J133: =ROUND(I133*H133,2) -> 0 | N133: znížená | P133: =O133*H133 -> 0 | Q133: 0.0097 | R133: =Q133*H133 -> 0.0194 | S133: 0 | T133: =S133*H133 -> 0 | AR133: 32 | AT133: M | AU133: 2 | AY133: ROZPOCET | BE133: =IF(N133="základná",J133,0) -> 0 | BF133: =IF(N133="znížená",J133,0) -> 0 | BG133: =IF(N133="zákl. prenesená",J133,0) -> 0 | BH133: =IF(N133="zníž. prenesená",J133,0) -> 0 | BI133: =IF(N133="nulová",J133,0) -> 0 | BJ133: 2 | BK133: =ROUND(I133*H133,2) -> 0 | BL133: 16 | BM133: 1702751569
C134: 9 | D134: K | E134: 979084216.S | F134: Vodorovná doprava vybúraných hmôt po suchu bez naloženia, ale so zložením na vzdialenosť do 5 km | G134: t | H134: 2.646 | J134: =ROUND(I134*H134,2) -> 0 | N134: znížená | P134: =O134*H134 -> 0 | Q134: 0 | R134: =Q134*H134 -> 0 | S134: 0 | T134: =S134*H134 -> 0 | AR134: 4 | AT134: K | AU134: 2 | AY134: ROZPOCET | BE134: =IF(N134="základná",J134,0) -> 0 | BF134: =IF(N134="znížená",J134,0) -> 0 | BG134: =IF(N134="zákl. prenesená",J134,0) -> 0 | BH134: =IF(N134="zníž. prenesená",J134,0) -> 0 | BI134: =IF(N134="nulová",J134,0) -> 0 | BJ134: 2 | BK134: =ROUND(I134*H134,2) -> 0 | BL134: 4 | BM134: 339708506
C135: 10 | D135: K | E135: 979089212.S | F135: Poplatok za skladovanie - bitúmenové zmesi, uholný decht, dechtové výrobky (17 03 ), ostatné | G135: t | H135: 2.646 | J135: =ROUND(I135*H135,2) -> 0 | N135: znížená | P135: =O135*H135 -> 0 | Q135: 0 | R135: =Q135*H135 -> 0 | S135: 0 | T135: =S135*H135 -> 0 | AR135: 4 | AT135: K | AU135: 2 | AY135: ROZPOCET | BE135: =IF(N135="základná",J135,0) -> 0 | BF135: =IF(N135="znížená",J135,0) -> 0 | BG135: =IF(N135="zákl. prenesená",J135,0) -> 0 | BH135: =IF(N135="zníž. prenesená",J135,0) -> 0 | BI135: =IF(N135="nulová",J135,0) -> 0 | BJ135: 2 | BK135: =ROUND(I135*H135,2) -> 0 | BL135: 4 | BM135: 732529542
D136: D | E136: 99 | F136: Presun hmôt HSV | J136: =BK136 -> 0 | P136: =P137 -> 0 | R136: =R137 -> 0 | T136: =T137 -> 0 | AR136: 1 | AT136: D | AU136: 1 | AY136: ROZPOCET | BK136: =BK137 -> 0
C137: 11 | D137: K | E137: 998225111.S | F137: Presun hmôt pre pozemnú komunikáciu a letisko s krytom asfaltovým akejkoľvek dĺžky objektu | G137: t | H137: 3.637 | J137: =ROUND(I137*H137,2) -> 0 | N137: znížená | P137: =O137*H137 -> 0 | Q137: 0 | R137: =Q137*H137 -> 0 | S137: 0 | T137: =S137*H137 -> 0 | AR137: 4 | AT137: K | AU137: 2 | AY137: ROZPOCET | BE137: =IF(N137="základná",J137,0) -> 0 | BF137: =IF(N137="znížená",J137,0) -> 0 | BG137: =IF(N137="zákl. prenesená",J137,0) -> 0 | BH137: =IF(N137="zníž. prenesená",J137,0) -> 0 | BI137: =IF(N137="nulová",J137,0) -> 0 | BJ137: 2 | BK137: =ROUND(I137*H137,2) -> 0 | BL137: 4 | BM137: 686831231

Sheet 4 - Osadenie prístrešku p...
L2: >> skryté stĺpce << | AT2: {7c78e963-3689-4ff9-8f55-1f4bef63e7c5}
AT3: 0
D4: KRYCÍ LIST ROZPOČTU | M4: v --- nižšie sa nachádzajú doplnkové a pomocné údaje k zostavám --- v | AT4: False
D6: Stavba:
E7: ='Rekapitulácia stavby'!K6 -> Osadenie prístreškov v areáloch základných škôl v Humennom
D8: Objekt:
E9: 4 - Osadenie prístrešku pre bicykle v areáli ZŠ Laborecká
D11: JKSO: | I11: KS:
D12: Miesto: | I12: Dátum:
D14: Objednávateľ: | I14: IČO: | J14: =IF('Rekapitulácia stavby'!AN10="","",'Rekapitulácia stavby'!AN10)
E15: =IF('Rekapitulácia stavby'!E11="","",'Rekapitulácia stavby'!E11) | I15: IČ DPH: | J15: =IF('Rekapitulácia stavby'!AN11="","",'Rekapitulácia stavby'!AN11)
D17: Zhotoviteľ: | I17: IČO: | J17: ='Rekapitulácia stavby'!AN13 -> Vyplň údaj
E18: ='Rekapitulácia stavby'!E14 -> Vyplň údaj | I18: IČ DPH: | J18: ='Rekapitulácia stavby'!AN14 -> Vyplň údaj
D20: Projektant: | I20: IČO: | J20: =IF('Rekapitulácia stavby'!AN16="","",'Rekapitulácia stavby'!AN16)
E21: =IF('Rekapitulácia stavby'!E17="","",'Rekapitulácia stavby'!E17) | I21: IČ DPH: | J21: =IF('Rekapitulácia stavby'!AN17="","",'Rekapitulácia stavby'!AN17)
D23: Spracovateľ: | I23: IČO: | J23: =IF('Rekapitulácia stavby'!AN19="","",'Rekapitulácia stavby'!AN19)
E24: =IF('Rekapitulácia stavby'!E20="","",'Rekapitulácia stavby'!E20) | I24: IČ DPH: | J24: =IF('Rekapitulácia stavby'!AN20="","",'Rekapitulácia stavby'!AN20)
D26: Poznámka:
D30: Cena bez DPH | J30: =ROUND(J119, 2) -> 0
F32: Základ dane | I32: Sadzba dane | J32: Výška dane
D33: DPH | E33: základná | F33: =ROUND((SUM(BE119:BE127)), 2) -> 0 | I33: 0.2 | J33: =ROUND(((SUM(BE119:BE127))*I33), 2) -> 0
E34: znížená | F34: =ROUND((SUM(BF119:BF127)), 2) -> 0 | I34: 0.2 | J34: =ROUND(((SUM(BF119:BF127))*I34), 2) -> 0
E35: zákl. prenesená | F35: =ROUND((SUM(BG119:BG127)), 2) -> 0 | I35: 0.2 | J35: =0 -> 0
E36: zníž. prenesená | F36: =ROUND((SUM(BH119:BH127)), 2) -> 0 | I36: 0.2 | J36: =0 -> 0
E37: nulová | F37: =ROUND((SUM(BI119:BI127)), 2) -> 0 | I37: 0 | J37: =0 -> 0
D39: Cena s DPH | G39: v | H39: EUR | J39: =SUM(J30:J37) -> 0
D50: Projektant | G50: Spracovateľ
D61: Dátum a podpis: | F61: Pečiatka | G61: Dátum a podpis: | J61: Pečiatka
D65: Objednávateľ | G65: Zhotoviteľ
D76: Dátum a podpis: | F76: Pečiatka | G76: Dátum a podpis: | J76: Pečiatka
C82: REKAPITULÁCIA ROZPOČTU
C84: Stavba:
E85: =E7 -> Osadenie prístreškov v areáloch základných škôl v Humennom
C86: Objekt:
E87: =E9 -> 4 - Osadenie prístrešku pre bicykle v areáli ZŠ Laborecká
C89: Miesto: | F89: =F12 | I89: Dátum: | J89: =IF(J12="","",J12)
C91: Objednávateľ: | F91: =E15 | I91: Projektant: | J91: =E21
C92: Zhotoviteľ: | F92: =IF(E18="","",E18) -> Vyplň údaj | I92: Spracovateľ: | J92: =E24
C94: Kód dielu - Popis | J94: Cena celkom [EUR]
C96: Náklady z rozpočtu | J96: =J119 -> 0 | AU96: -1
D97: HSV - Práce a dodávky HSV | J97: =J120 -> 0
D98: 9 - Ostatné konštrukcie a práce-búranie | J98: =J121 -> 0
D99: 99 - Presun hmôt HSV | J99: =J126 -> 0
C106: ROZPOČET
C108: Stavba:
E109: =E7 -> Osadenie prístreškov v areáloch základných škôl v Humennom
C110: Objekt:
E111: =E9 -> 4 - Osadenie prístrešku pre bicykle v areáli ZŠ Laborecká
C113: Miesto: | F113: =F12 | I113: Dátum: | J113: =IF(J12="","",J12)
C115: Objednávateľ: | F115: =E15 | I115: Projektant: | J115: =E21
C116: Zhotoviteľ: | F116: =IF(E18="","",E18) -> Vyplň údaj | I116: Spracovateľ: | J116: =E24
C118: PČ | D118: Typ | E118: Kód | F118: Popis | G118: MJ | H118: Množstvo | I118: J.cena [EUR] | J118: Cena celkom [EUR] | K118: Cenová sústava | N118: DPH | O118: J. Nh [h] | P118: Nh celkom [h] | Q118: J. hmotnosť [t] | R118: Hmotnosť celkom [t] | S118: J. suť [t] | T118: Suť Celkom [t]
C119: Náklady z rozpočtu | J119: =BK119 -> 0 | P119: =P120 -> 0 | R119: =R120 -> 0.10629 | T119: =T120 -> 0 | AT119: D | AU119: -1 | BK119: =BK120 -> 0
D120: D | E120: HSV | F120: Práce a dodávky HSV | J120: =BK120 -> 0 | P120: =P121+P126 -> 0 | R120: =R121+R126 -> 0.10629 | T120: =T121+T126 -> 0 | AR120: 1 | AT120: D | AU120: 0 | AY120: ROZPOCET | BK120: =BK121+BK126 -> 0
D121: D | E121: 9 | F121: Ostatné konštrukcie a práce-búranie | J121: =BK121 -> 0 | P121: =SUM(P122:P125) -> 0 | R121: =SUM(R122:R125) -> 0.10629 | T121: =SUM(T122:T125) -> 0 | AR121: 1 | AT121: D | AU121: 1 | AY121: ROZPOCET | BK121: =SUM(BK122:BK125) -> 0
C122: 1 | D122: K | E122: 936174312.S | F122: Osadenie stojana na bicykle kotevnými skrutkami bez zabetónovania nôh na pevný podklad | G122: ks | H122: 7 | J122: =ROUND(I122*H122,2) -> 0 | N122: znížená | P122: =O122*H122 -> 0 | Q122: 0.00067 | R122: =Q122*H122 -> 0.00469 | S122: 0 | T122: =S122*H122 -> 0 | AR122: 4 | AT122: K | AU122: 2 | AY122: ROZPOCET | BE122: =IF(N122="základná",J122,0) -> 0 | BF122: =IF(N122="znížená",J122,0) -> 0 | BG122: =IF(N122="zákl. prenesená",J122,0) -> 0 | BH122: =IF(N122="zníž. prenesená",J122,0) -> 0 | BI122: =IF(N122="nulová",J122,0) -> 0 | BJ122: 2 | BK122: =ROUND(I122*H122,2) -> 0 | BL122: 4 | BM122: -913214550
C123: 2 | D123: M | E123: 553560009100.S | F123: Stojan na bicykel tvaru U výška 750mm, oceľový zinkovaná rúrka, na ukotvenie skrutkami | G123: ks | H123: 7 | J123: =ROUND(I123*H123,2) -> 0 | N123: znížená | P123: =O123*H123 -> 0 | Q123: 0.011 | R123: =Q123*H123 -> 0.077 | S123: 0 | T123: =S123*H123 -> 0 | AR123: 8 | AT123: M | AU123: 2 | AY123: ROZPOCET | BE123: =IF(N123="základná",J123,0) -> 0 | BF123: =IF(N123="znížená",J123,0) -> 0 | BG123: =IF(N123="zákl. prenesená",J123,0) -> 0 | BH123: =IF(N123="zníž. prenesená",J123,0) -> 0 | BI123: =IF(N123="nulová",J123,0) -> 0 | BJ123: 2 | BK123: =ROUND(I123*H123,2) -> 0 | BL123: 4 | BM123: 1235120851
C124: 3 | D124: K | E124: 936941412.S | F124: Montáž prístrešku pre bicykle | G124: ks | H124: 1 | J124: =ROUND(I124*H124,2) -> 0 | N124: znížená | P124: =O124*H124 -> 0 | Q124: 0.0149 | R124: =Q124*H124 -> 0.0149 | S124: 0 | T124: =S124*H124 -> 0 | AR124: 16 | AT124: K | AU124: 2 | AY124: ROZPOCET | BE124: =IF(N124="základná",J124,0) -> 0 | BF124: =IF(N124="znížená",J124,0) -> 0 | BG124: =IF(N124="zákl. prenesená",J124,0) -> 0 | BH124: =IF(N124="zníž. prenesená",J124,0) -> 0 | BI124: =IF(N124="nulová",J124,0) -> 0 | BJ124: 2 | BK124: =ROUND(I124*H124,2) -> 0 | BL124: 16 | BM124: 1452273180
C125: 4 | D125: M | E125: 553580pc | F125: Prístrešok pre bicykle pre 15 bicyklov s krytinou a stenami z komôrkového polykarbonátu,kotvenie skrutkami, TYP 09 dodávateľ Ecoprogress s.r.o, pozinkovaná konštrukcia, alebo ekvivalent s rovnakými vlastnosťami a parametrami | G125: ks | H125: 1 | J125: =ROUND(I125*H125,2) -> 0 | N125: znížená | P125: =O125*H125 -> 0 | Q125: 0.0097 | R125: =Q125*H125 -> 0.0097 | S125: 0 | T125: =S125*H125 -> 0 | AR125: 32 | AT125: M | AU125: 2 | AY125: ROZPOCET | BE125: =IF(N125="základná",J125,0) -> 0 | BF125: =IF(N125="znížená",J125,0) -> 0 | BG125: =IF(N125="zákl. prenesená",J125,0) -> 0 | BH125: =IF(N125="zníž. prenesená",J125,0) -> 0 | BI125: =IF(N125="nulová",J125,0) -> 0 | BJ125: 2 | BK125: =ROUND(I125*H125,2) -> 0 | BL125: 16 | BM125: -1455126082
D126: D | E126: 99 | F126: Presun hmôt HSV | J126: =BK126 -> 0 | P126: =P127 -> 0 | R126: =R127 -> 0 | T126: =T127 -> 0 | AR126: 1 | AT126: D | AU126: 1 | AY126: ROZPOCET | BK126: =BK127 -> 0
C127: 5 | D127: K | E127: 998223011.S | F127: Presun hmôt pre pozemné komunikácie s krytom dláždeným (822 2.3, 822 5.3) akejkoľvek dĺžky objektu | G127: t | H127: 0.082 | J127: =ROUND(I127*H127,2) -> 0 | N127: znížená | P127: =O127*H127 -> 0 | Q127: 0 | R127: =Q127*H127 -> 0 | S127: 0 | T127: =S127*H127 -> 0 | AR127: 4 | AT127: K | AU127: 2 | AY127: ROZPOCET | BE127: =IF(N127="základná",J127,0) -> 0 | BF127: =IF(N127="znížená",J127,0) -> 0 | BG127: =IF(N127="zákl. prenesená",J127,0) -> 0 | BH127: =IF(N127="zníž. prenesená",J127,0) -> 0 | BI127: =IF(N127="nulová",J127,0) -> 0 | BJ127: 2 | BK127: =ROUND(I127*H127,2) -> 0 | BL127: 4 | BM127: -999353577
