Workbook

Sheet Rekapitulácia stavby
A1: Export Komplet | BA1: 2.0 | BT1: False | BU1: False | BV1: {9229f3d2-e12b-4d57-ac83-77985ab6b264}
AR2: >> skryté stĺpce << | BS2: 0,01 | BT2: 20
BS3: 0,01 | BT3: 20
D4: REKAPITULÁCIA STAVBY | AS4: v --- nižšie sa nachádzajú doplnkové a pomocné údaje k zostavám --- v | BE4: Návod na vyplnenie | BS4: 0,001
D5: Kód: | K5: 22 | BE5: Meniť je možné iba bunky so žltým podfarbením!_x000D_ _x000D_ 1) na prvom liste Rekapitulácie stavby vyplňte v zostave_x000D_ _x000D_ a) Rekapitulácia stavby_x000D_ - údaje o Zhotoviteľovi_x000D_ (prenesú sa do ostatných zostáv aj v iných listoch)_x000D_ _x000D_ b) Rekapitulácia objektov stavby_x000D_ - potrebné Ostatné náklady_x000D_ _x000D_ 2) na vybraných listoch vyplňte v zostave_x000D_ _x000D_ a) Krycí list_x000D_ - údaje o Zhotoviteľovi, pokiaľ sa líšia od údajov o Zhotoviteľovi na Rekapitulácii stavby_x000D_ (údaje se prenesú do ostatných zostav v danom liste)_x000D_ _x000D_ b) Rekapitulácia rozpočtu_x000D_ - potrebné Ostatné náklady_x000D_ _x000D_ c) Celkové náklady za stavbu_x000D_ - ceny na položkách_x000D_ - množstvo, pokiaľ má žlté podfarbenie_x000D_ - a v prípade potreby poznámku (tá je v skrytom stĺpci) | BS5: 0,01
D6: Stavba: | K6: Oprava miestnych ciest a chodníkov v Humennom 2024 | BS6: 0,01
D7: JKSO: | AK7: KS: | BS7: 0,01
D8: Miesto: | K8: Humenné | AK8: Dátum: | AN8: 1. 10. 2024 | BS8: 0,01
BS9: 0,01
D10: Objednávateľ: | AK10: IČO: | BS10: 0,01
AK11: IČ DPH: | BS11: 0,01
BS12: 0,01
D13: Zhotoviteľ: | AK13: IČO: | AN13: Vyplň údaj | BS13: 0,01
E14: Vyplň údaj | AK14: IČ DPH: | AN14: Vyplň údaj | BS14: 0,01
BS15: False
D16: Projektant: | AK16: IČO: | BS16: False
AK17: IČ DPH: | BS17: True
BS18: 0,01
D19: Spracovateľ: | AK19: IČO: | BS19: 0,01
AK20: IČ DPH: | BS20: True
D22: Poznámka:
D26: Cena bez DPH | AK26: =ROUND(AG94,2) -> 0
L28: Sadzba dane | W28: Základ dane | AK28: Výška dane
D29: DPH | F29: základná | L29: 0.2 | W29: =ROUND(AZ94, 2) -> 0 | AK29: =ROUND(AV94, 2) -> 0
F30: znížená | L30: 0.2 | W30: =ROUND(BA94, 2) -> 0 | AK30: =ROUND(AW94, 2) -> 0
F31: zákl. prenesená | L31: 0.2 | W31: =ROUND(BB94, 2) -> 0 | AK31: 0
F32: zníž. prenesená | L32: 0.2 | W32: =ROUND(BC94, 2) -> 0 | AK32: 0
F33: nulová | L33: 0 | W33: =ROUND(BD94, 2) -> 0 | AK33: 0
D35: Cena s DPH | T35: v | X35: EUR | AK35: =SUM(AK26:AK33) -> 0
D49: Projektant | AH49: Spracovateľ
D60: Dátum a podpis: | V60: Pečiatka | AH60: Dátum a podpis: | AM60: Pečiatka
D64: Objednávateľ | AH64: Zhotoviteľ
D75: Dátum a podpis: | V75: Pečiatka | AH75: Dátum a podpis: | AM75: Pečiatka
C82: REKAPITULÁCIA OBJEKTOV STAVBY
C84: Kód: | L84: =K5 -> 22
C85: Stavba: | L85: =K6 -> Oprava miestnych ciest a chodníkov v Humennom 2024
C87: Miesto: | L87: =IF(K8="","",K8) -> Humenné | AI87: Dátum: | AM87: =IF(AN8= "","",AN8) -> 1. 10. 2024
C89: Objednávateľ: | L89: =IF(E11= "","",E11) | AI89: Projektant: | AM89: =IF(E17="","",E17) | AS89: Informatívne údaje z listov zákaziek
C90: Zhotoviteľ: | L90: =IF(E14= "Vyplň údaj","",E14) | AI90: Spracovateľ: | AM90: =IF(E20="","",E20)
C92: Kód | I92: Popis | AG92: Cena bez DPH [EUR] | AN92: Cena s DPH [EUR] | AQ92: Typ | AS92: z toho Ostat._x000D_ náklady [EUR] | AT92: DPH [EUR] | AU92: Normohodiny [h] | AV92: DPH základná [EUR] | AW92: DPH znížená [EUR] | AX92: DPH základná prenesená_x000D_ [EUR] | AY92: DPH znížená prenesená_x000D_ [EUR] | AZ92: Základňa_x000D_ DPH základná | BA92: Základňa_x000D_ DPH znížená | BB92: Základňa_x000D_ DPH zákl. prenesená | BC92: Základňa_x000D_ DPH zníž. prenesená | BD92: Základňa_x000D_ DPH nulová
...

Sheet 21.1 - SO 01 - Oprava ces...
L2: >> skryté stĺpce << | AT2: {193790e8-c35a-49f8-bd37-873ed33fff5f}
AT3: 0
D4: KRYCÍ LIST ROZPOČTU | M4: v --- nižšie sa nachádzajú doplnkové a pomocné údaje k zostavám --- v | AT4: False
D6: Stavba:
E7: ='Rekapitulácia stavby'!K6 -> Oprava miestnych ciest a chodníkov v Humennom 2024
D8: Objekt:
E9: 21.1 - SO 01 - Oprava cesty a chodníka na Lipovej ulici
D11: JKSO: | I11: KS:
D12: Miesto: | F12: Humenné | I12: Dátum: | J12: ='Rekapitulácia stavby'!AN8 -> 1. 10. 2024
D14: Objednávateľ: | I14: IČO: | J14: =IF('Rekapitulácia stavby'!AN10="","",'Rekapitulácia stavby'!AN10)
E15: =IF('Rekapitulácia stavby'!E11="","",'Rekapitulácia stavby'!E11) | I15: IČ DPH: | J15: =IF('Rekapitulácia stavby'!AN11="","",'Rekapitulácia stavby'!AN11)
D17: Zhotoviteľ: | I17: IČO: | J17: ='Rekapitulácia stavby'!AN13 -> Vyplň údaj
E18: ='Rekapitulácia stavby'!E14 -> Vyplň údaj | I18: IČ DPH: | J18: ='Rekapitulácia stavby'!AN14 -> Vyplň údaj
D20: Projektant: | I20: IČO: | J20: =IF('Rekapitulácia stavby'!AN16="","",'Rekapitulácia stavby'!AN16)
E21: =IF('Rekapitulácia stavby'!E17="","",'Rekapitulácia stavby'!E17) | I21: IČ DPH: | J21: =IF('Rekapitulácia stavby'!AN17="","",'Rekapitulácia stavby'!AN17)
D23: Spracovateľ: | I23: IČO: | J23: =IF('Rekapitulácia stavby'!AN19="","",'Rekapitulácia stavby'!AN19)
E24: =IF('Rekapitulácia stavby'!E20="","",'Rekapitulácia stavby'!E20) | I24: IČ DPH: | J24: =IF('Rekapitulácia stavby'!AN20="","",'Rekapitulácia stavby'!AN20)
D26: Poznámka:
D30: Cena bez DPH | J30: =ROUND(J122, 2) -> 0
F32: Základ dane | I32: Sadzba dane | J32: Výška dane
D33: DPH | E33: základná | F33: =ROUND((SUM(BE122:BE190)), 2) -> 0 | I33: 0.2 | J33: =ROUND(((SUM(BE122:BE190))*I33), 2) -> 0
E34: znížená | F34: =ROUND((SUM(BF122:BF190)), 2) -> 0 | I34: 0.2 | J34: =ROUND(((SUM(BF122:BF190))*I34), 2) -> 0
E35: zákl. prenesená | F35: =ROUND((SUM(BG122:BG190)), 2) -> 0 | I35: 0.2 | J35: =0 -> 0
E36: zníž. prenesená | F36: =ROUND((SUM(BH122:BH190)), 2) -> 0 | I36: 0.2 | J36: =0 -> 0
E37: nulová | F37: =ROUND((SUM(BI122:BI190)), 2) -> 0 | I37: 0 | J37: =0 -> 0
D39: Cena s DPH | G39: v | H39: EUR | J39: =SUM(J30:J37) -> 0
D50: Projektant | G50: Spracovateľ
D61: Dátum a podpis: | F61: Pečiatka | G61: Dátum a podpis: | J61: Pečiatka
D65: Objednávateľ | G65: Zhotoviteľ
D76: Dátum a podpis: | F76: Pečiatka | G76: Dátum a podpis: | J76: Pečiatka
C82: REKAPITULÁCIA ROZPOČTU
C84: Stavba:
E85: =E7 -> Oprava miestnych ciest a chodníkov v Humennom 2024
C86: Objekt:
E87: =E9 -> 21.1 - SO 01 - Oprava cesty a chodníka na Lipovej ulici
C89: Miesto: | F89: =F12 -> Humenné | I89: Dátum: | J89: =IF(J12="","",J12) -> 1. 10. 2024
C91: Objednávateľ: | F91: =E15 | I91: Projektant: | J91: =E21
C92: Zhotoviteľ: | F92: =IF(E18="","",E18) -> Vyplň údaj | I92: Spracovateľ: | J92: =E24
C94: Kód dielu - Popis | J94: Cena celkom [EUR]
C96: Náklady z rozpočtu | J96: =J122 -> 0 | AU96: -1
...

Sheet 22.2 - SO 02 - Oprava prí...
L2: >> skryté stĺpce << | AT2: {ec11c124-9835-4ef4-a992-87f3f100ba29}
AT3: 0
D4: KRYCÍ LIST ROZPOČTU | M4: v --- nižšie sa nachádzajú doplnkové a pomocné údaje k zostavám --- v | AT4: False
D6: Stavba:
E7: ='Rekapitulácia stavby'!K6 -> Oprava miestnych ciest a chodníkov v Humennom 2024
D8: Objekt:
E9: 22.2 - SO 02 - Oprava prístupovej cesty za BD na Nemocničnej ulici 9,11
D11: JKSO: | I11: KS:
D12: Miesto: | F12: Humenné | I12: Dátum: | J12: ='Rekapitulácia stavby'!AN8 -> 1. 10. 2024
D14: Objednávateľ: | I14: IČO: | J14: =IF('Rekapitulácia stavby'!AN10="","",'Rekapitulácia stavby'!AN10)
E15: =IF('Rekapitulácia stavby'!E11="","",'Rekapitulácia stavby'!E11) | I15: IČ DPH: | J15: =IF('Rekapitulácia stavby'!AN11="","",'Rekapitulácia stavby'!AN11)
D17: Zhotoviteľ: | I17: IČO: | J17: ='Rekapitulácia stavby'!AN13 -> Vyplň údaj
E18: ='Rekapitulácia stavby'!E14 -> Vyplň údaj | I18: IČ DPH: | J18: ='Rekapitulácia stavby'!AN14 -> Vyplň údaj
D20: Projektant: | I20: IČO: | J20: =IF('Rekapitulácia stavby'!AN16="","",'Rekapitulácia stavby'!AN16)
E21: =IF('Rekapitulácia stavby'!E17="","",'Rekapitulácia stavby'!E17) | I21: IČ DPH: | J21: =IF('Rekapitulácia stavby'!AN17="","",'Rekapitulácia stavby'!AN17)
D23: Spracovateľ: | I23: IČO: | J23: =IF('Rekapitulácia stavby'!AN19="","",'Rekapitulácia stavby'!AN19)
E24: =IF('Rekapitulácia stavby'!E20="","",'Rekapitulácia stavby'!E20) | I24: IČ DPH: | J24: =IF('Rekapitulácia stavby'!AN20="","",'Rekapitulácia stavby'!AN20)
D26: Poznámka:
D30: Cena bez DPH | J30: =ROUND(J122, 2) -> 0
F32: Základ dane | I32: Sadzba dane | J32: Výška dane
D33: DPH | E33: základná | F33: =ROUND((SUM(BE122:BE160)), 2) -> 0 | I33: 0.2 | J33: =ROUND(((SUM(BE122:BE160))*I33), 2) -> 0
E34: znížená | F34: =ROUND((SUM(BF122:BF160)), 2) -> 0 | I34: 0.2 | J34: =ROUND(((SUM(BF122:BF160))*I34), 2) -> 0
E35: zákl. prenesená | F35: =ROUND((SUM(BG122:BG160)), 2) -> 0 | I35: 0.2 | J35: =0 -> 0
E36: zníž. prenesená | F36: =ROUND((SUM(BH122:BH160)), 2) -> 0 | I36: 0.2 | J36: =0 -> 0
E37: nulová | F37: =ROUND((SUM(BI122:BI160)), 2) -> 0 | I37: 0 | J37: =0 -> 0
D39: Cena s DPH | G39: v | H39: EUR | J39: =SUM(J30:J37) -> 0
D50: Projektant | G50: Spracovateľ
D61: Dátum a podpis: | F61: Pečiatka | G61: Dátum a podpis: | J61: Pečiatka
D65: Objednávateľ | G65: Zhotoviteľ
D76: Dátum a podpis: | F76: Pečiatka | G76: Dátum a podpis: | J76: Pečiatka
C82: REKAPITULÁCIA ROZPOČTU
C84: Stavba:
E85: =E7 -> Oprava miestnych ciest a chodníkov v Humennom 2024
C86: Objekt:
E87: =E9 -> 22.2 - SO 02 - Oprava prístupovej cesty za BD na Nemocničnej ulici 9,11
C89: Miesto: | F89: =F12 -> Humenné | I89: Dátum: | J89: =IF(J12="","",J12) -> 1. 10. 2024
C91: Objednávateľ: | F91: =E15 | I91: Projektant: | J91: =E21
C92: Zhotoviteľ: | F92: =IF(E18="","",E18) -> Vyplň údaj | I92: Spracovateľ: | J92: =E24
C94: Kód dielu - Popis | J94: Cena celkom [EUR]
C96: Náklady z rozpočtu | J96: =J122 -> 0 | AU96: -1
...

Sheet 22.3 - SO 03 - Oprava cho...
L2: >> skryté stĺpce << | AT2: {0c5cb846-ce71-4e8a-a796-746f282ea8cc}
AT3: 0
D4: KRYCÍ LIST ROZPOČTU | M4: v --- nižšie sa nachádzajú doplnkové a pomocné údaje k zostavám --- v | AT4: False
D6: Stavba:
E7: ='Rekapitulácia stavby'!K6 -> Oprava miestnych ciest a chodníkov v Humennom 2024
D8: Objekt:
E9: 22.3 - SO 03 - Oprava chodníka na Sokolovskej ulici pred BD súp. č. 1687 a 1688 v Humennom
D11: JKSO: | I11: KS:
D12: Miesto: | F12: Humenné | I12: Dátum: | J12: ='Rekapitulácia stavby'!AN8 -> 1. 10. 2024
D14: Objednávateľ: | I14: IČO: | J14: =IF('Rekapitulácia stavby'!AN10="","",'Rekapitulácia stavby'!AN10)
E15: =IF('Rekapitulácia stavby'!E11="","",'Rekapitulácia stavby'!E11) | I15: IČ DPH: | J15: =IF('Rekapitulácia stavby'!AN11="","",'Rekapitulácia stavby'!AN11)
D17: Zhotoviteľ: | I17: IČO: | J17: ='Rekapitulácia stavby'!AN13 -> Vyplň údaj
E18: ='Rekapitulácia stavby'!E14 -> Vyplň údaj | I18: IČ DPH: | J18: ='Rekapitulácia stavby'!AN14 -> Vyplň údaj
D20: Projektant: | I20: IČO: | J20: =IF('Rekapitulácia stavby'!AN16="","",'Rekapitulácia stavby'!AN16)
E21: =IF('Rekapitulácia stavby'!E17="","",'Rekapitulácia stavby'!E17) | I21: IČ DPH: | J21: =IF('Rekapitulácia stavby'!AN17="","",'Rekapitulácia stavby'!AN17)
D23: Spracovateľ: | I23: IČO: | J23: =IF('Rekapitulácia stavby'!AN19="","",'Rekapitulácia stavby'!AN19)
E24: =IF('Rekapitulácia stavby'!E20="","",'Rekapitulácia stavby'!E20) | I24: IČ DPH: | J24: =IF('Rekapitulácia stavby'!AN20="","",'Rekapitulácia stavby'!AN20)
D26: Poznámka:
D30: Cena bez DPH | J30: =ROUND(J121, 2) -> 0
F32: Základ dane | I32: Sadzba dane | J32: Výška dane
D33: DPH | E33: základná | F33: =ROUND((SUM(BE121:BE164)), 2) -> 0 | I33: 0.2 | J33: =ROUND(((SUM(BE121:BE164))*I33), 2) -> 0
E34: znížená | F34: =ROUND((SUM(BF121:BF164)), 2) -> 0 | I34: 0.2 | J34: =ROUND(((SUM(BF121:BF164))*I34), 2) -> 0
E35: zákl. prenesená | F35: =ROUND((SUM(BG121:BG164)), 2) -> 0 | I35: 0.2 | J35: =0 -> 0
E36: zníž. prenesená | F36: =ROUND((SUM(BH121:BH164)), 2) -> 0 | I36: 0.2 | J36: =0 -> 0
E37: nulová | F37: =ROUND((SUM(BI121:BI164)), 2) -> 0 | I37: 0 | J37: =0 -> 0
D39: Cena s DPH | G39: v | H39: EUR | J39: =SUM(J30:J37) -> 0
D50: Projektant | G50: Spracovateľ
D61: Dátum a podpis: | F61: Pečiatka | G61: Dátum a podpis: | J61: Pečiatka
D65: Objednávateľ | G65: Zhotoviteľ
D76: Dátum a podpis: | F76: Pečiatka | G76: Dátum a podpis: | J76: Pečiatka
C82: REKAPITULÁCIA ROZPOČTU
C84: Stavba:
E85: =E7 -> Oprava miestnych ciest a chodníkov v Humennom 2024
C86: Objekt:
E87: =E9 -> 22.3 - SO 03 - Oprava chodníka na Sokolovskej ulici pred BD súp. č. 1687 a 1688 v Humennom
C89: Miesto: | F89: =F12 -> Humenné | I89: Dátum: | J89: =IF(J12="","",J12) -> 1. 10. 2024
C91: Objednávateľ: | F91: =E15 | I91: Projektant: | J91: =E21
C92: Zhotoviteľ: | F92: =IF(E18="","",E18) -> Vyplň údaj | I92: Spracovateľ: | J92: =E24
C94: Kód dielu - Popis | J94: Cena celkom [EUR]
C96: Náklady z rozpočtu | J96: =J121 -> 0 | AU96: -1
...
