Workbook

Sheet Rekapitulácia stavby
A1: Export Komplet | BA1: 2.0 | BT1: False | BU1: False | BV1: {92eacf17-6cfd-4581-9db7-4c5a5c191bab}
AR2: >> skryté stĺpce << | BS2: 0,001 | BT2: 20
BS3: 0,001 | BT3: 20
D4: REKAPITULÁCIA STAVBY | AS4: v --- nižšie sa nachádzajú doplnkové a pomocné údaje k zostavám --- v | BE4: Návod na vyplnenie | BS4: 0,001
D5: Kód: | K5: IMPORT | BE5: Meniť je možné iba bunky so žltým podfarbením!_x000D_ _x000D_ 1) na prvom liste Rekapitulácie stavby vyplňte v zostave_x000D_ _x000D_ a) Rekapitulácia stavby_x000D_ - údaje o Zhotoviteľovi_x000D_ (prenesú sa do ostatných zostáv aj v iných listoch)_x000D_ _x000D_ b) Rekapitulácia objektov stavby_x000D_ - potrebné Ostatné náklady_x000D_ _x000D_ 2) na vybraných listoch vyplňte v zostave_x000D_ _x000D_ a) Krycí list_x000D_ - údaje o Zhotoviteľovi, pokiaľ sa líšia od údajov o Zhotoviteľovi na Rekapitulácii stavby_x000D_ (údaje se prenesú do ostatných zostav v danom liste)_x000D_ _x000D_ b) Rekapitulácia rozpočtu_x000D_ - potrebné Ostatné náklady_x000D_ _x000D_ c) Celkové náklady za stavbu_x000D_ - ceny na položkách_x000D_ - množstvo, pokiaľ má žlté podfarbenie_x000D_ - a v prípade potreby poznámku (tá je v skrytom stĺpci) | BS5: 0,001
D6: Stavba: | K6: ROZPOCET Výstavba oporného múra a oplotenia na ihrisku pri Mlyne, ul. Hrnčiarská | BS6: 0,001
D7: JKSO: | AK7: KS: | BS7: 0,001
D8: Miesto: | AK8: Dátum: | AN8: 2. 4. 2021 | BS8: 0,001
BS9: 0,001
D10: Objednávateľ: | AK10: IČO: | BS10: 0,001
AK11: IČ DPH: | BS11: 0,001
BS12: 0,001
D13: Zhotoviteľ: | AK13: IČO: | AN13: Vyplň údaj | BS13: 0,001
E14: Vyplň údaj | AK14: IČ DPH: | AN14: Vyplň údaj | BS14: 0,001
BS15: False
D16: Projektant: | AK16: IČO: | BS16: False
AK17: IČ DPH: | BS17: True
BS18: 0,01
D19: Spracovateľ: | AK19: IČO: | BS19: 0,01
AK20: IČ DPH: | BS20: True
D22: Poznámka:
D26: Cena bez DPH | AK26: =ROUND(AG94,2) -> 0
L28: Sadzba dane | W28: Základ dane | AK28: Výška dane
D29: DPH | F29: základná | L29: 0.2 | W29: =ROUND(AZ94, 2) -> 0 | AK29: =ROUND(AV94, 2) -> 0
F30: znížená | L30: 0.2 | W30: =ROUND(BA94, 2) -> 0 | AK30: =ROUND(AW94, 2) -> 0
F31: zákl. prenesená | L31: 0.2 | W31: =ROUND(BB94, 2) -> 0 | AK31: 0
F32: zníž. prenesená | L32: 0.2 | W32: =ROUND(BC94, 2) -> 0 | AK32: 0
F33: nulová | L33: 0 | W33: =ROUND(BD94, 2) -> 0 | AK33: 0
D35: Cena s DPH | T35: v | X35: EUR | AK35: =SUM(AK26:AK33) -> 0
D49: Projektant | AH49: Spracovateľ
D60: Dátum a podpis: | V60: Pečiatka | AH60: Dátum a podpis: | AM60: Pečiatka
D64: Objednávateľ | AH64: Zhotoviteľ
D75: Dátum a podpis: | V75: Pečiatka | AH75: Dátum a podpis: | AM75: Pečiatka
C82: REKAPITULÁCIA OBJEKTOV STAVBY
C84: Kód: | L84: =K5 -> IMPORT
C85: Stavba: | L85: =K6 -> ROZPOCET Výstavba oporného múra a oplotenia na ihrisku pri Mlyne, ul. Hrnčiarská
C87: Miesto: | L87: =IF(K8="","",K8) | AI87: Dátum: | AM87: =IF(AN8= "","",AN8) -> 2. 4. 2021
C89: Objednávateľ: | L89: =IF(E11= "","",E11) | AI89: Projektant: | AM89: =IF(E17="","",E17) | AS89: Informatívne údaje z listov zákaziek
C90: Zhotoviteľ: | L90: =IF(E14= "Vyplň údaj","",E14) | AI90: Spracovateľ: | AM90: =IF(E20="","",E20)
C92: Kód | I92: Popis | AG92: Cena bez DPH [EUR] | AN92: Cena s DPH [EUR] | AQ92: Typ | AS92: z toho Ostat._x000D_ náklady [EUR] | AT92: DPH [EUR] | AU92: Normohodiny [h] | AV92: DPH základná [EUR] | AW92: DPH znížená [EUR] | AX92: DPH základná prenesená_x000D_ [EUR] | AY92: DPH znížená prenesená_x000D_ [EUR] | AZ92: Základňa_x000D_ DPH základná | BA92: Základňa_x000D_ DPH znížená | BB92: Základňa_x000D_ DPH zákl. prenesená | BC92: Základňa_x000D_ DPH zníž. prenesená | BD92: Základňa_x000D_ DPH nulová
C94: Náklady z rozpočtov | AG94: =ROUND(AG95,2) -> 0 | AN94: =SUM(AG94,AT94) -> 0 | AS94: =ROUND(AS95,2) -> 0 | AT94: =ROUND(SUM(AV94:AW94),2) -> 0 | AU94: =ROUND(AU95,5) -> 0 | AV94: =ROUND(AZ94*L29,2) -> 0 | AW94: =ROUND(BA94*L30,2) -> 0 | AX94: =ROUND(BB94*L29,2) -> 0 | AY94: =ROUND(BC94*L30,2) -> 0 | AZ94: =ROUND(AZ95,2) -> 0 | BA94: =ROUND(BA95,2) -> 0 | BB94: =ROUND(BB95,2) -> 0 | BC94: =ROUND(BC95,2) -> 0 | BD94: =ROUND(BD95,2) -> 0 | BS94: D | BT94: 0 | BU94: ###NOIMPORT### | BV94: IMPORT | BW94: {92eacf17-6cfd-4581-9db7-4c5a5c191bab} | BX94: {00000000-0000-0000-0000-000000000000}
A95: / | D95: Objekt2 | J95: OPORNÝ MÚR | AG95: ='OPORNÝ MÚR'!J30 -> 0 | AN95: =SUM(AG95,AT95) -> 0 | AQ95: STA | AS95: 0 | AT95: =ROUND(SUM(AV95:AW95),2) -> 0 | AU95: ='OPORNÝ MÚR'!P129 -> 0 | AV95: ='OPORNÝ MÚR'!J33 -> 0 | AW95: ='OPORNÝ MÚR'!J34 -> 0 | AX95: ='OPORNÝ MÚR'!J35 -> 0 | AY95: ='OPORNÝ MÚR'!J36 -> 0 | AZ95: ='OPORNÝ MÚR'!F33 -> 0 | BA95: ='OPORNÝ MÚR'!F34 -> 0 | BB95: ='OPORNÝ MÚR'!F35 -> 0 | BC95: ='OPORNÝ MÚR'!F36 -> 0 | BD95: ='OPORNÝ MÚR'!F37 -> 0 | BT95: 1 | BV95: IMPORT | BW95: {05182a24-16d2-4174-a408-e7066f3aadc4} | BX95: {92eacf17-6cfd-4581-9db7-4c5a5c191bab} | CM95: 0

Sheet OPORNÝ MÚR
L2: >> skryté stĺpce << | AT2: {05182a24-16d2-4174-a408-e7066f3aadc4}
AT3: 0
D4: KRYCÍ LIST ROZPOČTU | M4: v --- nižšie sa nachádzajú doplnkové a pomocné údaje k zostavám --- v | AT4: False
D6: Stavba:
E7: Výstavba oporného múra na ihrisku pri Mlyne, ul. Hrnčiarska
D8: Objekt:
E9: OPORNÝ MÚR
D11: JKSO: | I11: KS:
D12: Miesto: | I12: Dátum: | J12: ='Rekapitulácia stavby'!AN8 -> 2. 4. 2021
D14: Objednávateľ: | I14: IČO: | J14: =IF('Rekapitulácia stavby'!AN10="","",'Rekapitulácia stavby'!AN10)
E15: =IF('Rekapitulácia stavby'!E11="","",'Rekapitulácia stavby'!E11) | I15: IČ DPH: | J15: =IF('Rekapitulácia stavby'!AN11="","",'Rekapitulácia stavby'!AN11)
D17: Zhotoviteľ: | I17: IČO: | J17: ='Rekapitulácia stavby'!AN13 -> Vyplň údaj
E18: ='Rekapitulácia stavby'!E14 -> Vyplň údaj | I18: IČ DPH: | J18: ='Rekapitulácia stavby'!AN14 -> Vyplň údaj
D20: Projektant: | I20: IČO: | J20: =IF('Rekapitulácia stavby'!AN16="","",'Rekapitulácia stavby'!AN16)
E21: =IF('Rekapitulácia stavby'!E17="","",'Rekapitulácia stavby'!E17) | I21: IČ DPH: | J21: =IF('Rekapitulácia stavby'!AN17="","",'Rekapitulácia stavby'!AN17)
D23: Spracovateľ: | I23: IČO: | J23: =IF('Rekapitulácia stavby'!AN19="","",'Rekapitulácia stavby'!AN19)
E24: =IF('Rekapitulácia stavby'!E20="","",'Rekapitulácia stavby'!E20) | I24: IČ DPH: | J24: =IF('Rekapitulácia stavby'!AN20="","",'Rekapitulácia stavby'!AN20)
D26: Poznámka:
D30: Cena bez DPH | J30: =ROUND(J129, 2) -> 0
F32: Základ dane | I32: Sadzba dane | J32: Výška dane
D33: DPH | E33: základná | F33: =ROUND((SUM(BE129:BE224)), 2) -> 0 | I33: 0.2 | J33: =ROUND(((SUM(BE129:BE224))*I33), 2) -> 0
E34: znížená | F34: =ROUND((SUM(BF129:BF224)), 2) -> 0 | I34: 0.2 | J34: =ROUND(((SUM(BF129:BF224))*I34), 2) -> 0
E35: zákl. prenesená | F35: =ROUND((SUM(BG129:BG224)), 2) -> 0 | I35: 0.2 | J35: =0 -> 0
E36: zníž. prenesená | F36: =ROUND((SUM(BH129:BH224)), 2) -> 0 | I36: 0.2 | J36: =0 -> 0
E37: nulová | F37: =ROUND((SUM(BI129:BI224)), 2) -> 0 | I37: 0 | J37: =0 -> 0
D39: Cena s DPH | G39: v | H39: EUR | J39: =SUM(J30:J37) -> 0
D50: Projektant | G50: Spracovateľ
D61: Dátum a podpis: | F61: Pečiatka | G61: Dátum a podpis: | J61: Pečiatka
D65: Objednávateľ | G65: Zhotoviteľ
D76: Dátum a podpis: | F76: Pečiatka | G76: Dátum a podpis: | J76: Pečiatka
C82: REKAPITULÁCIA ROZPOČTU
C84: Stavba:
E85: =E7 -> Výstavba oporného múra na ihrisku pri Mlyne, ul. Hrnčiarska
C86: Objekt:
E87: =E9 -> OPORNÝ MÚR
C89: Miesto: | F89: =F12 | I89: Dátum: | J89: =IF(J12="","",J12) -> 2. 4. 2021
C91: Objednávateľ: | F91: =E15 | I91: Projektant: | J91: =E21
C92: Zhotoviteľ: | F92: =IF(E18="","",E18) -> Vyplň údaj | I92: Spracovateľ: | J92: =E24
C94: Kód dielu - Popis | J94: Cena celkom [EUR]
C96: Náklady z rozpočtu | J96: =J129 -> 0 | AU96: -1
D97: HSV - Práce a dodávky HSV | J97: =J130 -> 0
D98: 1 - Zemné práce | J98: =J131 -> 0
D99: 2 - Zakladanie | J99: =J164 -> 0
D100: 3 - Zvislé a kompletné konštrukcie | J100: =J167 -> 0
D101: 4 - Vodorovné konštrukcie | J101: =J175 -> 0
D102: 5 - Komunikácie | J102: =J182 -> 0
D103: 6 - Úpravy povrchov, podlahy, osadenie | J103: =J184 -> 0
D104: 8 - Rúrové vedenie | J104: =J187 -> 0
D105: 9 - Ostatné konštrukcie a práce-búranie | J105: =J201 -> 0
D106: 99 - Presun hmôt HSV | J106: =J206 -> 0
D107: PSV - Práce a dodávky PSV | J107: =J210 -> 0
D108: 711 - Izolácie proti vode a vlhkosti | J108: =J211 -> 0
D109: OST - Ostatné | J109: =J220 -> 0
C116: ROZPOČET
C118: Stavba:
E119: =E7 -> Výstavba oporného múra na ihrisku pri Mlyne, ul. Hrnčiarska
C120: Objekt:
E121: =E9 -> OPORNÝ MÚR
C123: Miesto: | F123: =F12 | I123: Dátum: | J123: =IF(J12="","",J12) -> 2. 4. 2021
C125: Objednávateľ: | F125: =E15 | I125: Projektant: | J125: =E21
C126: Zhotoviteľ: | F126: =IF(E18="","",E18) -> Vyplň údaj | I126: Spracovateľ: | J126: =E24
C128: PČ | D128: Typ | E128: Kód | F128: Popis | G128: MJ | H128: Množstvo | I128: J.cena [EUR] | J128: Cena celkom [EUR] | K128: Cenová sústava | N128: DPH | O128: J. Nh [h] | P128: Nh celkom [h] | Q128: J. hmotnosť [t] | R128: Hmotnosť celkom [t] | S128: J. suť [t] | T128: Suť Celkom [t]
C129: Náklady z rozpočtu | J129: =BK129 -> 0 | P129: =P130+P210+P220 -> 0 | R129: =R130+R210+R220 -> 0 | T129: =T130+T210+T220 -> 1.107 | AT129: D | AU129: -1 | BK129: =BK130+BK210+BK220 -> 0
D130: D | E130: HSV | F130: Práce a dodávky HSV | J130: =BK130 -> 0 | P130: =P131+P164+P167+P175+P182+P184+P187+P201+P206 -> 0 | R130: =R131+R164+R167+R175+R182+R184+R187+R201+R206 -> 0 | T130: =T131+T164+T167+T175+T182+T184+T187+T201+T206 -> 0 | AR130: 1 | AT130: D | AU130: 0 | AY130: ROZPOCET | BK130: =BK131+BK164+BK167+BK175+BK182+BK184+BK187+BK201+BK206 -> 0
D131: D | E131: 1 | F131: Zemné práce | J131: =BK131 -> 0 | P131: =SUM(P132:P163) -> 0 | R131: =SUM(R132:R163) -> 0 | T131: =SUM(T132:T163) -> 0 | AR131: 1 | AT131: D | AU131: 1 | AY131: ROZPOCET | BK131: =SUM(BK132:BK163) -> 0
C132: 1 | D132: K | E132: 112101102.S | F132: Odstránenie listnatých stromov do priemeru 500 mm, motorovou pílou | G132: ks | H132: 3 | J132: =ROUND(I132*H132,3) -> 0 | N132: znížená | P132: =O132*H132 -> 0 | Q132: 0 | R132: =Q132*H132 -> 0 | S132: 0 | T132: =S132*H132 -> 0 | AR132: 4 | AT132: K | AU132: 2 | AY132: ROZPOCET | BE132: =IF(N132="základná",J132,0) -> 0 | BF132: =IF(N132="znížená",J132,0) -> 0 | BG132: =IF(N132="zákl. prenesená",J132,0) -> 0 | BH132: =IF(N132="zníž. prenesená",J132,0) -> 0 | BI132: =IF(N132="nulová",J132,0) -> 0 | BJ132: 2 | BK132: =ROUND(I132*H132,3) -> 0 | BL132: 4 | BM132: 2
C133: 2 | D133: K | E133: 112101122.S | F133: Odstránenie ihličnatých stromov do priemeru 500 mm, motorovou pílou | G133: ks | H133: 9 | J133: =ROUND(I133*H133,3) -> 0 | N133: znížená | P133: =O133*H133 -> 0 | Q133: 0 | R133: =Q133*H133 -> 0 | S133: 0 | T133: =S133*H133 -> 0 | AR133: 4 | AT133: K | AU133: 2 | AY133: ROZPOCET | BE133: =IF(N133="základná",J133,0) -> 0 | BF133: =IF(N133="znížená",J133,0) -> 0 | BG133: =IF(N133="zákl. prenesená",J133,0) -> 0 | BH133: =IF(N133="zníž. prenesená",J133,0) -> 0 | BI133: =IF(N133="nulová",J133,0) -> 0 | BJ133: 2 | BK133: =ROUND(I133*H133,3) -> 0 | BL133: 4 | BM133: 4
C134: 3 | D134: K | E134: 112201102.S | F134: Odstránenie pňov na vzdial. 50 m priemeru nad 300 do 500 mm | G134: ks | H134: 12 | J134: =ROUND(I134*H134,3) -> 0 | N134: znížená | P134: =O134*H134 -> 0 | Q134: 0 | R134: =Q134*H134 -> 0 | S134: 0 | T134: =S134*H134 -> 0 | AR134: 4 | AT134: K | AU134: 2 | AY134: ROZPOCET | BE134: =IF(N134="základná",J134,0) -> 0 | BF134: =IF(N134="znížená",J134,0) -> 0 | BG134: =IF(N134="zákl. prenesená",J134,0) -> 0 | BH134: =IF(N134="zníž. prenesená",J134,0) -> 0 | BI134: =IF(N134="nulová",J134,0) -> 0 | BJ134: 2 | BK134: =ROUND(I134*H134,3) -> 0 | BL134: 4 | BM134: 6
C135: 4 | D135: K | E135: 112201103.S | F135: Odstránenie pňov na vzdial. 50 m priemeru nad 500 do 700 mm | G135: ks | H135: 3 | J135: =ROUND(I135*H135,3) -> 0 | N135: znížená | P135: =O135*H135 -> 0 | Q135: 0 | R135: =Q135*H135 -> 0 | S135: 0 | T135: =S135*H135 -> 0 | AR135: 4 | AT135: K | AU135: 2 | AY135: ROZPOCET | BE135: =IF(N135="základná",J135,0) -> 0 | BF135: =IF(N135="znížená",J135,0) -> 0 | BG135: =IF(N135="zákl. prenesená",J135,0) -> 0 | BH135: =IF(N135="zníž. prenesená",J135,0) -> 0 | BI135: =IF(N135="nulová",J135,0) -> 0 | BJ135: 2 | BK135: =ROUND(I135*H135,3) -> 0 | BL135: 4 | BM135: 8
C136: 5 | D136: K | E136: 119001801.S | F136: Ochranné zábradlie okolo výkopu, drevené výšky 1,10 m dvojtyčové | G136: m | H136: 125 | J136: =ROUND(I136*H136,3) -> 0 | N136: znížená | P136: =O136*H136 -> 0 | Q136: 0 | R136: =Q136*H136 -> 0 | S136: 0 | T136: =S136*H136 -> 0 | AR136: 4 | AT136: K | AU136: 2 | AY136: ROZPOCET | BE136: =IF(N136="základná",J136,0) -> 0 | BF136: =IF(N136="znížená",J136,0) -> 0 | BG136: =IF(N136="zákl. prenesená",J136,0) -> 0 | BH136: =IF(N136="zníž. prenesená",J136,0) -> 0 | BI136: =IF(N136="nulová",J136,0) -> 0 | BJ136: 2 | BK136: =ROUND(I136*H136,3) -> 0 | BL136: 4 | BM136: 10
C137: 6 | D137: K | E137: 130201001 | F137: Výkop jamy a ryhy v obmedzenom priestore horn. tr.3 ručne | G137: m3 | H137: 4.5 | J137: =ROUND(I137*H137,3) -> 0 | N137: znížená | P137: =O137*H137 -> 0 | Q137: 0 | R137: =Q137*H137 -> 0 | S137: 0 | T137: =S137*H137 -> 0 | AR137: 4 | AT137: K | AU137: 2 | AY137: ROZPOCET | BE137: =IF(N137="základná",J137,0) -> 0 | BF137: =IF(N137="znížená",J137,0) -> 0 | BG137: =IF(N137="zákl. prenesená",J137,0) -> 0 | BH137: =IF(N137="zníž. prenesená",J137,0) -> 0 | BI137: =IF(N137="nulová",J137,0) -> 0 | BJ137: 2 | BK137: =ROUND(I137*H137,3) -> 0 | BL137: 4 | BM137: 12
C138: 7 | D138: K | E138: 131201103.S | F138: Výkop nezapaženej jamy v hornine 3, nad 1000 do 10000 m3 | G138: m3 | H138: 1895 | J138: =ROUND(I138*H138,3) -> 0 | N138: znížená | P138: =O138*H138 -> 0 | Q138: 0 | R138: =Q138*H138 -> 0 | S138: 0 | T138: =S138*H138 -> 0 | AR138: 4 | AT138: K | AU138: 2 | AY138: ROZPOCET | BE138: =IF(N138="základná",J138,0) -> 0 | BF138: =IF(N138="znížená",J138,0) -> 0 | BG138: =IF(N138="zákl. prenesená",J138,0) -> 0 | BH138: =IF(N138="zníž. prenesená",J138,0) -> 0 | BI138: =IF(N138="nulová",J138,0) -> 0 | BJ138: 2 | BK138: =ROUND(I138*H138,3) -> 0 | BL138: 4 | BM138: 14
C139: 8 | D139: K | E139: 120001101.S | F139: Príplatok k cenám výkopov za sťaženie výkopu v blízkosti podzemného vedenia alebo výbušnín | G139: m3 | H139: 35 | J139: =ROUND(I139*H139,3) -> 0 | N139: znížená | P139: =O139*H139 -> 0 | Q139: 0 | R139: =Q139*H139 -> 0 | S139: 0 | T139: =S139*H139 -> 0 | AR139: 4 | AT139: K | AU139: 2 | AY139: ROZPOCET | BE139: =IF(N139="základná",J139,0) -> 0 | BF139: =IF(N139="znížená",J139,0) -> 0 | BG139: =IF(N139="zákl. prenesená",J139,0) -> 0 | BH139: =IF(N139="zníž. prenesená",J139,0) -> 0 | BI139: =IF(N139="nulová",J139,0) -> 0 | BJ139: 2 | BK139: =ROUND(I139*H139,3) -> 0 | BL139: 4 | BM139: 16
C140: 9 | D140: K | E140: 131201109.S | F140: Hĺbenie nezapažených jám a zárezov. Príplatok za lepivosť horniny 3 | G140: m3 | H140: 1500 | J140: =ROUND(I140*H140,3) -> 0 | N140: znížená | P140: =O140*H140 -> 0 | Q140: 0 | R140: =Q140*H140 -> 0 | S140: 0 | T140: =S140*H140 -> 0 | AR140: 4 | AT140: K | AU140: 2 | AY140: ROZPOCET | BE140: =IF(N140="základná",J140,0) -> 0 | BF140: =IF(N140="znížená",J140,0) -> 0 | BG140: =IF(N140="zákl. prenesená",J140,0) -> 0 | BH140: =IF(N140="zníž. prenesená",J140,0) -> 0 | BI140: =IF(N140="nulová",J140,0) -> 0 | BJ140: 2 | BK140: =ROUND(I140*H140,3) -> 0 | BL140: 4 | BM140: 18
C141: 10 | D141: K | E141: 131211101 | F141: Hĺbenie jám v hornine tr.3 súdržných - ručným náradím | G141: m3 | H141: 35 | J141: =ROUND(I141*H141,3) -> 0 | N141: znížená | P141: =O141*H141 -> 0 | Q141: 0 | R141: =Q141*H141 -> 0 | S141: 0 | T141: =S141*H141 -> 0 | AR141: 4 | AT141: K | AU141: 2 | AY141: ROZPOCET | BE141: =IF(N141="základná",J141,0) -> 0 | BF141: =IF(N141="znížená",J141,0) -> 0 | BG141: =IF(N141="zákl. prenesená",J141,0) -> 0 | BH141: =IF(N141="zníž. prenesená",J141,0) -> 0 | BI141: =IF(N141="nulová",J141,0) -> 0 | BJ141: 2 | BK141: =ROUND(I141*H141,3) -> 0 | BL141: 4 | BM141: 20
C142: 11 | D142: K | E142: 132201102 | F142: Výkop ryhy do šírky 600 mm v horn.3 nad 100 m3 | G142: m3 | H142: 43.2 | J142: =ROUND(I142*H142,3) -> 0 | N142: znížená | P142: =O142*H142 -> 0 | Q142: 0 | R142: =Q142*H142 -> 0 | S142: 0 | T142: =S142*H142 -> 0 | AR142: 4 | AT142: K | AU142: 2 | AY142: ROZPOCET | BE142: =IF(N142="základná",J142,0) -> 0 | BF142: =IF(N142="znížená",J142,0) -> 0 | BG142: =IF(N142="zákl. prenesená",J142,0) -> 0 | BH142: =IF(N142="zníž. prenesená",J142,0) -> 0 | BI142: =IF(N142="nulová",J142,0) -> 0 | BJ142: 2 | BK142: =ROUND(I142*H142,3) -> 0 | BL142: 4 | BM142: 22
C143: 12 | D143: K | E143: 132201201 | F143: Výkop ryhy šírky 600-2000mm horn.3 do 100m3 | G143: m3 | H143: 219.45 | J143: =ROUND(I143*H143,3) -> 0 | N143: znížená | P143: =O143*H143 -> 0 | Q143: 0 | R143: =Q143*H143 -> 0 | S143: 0 | T143: =S143*H143 -> 0 | AR143: 4 | AT143: K | AU143: 2 | AY143: ROZPOCET | BE143: =IF(N143="základná",J143,0) -> 0 | BF143: =IF(N143="znížená",J143,0) -> 0 | BG143: =IF(N143="zákl. prenesená",J143,0) -> 0 | BH143: =IF(N143="zníž. prenesená",J143,0) -> 0 | BI143: =IF(N143="nulová",J143,0) -> 0 | BJ143: 2 | BK143: =ROUND(I143*H143,3) -> 0 | BL143: 4 | BM143: 24
... C163: 32 | D163: M | E163: 052170000500.S | F163: Tyč ihličňanová tr. 1, hrúbka 6-7 cm, dĺžky 6 m a viac bez kôry | G163: ks | H163: 24 | J163: =ROUND(I163*H163,3) -> 0 | N163: znížená | P163: =O163*H163 -> 0 | Q163: 0 | R163: =Q163*H163 -> 0 | S163: 0 | T163: =S163*H163 -> 0 | AR163: 8 | AT163: M | AU163: 2 | AY163: ROZPOCET | BE163: =IF(N163="základná",J163,0) -> 0 | BF163: =IF(N163="znížená",J163,0) -> 0 | BG163: =IF(N163="zákl. prenesená",J163,0) -> 0 | BH163: =IF(N163="zníž. prenesená",J163,0) -> 0 | BI163: =IF(N163="nulová",J163,0) -> 0 | BJ163: 2 | BK163: =ROUND(I163*H163,3) -> 0 | BL163: 4 | BM163: 64
D164: D | E164: 2 | F164: Zakladanie | J164: =BK164 -> 0 | P164: =SUM(P165:P166) -> 0 | R164: =SUM(R165:R166) -> 0 | T164: =SUM(T165:T166) -> 0 | AR164: 1 | AT164: D | AU164: 1 | AY164: ROZPOCET | BK164: =SUM(BK165:BK166) -> 0
C165: 33 | D165: K | E165: 273362021 | F165: Výstuž základových dosiek zo zvár. sietí KARI | G165: t | H165: 2.461 | J165: =ROUND(I165*H165,3) -> 0 | N165: znížená | P165: =O165*H165 -> 0 | Q165: 0 | R165: =Q165*H165 -> 0 | S165: 0 | T165: =S165*H165 -> 0 | AR165: 4 | AT165: K | AU165: 2 | AY165: ROZPOCET | BE165: =IF(N165="základná",J165,0) -> 0 | BF165: =IF(N165="znížená",J165,0) -> 0 | BG165: =IF(N165="zákl. prenesená",J165,0) -> 0 | BH165: =IF(N165="zníž. prenesená",J165,0) -> 0 | BI165: =IF(N165="nulová",J165,0) -> 0 | BJ165: 2 | BK165: =ROUND(I165*H165,3) -> 0 | BL165: 4 | BM165: 66
C166: 34 | D166: K | E166: 274321312 | F166: Betón základových pásov, železový (bez výstuže), tr. C 20/25 | G166: m3 | H166: 110.25 | J166: =ROUND(I166*H166,3) -> 0 | N166: znížená | P166: =O166*H166 -> 0 | Q166: 0 | R166: =Q166*H166 -> 0 | S166: 0 | T166: =S166*H166 -> 0 | AR166: 4 | AT166: K | AU166: 2 | AY166: ROZPOCET | BE166: =IF(N166="základná",J166,0) -> 0 | BF166: =IF(N166="znížená",J166,0) -> 0 | BG166: =IF(N166="zákl. prenesená",J166,0) -> 0 | BH166: =IF(N166="zníž. prenesená",J166,0) -> 0 | BI166: =IF(N166="nulová",J166,0) -> 0 | BJ166: 2 | BK166: =ROUND(I166*H166,3) -> 0 | BL166: 4 | BM166: 68
D167: D | E167: 3 | F167: Zvislé a kompletné konštrukcie | J167: =BK167 -> 0 | P167: =SUM(P168:P174) -> 0 | R167: =SUM(R168:R174) -> 0 | T167: =SUM(T168:T174) -> 0 | AR167: 1 | AT167: D | AU167: 1 | AY167: ROZPOCET | BK167: =SUM(BK168:BK174) -> 0
C168: 35 | D168: K | E168: 311271313 | F168: Murovanie stien nosných (m3) PREMAC 50x30x25 s betónovou výplňou hr. 300 mm alt. ekvivalent | G168: m3 | H168: 44.1 | J168: =ROUND(I168*H168,3) -> 0 | N168: znížená | P168: =O168*H168 -> 0 | Q168: 0 | R168: =Q168*H168 -> 0 | S168: 0 | T168: =S168*H168 -> 0 | AR168: 4 | AT168: K | AU168: 2 | AY168: ROZPOCET | BE168: =IF(N168="základná",J168,0) -> 0 | BF168: =IF(N168="znížená",J168,0) -> 0 | BG168: =IF(N168="zákl. prenesená",J168,0) -> 0 | BH168: =IF(N168="zníž. prenesená",J168,0) -> 0 | BI168: =IF(N168="nulová",J168,0) -> 0 | BJ168: 2 | BK168: =ROUND(I168*H168,3) -> 0 | BL168: 4 | BM168: 70
C169: 36 | D169: M | E169: 595120000400 | F169: Tvárnica debniaca DT30, šxlxv 300x500x250 mm | G169: ks | H169: 1210 | J169: =ROUND(I169*H169,3) -> 0 | N169: znížená | P169: =O169*H169 -> 0 | Q169: 0 | R169: =Q169*H169 -> 0 | S169: 0 | T169: =S169*H169 -> 0 | AR169: 8 | AT169: M | AU169: 2 | AY169: ROZPOCET | BE169: =IF(N169="základná",J169,0) -> 0 | BF169: =IF(N169="znížená",J169,0) -> 0 | BG169: =IF(N169="zákl. prenesená",J169,0) -> 0 | BH169: =IF(N169="zníž. prenesená",J169,0) -> 0 | BI169: =IF(N169="nulová",J169,0) -> 0 | BJ169: 2 | BK169: =ROUND(I169*H169,3) -> 0 | BL169: 4 | BM169: 72
C170: 37 | D170: K | E170: 311271314 | F170: Murovanie stien nosných (m3) PREMAC 50x40x25 s betónovou výplňou hr. 400 mm alt. ekvivalent | G170: m3 | H170: 117.2 | J170: =ROUND(I170*H170,3) -> 0 | N170: znížená | P170: =O170*H170 -> 0 | Q170: 0 | R170: =Q170*H170 -> 0 | S170: 0 | T170: =S170*H170 -> 0 | AR170: 4 | AT170: K | AU170: 2 | AY170: ROZPOCET | BE170: =IF(N170="základná",J170,0) -> 0 | BF170: =IF(N170="znížená",J170,0) -> 0 | BG170: =IF(N170="zákl. prenesená",J170,0) -> 0 | BH170: =IF(N170="zníž. prenesená",J170,0) -> 0 | BI170: =IF(N170="nulová",J170,0) -> 0 | BJ170: 2 | BK170: =ROUND(I170*H170,3) -> 0 | BL170: 4 | BM170: 74
C171: 38 | D171: M | E171: 595120000500 | F171: Tvárnica debniaca PREMAC DT40, šxlxv 400x500x250 mm | G171: ks | H171: 2400 | J171: =ROUND(I171*H171,3) -> 0 | N171: znížená | P171: =O171*H171 -> 0 | Q171: 0 | R171: =Q171*H171 -> 0 | S171: 0 | T171: =S171*H171 -> 0 | AR171: 8 | AT171: M | AU171: 2 | AY171: ROZPOCET | BE171: =IF(N171="základná",J171,0) -> 0 | BF171: =IF(N171="znížená",J171,0) -> 0 | BG171: =IF(N171="zákl. prenesená",J171,0) -> 0 | BH171: =IF(N171="zníž. prenesená",J171,0) -> 0 | BI171: =IF(N171="nulová",J171,0) -> 0 | BJ171: 2 | BK171: =ROUND(I171*H171,3) -> 0 | BL171: 4 | BM171: 76
C172: 39 | D172: K | E172: 311361825 | F172: Výstuž pre murivo nosné PREMAC s betónovou výplňou z ocele B500 (10505) | G172: t | H172: 7.101 | J172: =ROUND(I172*H172,3) -> 0 | N172: znížená | P172: =O172*H172 -> 0 | Q172: 0 | R172: =Q172*H172 -> 0 | S172: 0 | T172: =S172*H172 -> 0 | AR172: 4 | AT172: K | AU172: 2 | AY172: ROZPOCET | BE172: =IF(N172="základná",J172,0) -> 0 | BF172: =IF(N172="znížená",J172,0) -> 0 | BG172: =IF(N172="zákl. prenesená",J172,0) -> 0 | BH172: =IF(N172="zníž. prenesená",J172,0) -> 0 | BI172: =IF(N172="nulová",J172,0) -> 0 | BJ172: 2 | BK172: =ROUND(I172*H172,3) -> 0 | BL172: 4 | BM172: 78
C173: 40 | D173: K | E173: 318271064.x | F173: Krycia platňa pilierová pre oplotenie z betónových tvárnic 400x400x30(25-35mm) mm | G173: ks | H173: 305 | J173: =ROUND(I173*H173,3) -> 0 | N173: znížená | P173: =O173*H173 -> 0 | Q173: 0 | R173: =Q173*H173 -> 0 | S173: 0 | T173: =S173*H173 -> 0 | AR173: 4 | AT173: K | AU173: 2 | AY173: ROZPOCET | BE173: =IF(N173="základná",J173,0) -> 0 | BF173: =IF(N173="znížená",J173,0) -> 0 | BG173: =IF(N173="zákl. prenesená",J173,0) -> 0 | BH173: =IF(N173="zníž. prenesená",J173,0) -> 0 | BI173: =IF(N173="nulová",J173,0) -> 0 | BJ173: 2 | BK173: =ROUND(I173*H173,3) -> 0 | BL173: 4 | BM173: 80
C174: 41 | D174: M | E174: 592330006600 | F174: Krycia platňa, 400x400x30 (25-35mm) mm, sivá | G174: ks | H174: 305 | J174: =ROUND(I174*H174,3) -> 0 | N174: znížená | P174: =O174*H174 -> 0 | Q174: 0 | R174: =Q174*H174 -> 0 | S174: 0 | T174: =S174*H174 -> 0 | AR174: 8 | AT174: M | AU174: 2 | AY174: ROZPOCET | BE174: =IF(N174="základná",J174,0) -> 0 | BF174: =IF(N174="znížená",J174,0) -> 0 | BG174: =IF(N174="zákl. prenesená",J174,0) -> 0 | BH174: =IF(N174="zníž. prenesená",J174,0) -> 0 | BI174: =IF(N174="nulová",J174,0) -> 0 | BJ174: 2 | BK174: =ROUND(I174*H174,3) -> 0 | BL174: 4 | BM174: 82
D175: D | E175: 4 | F175: Vodorovné konštrukcie | J175: =BK175 -> 0 | P175: =SUM(P176:P181) -> 0 | R175: =SUM(R176:R181) -> 0 | T175: =SUM(T176:T181) -> 0 | AR175: 1 | AT175: D | AU175: 1 | AY175: ROZPOCET | BK175: =SUM(BK176:BK181) -> 0
C176: 42 | D176: K | E176: 451573111 | F176: Lôžko pod potrubie, stoky a drobné objekty, v otvorenom výkope z piesku a štrkopiesku do 63 mm | G176: m3 | H176: 12.5 | J176: =ROUND(I176*H176,3) -> 0 | N176: znížená | P176: =O176*H176 -> 0 | Q176: 0 | R176: =Q176*H176 -> 0 | S176: 0 | T176: =S176*H176 -> 0 | AR176: 4 | AT176: K | AU176: 2 | AY176: ROZPOCET | BE176: =IF(N176="základná",J176,0) -> 0 | BF176: =IF(N176="znížená",J176,0) -> 0 | BG176: =IF(N176="zákl. prenesená",J176,0) -> 0 | BH176: =IF(N176="zníž. prenesená",J176,0) -> 0 | BI176: =IF(N176="nulová",J176,0) -> 0 | BJ176: 2 | BK176: =ROUND(I176*H176,3) -> 0 | BL176: 4 | BM176: 84
C177: 43 | D177: K | E177: 452311146 | F177: Dosky, bloky, sedlá z betónu v otvorenom výkope tr. C 20/25 | G177: m3 | H177: 0.25 | J177: =ROUND(I177*H177,3) -> 0 | N177: znížená | P177: =O177*H177 -> 0 | Q177: 0 | R177: =Q177*H177 -> 0 | S177: 0 | T177: =S177*H177 -> 0 | AR177: 4 | AT177: K | AU177: 2 | AY177: ROZPOCET | BE177: =IF(N177="základná",J177,0) -> 0 | BF177: =IF(N177="znížená",J177,0) -> 0 | BG177: =IF(N177="zákl. prenesená",J177,0) -> 0 | BH177: =IF(N177="zníž. prenesená",J177,0) -> 0 | BI177: =IF(N177="nulová",J177,0) -> 0 | BJ177: 2 | BK177: =ROUND(I177*H177,3) -> 0 | BL177: 4 | BM177: 86
C178: 44 | D178: K | E178: 452351101 | F178: Debnenie v otvorenom výkope dosiek, sedlových lôžok a blokov pod potrubie,stoky a drobné objekty | G178: m2 | H178: 0.6 | J178: =ROUND(I178*H178,3) -> 0 | N178: znížená | P178: =O178*H178 -> 0 | Q178: 0 | R178: =Q178*H178 -> 0 | S178: 0 | T178: =S178*H178 -> 0 | AR178: 4 | AT178: K | AU178: 2 | AY178: ROZPOCET | BE178: =IF(N178="základná",J178,0) -> 0 | BF178: =IF(N178="znížená",J178,0) -> 0 | BG178: =IF(N178="zákl. prenesená",J178,0) -> 0 | BH178: =IF(N178="zníž. prenesená",J178,0) -> 0 | BI178: =IF(N178="nulová",J178,0) -> 0 | BJ178: 2 | BK178: =ROUND(I178*H178,3) -> 0 | BL178: 4 | BM178: 88
C179: 45 | D179: K | E179: 457551111.x | F179: Filtračné vrstvy z štrkodrviny bez zhutnenia ( uloženie pri opornom múre zo strany parku - okrasný štrk, napr. dunajský a pod) | G179: m3 | H179: 6.05 | J179: =ROUND(I179*H179,3) -> 0 | N179: znížená | P179: =O179*H179 -> 0 | Q179: 0 | R179: =Q179*H179 -> 0 | S179: 0 | T179: =S179*H179 -> 0 | AR179: 4 | AT179: K | AU179: 2 | AY179: ROZPOCET | BE179: =IF(N179="základná",J179,0) -> 0 | BF179: =IF(N179="znížená",J179,0) -> 0 | BG179: =IF(N179="zákl. prenesená",J179,0) -> 0 | BH179: =IF(N179="zníž. prenesená",J179,0) -> 0 | BI179: =IF(N179="nulová",J179,0) -> 0 | BJ179: 2 | BK179: =ROUND(I179*H179,3) -> 0 | BL179: 4 | BM179: 90
C180: 46 | D180: K | E180: 457971111 | F180: Zriadenie vrstvy z geotextílie s presahom, so sklonom do 1:5, šírky geotextílie do 3 m | G180: m2 | H180: 488 | J180: =ROUND(I180*H180,3) -> 0 | N180: znížená | P180: =O180*H180 -> 0 | Q180: 0 | R180: =Q180*H180 -> 0 | S180: 0 | T180: =S180*H180 -> 0 | AR180: 4 | AT180: K | AU180: 2 | AY180: ROZPOCET | BE180: =IF(N180="základná",J180,0) -> 0 | BF180: =IF(N180="znížená",J180,0) -> 0 | BG180: =IF(N180="zákl. prenesená",J180,0) -> 0 | BH180: =IF(N180="zníž. prenesená",J180,0) -> 0 | BI180: =IF(N180="nulová",J180,0) -> 0 | BJ180: 2 | BK180: =ROUND(I180*H180,3) -> 0 | BL180: 4 | BM180: 92
C181: 47 | D181: M | E181: 6936652600 | F181: Geotextília netkaná polypropylénová Tatratex PP 1000 | G181: m2 | H181: 561 | J181: =ROUND(I181*H181,3) -> 0 | N181: znížená | P181: =O181*H181 -> 0 | Q181: 0 | R181: =Q181*H181 -> 0 | S181: 0 | T181: =S181*H181 -> 0 | AR181: 8 | AT181: M | AU181: 2 | AY181: ROZPOCET | BE181: =IF(N181="základná",J181,0) -> 0 | BF181: =IF(N181="znížená",J181,0) -> 0 | BG181: =IF(N181="zákl. prenesená",J181,0) -> 0 | BH181: =IF(N181="zníž. prenesená",J181,0) -> 0 | BI181: =IF(N181="nulová",J181,0) -> 0 | BJ181: 2 | BK181: =ROUND(I181*H181,3) -> 0 | BL181: 4 | BM181: 94
D182: D | E182: 5 | F182: Komunikácie | J182: =BK182 -> 0 | P182: =P183 -> 0 | R182: =R183 -> 0 | T182: =T183 -> 0 | AR182: 1 | AT182: D | AU182: 1 | AY182: ROZPOCET | BK182: =BK183 -> 0
C183: 48 | D183: K | E183: 597761111.S | F183: Rigol dláždený do lôžka z betónu prostého tr. C 8/10 z betónových dosiek akejkoľvek veľkosti | G183: m2 | H183: 48.4 | J183: =ROUND(I183*H183,3) -> 0 | N183: znížená | P183: =O183*H183 -> 0 | Q183: 0 | R183: =Q183*H183 -> 0 | S183: 0 | T183: =S183*H183 -> 0 | AR183: 4 | AT183: K | AU183: 2 | AY183: ROZPOCET | BE183: =IF(N183="základná",J183,0) -> 0 | BF183: =IF(N183="znížená",J183,0) -> 0 | BG183: =IF(N183="zákl. prenesená",J183,0) -> 0 | BH183: =IF(N183="zníž. prenesená",J183,0) -> 0 | BI183: =IF(N183="nulová",J183,0) -> 0 | BJ183: 2 | BK183: =ROUND(I183*H183,3) -> 0 | BL183: 4 | BM183: 96
D184: D | E184: 6 | F184: Úpravy povrchov, podlahy, osadenie | J184: =BK184 -> 0 | P184: =SUM(P185:P186) -> 0 | R184: =SUM(R185:R186) -> 0 | T184: =SUM(T185:T186) -> 0 | AR184: 1 | AT184: D | AU184: 1 | AY184: ROZPOCET | BK184: =SUM(BK185:BK186) -> 0
C185: 49 | D185: K | E185: 622481119.S | F185: Potiahnutie vonkajších stien sklotextílnou mriežkou s celoplošným prilepením | G185: m2 | H185: 429.15 | J185: =ROUND(I185*H185,3) -> 0 | N185: znížená | P185: =O185*H185 -> 0 | Q185: 0 | R185: =Q185*H185 -> 0 | S185: 0 | T185: =S185*H185 -> 0 | AR185: 4 | AT185: K | AU185: 2 | AY185: ROZPOCET | BE185: =IF(N185="základná",J185,0) -> 0 | BF185: =IF(N185="znížená",J185,0) -> 0 | BG185: =IF(N185="zákl. prenesená",J185,0) -> 0 | BH185: =IF(N185="zníž. prenesená",J185,0) -> 0 | BI185: =IF(N185="nulová",J185,0) -> 0 | BJ185: 2 | BK185: =ROUND(I185*H185,3) -> 0 | BL185: 4 | BM185: 98
...
