Workbook

Sheet Rekapitulácia stavby
A1: Export Komplet | BA1: 2.0 | BT1: False | BU1: True | BV1: {e9ce35e2-6e54-41c1-8ff4-10f0213d1838}
AR2: >> skryté stĺpce << | BS2: 0,001 | BT2: 20
BS3: 0,001 | BT3: 20
D4: REKAPITULÁCIA STAVBY | AS4: v --- nižšie sa nachádzajú doplnkové a pomocné údaje k zostavám --- v | BG4: Návod na vyplnenie | BS4: 0,001
D5: Kód: | K5: 13062021/A | BG5: Meniť je možné iba bunky so žltým podfarbením!_x000D_ _x000D_ 1) na prvom liste Rekapitulácie stavby vyplňte v zostave_x000D_ _x000D_ a) Rekapitulácia stavby_x000D_ - údaje o Zhotoviteľovi_x000D_ (prenesú sa do ostatných zostáv aj v iných listoch)_x000D_ _x000D_ b) Rekapitulácia objektov stavby_x000D_ - potrebné Ostatné náklady_x000D_ _x000D_ 2) na vybraných listoch vyplňte v zostave_x000D_ _x000D_ a) Krycí list_x000D_ - údaje o Zhotoviteľovi, pokiaľ sa líšia od údajov o Zhotoviteľovi na Rekapitulácii stavby_x000D_ (údaje se prenesú do ostatných zostav v danom liste)_x000D_ _x000D_ b) Rekapitulácia rozpočtu_x000D_ - potrebné Ostatné náklady_x000D_ _x000D_ c) Celkové náklady za stavbu_x000D_ - ceny na položkách_x000D_ - množstvo, pokiaľ má žlté podfarbenie_x000D_ - a v prípade potreby poznámku (tá je v skrytom stĺpci) | BS5: 0,001
D6: Stavba: | K6: Rekonštrukcia cyklochodníka a jeho predĺženie do prímestskej RO Hubková | BS6: 0,001
D7: JKSO: | AK7: KS: | BS7: 0,001
D8: Miesto: | K8: Humenné | AK8: Dátum: | AN8: 29. 6. 2021 | BS8: 0,001
BS9: 0,001
D10: Objednávateľ: | AK10: IČO: | BS10: 0,001
E11: Mesto Humenné,Kukorelliho 34,066 28 Humenné | AK11: IČ DPH: | BS11: 0,001
BS12: 0,001
D13: Zhotoviteľ: | AK13: IČO: | AN13: Vyplň údaj | BS13: 0,001
E14: Vyplň údaj | AK14: IČ DPH: | AN14: Vyplň údaj | BS14: 0,001
BS15: False
D16: Projektant: | AK16: IČO: | BS16: False
AK17: IČ DPH: | BS17: True
BS18: 0,01
D19: Spracovateľ: | AK19: IČO: | BS19: 0,01
AK20: IČ DPH: | BS20: True
D22: Poznámka:
D26: Cena bez DPH | AK26: =ROUND(AG94,2) -> 0
L28: Sadzba dane | W28: Základ dane | AK28: Výška dane
D29: DPH | F29: základná | L29: 0.2 | W29: =ROUND(BB94, 2) -> 0 | AK29: =ROUND(AX94, 2) -> 0
F30: znížená | L30: 0.2 | W30: =ROUND(BC94, 2) -> 0 | AK30: =ROUND(AY94, 2) -> 0
F31: zákl. prenesená | L31: 0.2 | W31: =ROUND(BD94, 2) -> 0 | AK31: 0
F32: zníž. prenesená | L32: 0.2 | W32: =ROUND(BE94, 2) -> 0 | AK32: 0
F33: nulová | L33: 0 | W33: =ROUND(BF94, 2) -> 0 | AK33: 0
D35: Cena s DPH | T35: v | X35: EUR | AK35: =SUM(AK26:AK33) -> 0
D49: Projektant | AH49: Spracovateľ
D60: Dátum a podpis: | V60: Pečiatka | AH60: Dátum a podpis: | AM60: Pečiatka
D64: Objednávateľ | AH64: Zhotoviteľ
D75: Dátum a podpis: | V75: Pečiatka | AH75: Dátum a podpis: | AM75: Pečiatka
C82: REKAPITULÁCIA OBJEKTOV STAVBY
C84: Kód: | L84: =K5 -> 13062021/A
C85: Stavba: | L85: =K6 -> Rekonštrukcia cyklochodníka a jeho predĺženie do prímestskej RO Hubková
C87: Miesto: | L87: =IF(K8="","",K8) -> Humenné | AI87: Dátum: | AM87: =IF(AN8= "","",AN8) -> 29. 6. 2021
C89: Objednávateľ: | L89: =IF(E11= "","",E11) -> Mesto Humenné,Kukorelliho 34,066 28 Humenné | AI89: Projektant: | AM89: =IF(E17="","",E17) | AS89: Informatívne údaje z listov zákaziek
C90: Zhotoviteľ: | L90: =IF(E14= "Vyplň údaj","",E14) | AI90: Spracovateľ: | AM90: =IF(E20="","",E20)
C92: Kód | I92: Popis | AG92: Cena bez DPH [EUR] | AN92: Cena s DPH [EUR] | AQ92: Typ | AS92: z toho Materiál [EUR] | AT92: z toho Montáž [EUR] | AU92: z toho Ostat._x000D_ náklady [EUR] | AV92: DPH [EUR] | AW92: Normohodiny [h] | AX92: DPH základná [EUR] | AY92: DPH znížená [EUR] | AZ92: DPH základná prenesená_x000D_ [EUR] | BA92: DPH znížená prenesená_x000D_ [EUR] | BB92: Základňa_x000D_ DPH základná | BC92: Základňa_x000D_ DPH znížená | BD92: Základňa_x000D_ DPH zákl. prenesená | BE92: Základňa_x000D_ DPH zníž. prenesená | BF92: Základňa_x000D_ DPH nulová
...

Sheet 13062021-A - Rekonštrukci...
M2: >> skryté stĺpce << | AT2: {e9ce35e2-6e54-41c1-8ff4-10f0213d1838}
AT3: 0
D4: KRYCÍ LIST ROZPOČTU | N4: v --- nižšie sa nachádzajú doplnkové a pomocné údaje k zostavám --- v | AT4: False
D6: Stavba:
E7: Rekonštrukcia cyklochodníka a jeho predĺženie do prímestskej RO Hubková
D9: JKSO: | I9: KS:
D10: Miesto: | F10: Humenné | I10: Dátum: | J10: ='Rekapitulácia stavby'!AN8 -> 29. 6. 2021
D12: Objednávateľ: | I12: IČO:
E13: Mesto Humenné,Kukorelliho 34,066 28 Humenné | I13: IČ DPH:
D15: Zhotoviteľ: | I15: IČO: | J15: ='Rekapitulácia stavby'!AN13 -> Vyplň údaj
E16: ='Rekapitulácia stavby'!E14 -> Vyplň údaj | I16: IČ DPH: | J16: ='Rekapitulácia stavby'!AN14 -> Vyplň údaj
D18: Projektant: | I18: IČO: | J18: =IF('Rekapitulácia stavby'!AN16="","",'Rekapitulácia stavby'!AN16)
E19: =IF('Rekapitulácia stavby'!E17="","",'Rekapitulácia stavby'!E17) | I19: IČ DPH: | J19: =IF('Rekapitulácia stavby'!AN17="","",'Rekapitulácia stavby'!AN17)
D21: Spracovateľ: | I21: IČO: | J21: =IF('Rekapitulácia stavby'!AN19="","",'Rekapitulácia stavby'!AN19)
E22: =IF('Rekapitulácia stavby'!E20="","",'Rekapitulácia stavby'!E20) | I22: IČ DPH: | J22: =IF('Rekapitulácia stavby'!AN20="","",'Rekapitulácia stavby'!AN20)
D24: Poznámka:
E28: Materiál | K28: =I94 -> 0
E29: Montáž | K29: =J94 -> 0
D30: Cena bez DPH | K30: =ROUND(K120, 2) -> 0
F32: Základ dane | I32: Sadzba dane | K32: Výška dane
D33: DPH | E33: základná | F33: =ROUND((SUM(BE120:BE175)), 2) -> 0 | I33: 0.2 | K33: =ROUND(((SUM(BE120:BE175))*I33), 2) -> 0
E34: znížená | F34: =ROUND((SUM(BF120:BF175)), 2) -> 0 | I34: 0.2 | K34: =ROUND(((SUM(BF120:BF175))*I34), 2) -> 0
E35: zákl. prenesená | F35: =ROUND((SUM(BG120:BG175)), 2) -> 0 | I35: 0.2 | K35: =0 -> 0
E36: zníž. prenesená | F36: =ROUND((SUM(BH120:BH175)), 2) -> 0 | I36: 0.2 | K36: =0 -> 0
E37: nulová | F37: =ROUND((SUM(BI120:BI175)), 2) -> 0 | I37: 0 | K37: =0 -> 0
D39: Cena s DPH | G39: v | H39: EUR | K39: =SUM(K30:K37) -> 0
D50: Projektant | G50: Spracovateľ
D61: Dátum a podpis: | F61: Pečiatka | G61: Dátum a podpis: | J61: Pečiatka
D65: Objednávateľ | G65: Zhotoviteľ
D76: Dátum a podpis: | F76: Pečiatka | G76: Dátum a podpis: | J76: Pečiatka
C82: REKAPITULÁCIA ROZPOČTU
C84: Stavba:
E85: =E7 -> Rekonštrukcia cyklochodníka a jeho predĺženie do prímestskej RO Hubková
C87: Miesto: | F87: =F10 -> Humenné | I87: Dátum: | J87: =IF(J10="","",J10) -> 29. 6. 2021
C89: Objednávateľ: | F89: =E13 -> Mesto Humenné,Kukorelliho 34,066 28 Humenné | I89: Projektant: | J89: =E19
C90: Zhotoviteľ: | F90: =IF(E16="","",E16) -> Vyplň údaj | I90: Spracovateľ: | J90: =E22
C92: Kód dielu - Popis | I92: Materiál [EUR] | J92: Montáž [EUR] | K92: Cena celkom [EUR]
C94: Náklady z rozpočtu | I94: =Q120 -> 0 | J94: =R120 -> 0 | K94: =K120 -> 0 | AU94: -1
D95: M - Práce a dodávky M | I95: =Q121 -> 0 | J95: =R121 -> 0 | K95: =K121 -> 0
D96: 21-M - Elektromontáže | I96: =Q122 -> 0 | J96: =R122 -> 0 | K96: =K122 -> 0
...
