Workbook

Sheet Rekapitulácia stavby
A1: Export Komplet | BA1: 2.0 | BT1: False | BU1: True | BV1: {e9ce35e2-6e54-41c1-8ff4-10f0213d1838}
AR2: >> skryté stĺpce << | BS2: 0,001 | BT2: 20
BS3: 0,001 | BT3: 20
D4: REKAPITULÁCIA STAVBY | AS4: v --- nižšie sa nachádzajú doplnkové a pomocné údaje k zostavám --- v | BG4: Návod na vyplnenie | BS4: 0,001
D5: Kód: | K5: 13062021/A | BG5: Meniť je možné iba bunky so žltým podfarbením!_x000D_ _x000D_ 1) na prvom liste Rekapitulácie stavby vyplňte v zostave_x000D_ _x000D_ a) Rekapitulácia stavby_x000D_ - údaje o Zhotoviteľovi_x000D_ (prenesú sa do ostatných zostáv aj v iných listoch)_x000D_ _x000D_ b) Rekapitulácia objektov stavby_x000D_ - potrebné Ostatné náklady_x000D_ _x000D_ 2) na vybraných listoch vyplňte v zostave_x000D_ _x000D_ a) Krycí list_x000D_ - údaje o Zhotoviteľovi, pokiaľ sa líšia od údajov o Zhotoviteľovi na Rekapitulácii stavby_x000D_ (údaje se prenesú do ostatných zostav v danom liste)_x000D_ _x000D_ b) Rekapitulácia rozpočtu_x000D_ - potrebné Ostatné náklady_x000D_ _x000D_ c) Celkové náklady za stavbu_x000D_ - ceny na položkách_x000D_ - množstvo, pokiaľ má žlté podfarbenie_x000D_ - a v prípade potreby poznámku (tá je v skrytom stĺpci) | BS5: 0,001
D6: Stavba: | K6: Rekonštrukcia cyklochodníka a jeho predĺženie do prímestskej RO Hubková | BS6: 0,001
D7: JKSO: | AK7: KS: | BS7: 0,001
D8: Miesto: | K8: Humenné | AK8: Dátum: | AN8: 29. 6. 2021 | BS8: 0,001
BS9: 0,001
D10: Objednávateľ: | AK10: IČO: | BS10: 0,001
E11: Mesto Humenné,Kukorelliho 34,066 28 Humenné | AK11: IČ DPH: | BS11: 0,001
BS12: 0,001
D13: Zhotoviteľ: | AK13: IČO: | AN13: Vyplň údaj | BS13: 0,001
E14: Vyplň údaj | AK14: IČ DPH: | AN14: Vyplň údaj | BS14: 0,001
BS15: False
D16: Projektant: | AK16: IČO: | BS16: False
AK17: IČ DPH: | BS17: True
BS18: 0,01
D19: Spracovateľ: | AK19: IČO: | BS19: 0,01
AK20: IČ DPH: | BS20: True
D22: Poznámka:
D26: Cena bez DPH | AK26: =ROUND(AG94,2) -> 0
L28: Sadzba dane | W28: Základ dane | AK28: Výška dane
D29: DPH | F29: základná | L29: 0.2 | W29: =ROUND(BB94, 2) -> 0 | AK29: =ROUND(AX94, 2) -> 0
F30: znížená | L30: 0.2 | W30: =ROUND(BC94, 2) -> 0 | AK30: =ROUND(AY94, 2) -> 0
F31: zákl. prenesená | L31: 0.2 | W31: =ROUND(BD94, 2) -> 0 | AK31: 0
F32: zníž. prenesená | L32: 0.2 | W32: =ROUND(BE94, 2) -> 0 | AK32: 0
F33: nulová | L33: 0 | W33: =ROUND(BF94, 2) -> 0 | AK33: 0
D35: Cena s DPH | T35: v | X35: EUR | AK35: =SUM(AK26:AK33) -> 0
D49: Projektant | AH49: Spracovateľ
D60: Dátum a podpis: | V60: Pečiatka | AH60: Dátum a podpis: | AM60: Pečiatka
D64: Objednávateľ | AH64: Zhotoviteľ
D75: Dátum a podpis: | V75: Pečiatka | AH75: Dátum a podpis: | AM75: Pečiatka
C82: REKAPITULÁCIA OBJEKTOV STAVBY
C84: Kód: | L84: =K5 -> 13062021/A
C85: Stavba: | L85: =K6 -> Rekonštrukcia cyklochodníka a jeho predĺženie do prímestskej RO Hubková
C87: Miesto: | L87: =IF(K8="","",K8) -> Humenné | AI87: Dátum: | AM87: =IF(AN8= "","",AN8) -> 29. 6. 2021
C89: Objednávateľ: | L89: =IF(E11= "","",E11) -> Mesto Humenné,Kukorelliho 34,066 28 Humenné | AI89: Projektant: | AM89: =IF(E17="","",E17) | AS89: Informatívne údaje z listov zákaziek
C90: Zhotoviteľ: | L90: =IF(E14= "Vyplň údaj","",E14) | AI90: Spracovateľ: | AM90: =IF(E20="","",E20)
C92: Kód | I92: Popis | AG92: Cena bez DPH [EUR] | AN92: Cena s DPH [EUR] | AQ92: Typ | AS92: z toho Materiál [EUR] | AT92: z toho Montáž [EUR] | AU92: z toho Ostat._x000D_ náklady [EUR] | AV92: DPH [EUR] | AW92: Normohodiny [h] | AX92: DPH základná [EUR] | AY92: DPH znížená [EUR] | AZ92: DPH základná prenesená_x000D_ [EUR] | BA92: DPH znížená prenesená_x000D_ [EUR] | BB92: Základňa_x000D_ DPH základná | BC92: Základňa_x000D_ DPH znížená | BD92: Základňa_x000D_ DPH zákl. prenesená | BE92: Základňa_x000D_ DPH zníž. prenesená | BF92: Základňa_x000D_ DPH nulová
C94: Náklady z rozpočtov | AG94: =ROUND(AG95,2) -> 0 | AN94: =SUM(AG94,AV94) -> 0 | AS94: =ROUND(AS95,2) -> 0 | AT94: =ROUND(AT95,2) -> 0 | AU94: =ROUND(AU95,2) -> 0 | AV94: =ROUND(SUM(AX94:AY94),2) -> 0 | AW94: =ROUND(AW95,5) -> 0 | AX94: =ROUND(BB94*L29,2) -> 0 | AY94: =ROUND(BC94*L30,2) -> 0 | AZ94: =ROUND(BD94*L29,2) -> 0 | BA94: =ROUND(BE94*L30,2) -> 0 | BB94: =ROUND(BB95,2) -> 0 | BC94: =ROUND(BC95,2) -> 0 | BD94: =ROUND(BD95,2) -> 0 | BE94: =ROUND(BE95,2) -> 0 | BF94: =ROUND(BF95,2) -> 0 | BS94: D | BT94: 0 | BV94: IMPORT | BW94: {e9ce35e2-6e54-41c1-8ff4-10f0213d1838} | BX94: {00000000-0000-0000-0000-000000000000}
A95: / | D95: 13062021/A | J95: Rekonštrukcia cyklochodníka a jeho predĺženie do prímestskej RO Hubková | AG95: ='13062021-A - Rekonštrukci...'!K30 -> 0 | AN95: =SUM(AG95,AV95) -> 0 | AQ95: STA | AS95: ='13062021-A - Rekonštrukci...'!K28 -> 0 | AT95: ='13062021-A - Rekonštrukci...'!K29 -> 0 | AU95: 0 | AV95: =ROUND(SUM(AX95:AY95),2) -> 0 | AW95: ='13062021-A - Rekonštrukci...'!T120 -> 0 | AX95: ='13062021-A - Rekonštrukci...'!K33 -> 0 | AY95: ='13062021-A - Rekonštrukci...'!K34 -> 0 | AZ95: ='13062021-A - Rekonštrukci...'!K35 -> 0 | BA95: ='13062021-A - Rekonštrukci...'!K36 -> 0 | BB95: ='13062021-A - Rekonštrukci...'!F33 -> 0 | BC95: ='13062021-A - Rekonštrukci...'!F34 -> 0 | BD95: ='13062021-A - Rekonštrukci...'!F35 -> 0 | BE95: ='13062021-A - Rekonštrukci...'!F36 -> 0 | BF95: ='13062021-A - Rekonštrukci...'!F37 -> 0 | BT95: 1 | BU95: ###NOINSERT### | BV95: IMPORT | BW95: {e9ce35e2-6e54-41c1-8ff4-10f0213d1838} | BX95: {00000000-0000-0000-0000-000000000000}

Sheet 13062021-A - Rekonštrukci...
M2: >> skryté stĺpce << | AT2: {e9ce35e2-6e54-41c1-8ff4-10f0213d1838}
AT3: 0
D4: KRYCÍ LIST ROZPOČTU | N4: v --- nižšie sa nachádzajú doplnkové a pomocné údaje k zostavám --- v | AT4: False
D6: Stavba:
E7: Rekonštrukcia cyklochodníka a jeho predĺženie do prímestskej RO Hubková
D9: JKSO: | I9: KS:
D10: Miesto: | F10: Humenné | I10: Dátum: | J10: ='Rekapitulácia stavby'!AN8 -> 29. 6. 2021
D12: Objednávateľ: | I12: IČO:
E13: Mesto Humenné,Kukorelliho 34,066 28 Humenné | I13: IČ DPH:
D15: Zhotoviteľ: | I15: IČO: | J15: ='Rekapitulácia stavby'!AN13 -> Vyplň údaj
E16: ='Rekapitulácia stavby'!E14 -> Vyplň údaj | I16: IČ DPH: | J16: ='Rekapitulácia stavby'!AN14 -> Vyplň údaj
D18: Projektant: | I18: IČO: | J18: =IF('Rekapitulácia stavby'!AN16="","",'Rekapitulácia stavby'!AN16)
E19: =IF('Rekapitulácia stavby'!E17="","",'Rekapitulácia stavby'!E17) | I19: IČ DPH: | J19: =IF('Rekapitulácia stavby'!AN17="","",'Rekapitulácia stavby'!AN17)
D21: Spracovateľ: | I21: IČO: | J21: =IF('Rekapitulácia stavby'!AN19="","",'Rekapitulácia stavby'!AN19)
E22: =IF('Rekapitulácia stavby'!E20="","",'Rekapitulácia stavby'!E20) | I22: IČ DPH: | J22: =IF('Rekapitulácia stavby'!AN20="","",'Rekapitulácia stavby'!AN20)
D24: Poznámka:
E28: Materiál | K28: =I94 -> 0
E29: Montáž | K29: =J94 -> 0
D30: Cena bez DPH | K30: =ROUND(K120, 2) -> 0
F32: Základ dane | I32: Sadzba dane | K32: Výška dane
D33: DPH | E33: základná | F33: =ROUND((SUM(BE120:BE175)), 2) -> 0 | I33: 0.2 | K33: =ROUND(((SUM(BE120:BE175))*I33), 2) -> 0
E34: znížená | F34: =ROUND((SUM(BF120:BF175)), 2) -> 0 | I34: 0.2 | K34: =ROUND(((SUM(BF120:BF175))*I34), 2) -> 0
E35: zákl. prenesená | F35: =ROUND((SUM(BG120:BG175)), 2) -> 0 | I35: 0.2 | K35: =0 -> 0
E36: zníž. prenesená | F36: =ROUND((SUM(BH120:BH175)), 2) -> 0 | I36: 0.2 | K36: =0 -> 0
E37: nulová | F37: =ROUND((SUM(BI120:BI175)), 2) -> 0 | I37: 0 | K37: =0 -> 0
D39: Cena s DPH | G39: v | H39: EUR | K39: =SUM(K30:K37) -> 0
D50: Projektant | G50: Spracovateľ
D61: Dátum a podpis: | F61: Pečiatka | G61: Dátum a podpis: | J61: Pečiatka
D65: Objednávateľ | G65: Zhotoviteľ
D76: Dátum a podpis: | F76: Pečiatka | G76: Dátum a podpis: | J76: Pečiatka
C82: REKAPITULÁCIA ROZPOČTU
C84: Stavba:
E85: =E7 -> Rekonštrukcia cyklochodníka a jeho predĺženie do prímestskej RO Hubková
C87: Miesto: | F87: =F10 -> Humenné | I87: Dátum: | J87: =IF(J10="","",J10) -> 29. 6. 2021
C89: Objednávateľ: | F89: =E13 -> Mesto Humenné,Kukorelliho 34,066 28 Humenné | I89: Projektant: | J89: =E19
C90: Zhotoviteľ: | F90: =IF(E16="","",E16) -> Vyplň údaj | I90: Spracovateľ: | J90: =E22
C92: Kód dielu - Popis | I92: Materiál [EUR] | J92: Montáž [EUR] | K92: Cena celkom [EUR]
C94: Náklady z rozpočtu | I94: =Q120 -> 0 | J94: =R120 -> 0 | K94: =K120 -> 0 | AU94: -1
D95: M - Práce a dodávky M | I95: =Q121 -> 0 | J95: =R121 -> 0 | K95: =K121 -> 0
D96: 21-M - Elektromontáže | I96: =Q122 -> 0 | J96: =R122 -> 0 | K96: =K122 -> 0
D97: 46-M - Zemné práce vykonávané pri externých montážnych prácach | I97: =Q147 -> 0 | J97: =R147 -> 0 | K97: =K147 -> 0
D98: HSV - Práce a dodávky HSV | I98: =Q159 -> 0 | J98: =R159 -> 0 | K98: =K159 -> 0
D99: 9 - Ostatné konštrukcie a práce-búranie | I99: =Q160 -> 0 | J99: =R160 -> 0 | K99: =K160 -> 0
D100: HZS - Hodinové zúčtovacie sadzby | I100: =Q164 -> 0 | J100: =R164 -> 0 | K100: =K164 -> 0
D101: 95-M - Revízie | I101: =Q168 -> 0 | J101: =R168 -> 0 | K101: =K168 -> 0
D102: VRN - Vedľajšie rozpočtové náklady | I102: =Q171 -> 0 | J102: =R171 -> 0 | K102: =K171 -> 0
C109: ROZPOČET
C111: Stavba:
E112: =E7 -> Rekonštrukcia cyklochodníka a jeho predĺženie do prímestskej RO Hubková
C114: Miesto: | F114: =F10 -> Humenné | I114: Dátum: | J114: =IF(J10="","",J10) -> 29. 6. 2021
C116: Objednávateľ: | F116: =E13 -> Mesto Humenné,Kukorelliho 34,066 28 Humenné | I116: Projektant: | J116: =E19
C117: Zhotoviteľ: | F117: =IF(E16="","",E16) -> Vyplň údaj | I117: Spracovateľ: | J117: =E22
C119: PČ | D119: Typ | E119: Kód | F119: Popis | G119: MJ | H119: Množstvo | I119: J. materiál [EUR] | J119: J. montáž [EUR] | K119: Cena celkom [EUR] | L119: Cenová sústava | O119: DPH | P119: J.cena [EUR] | Q119: Materiál celkom [EUR] | R119: Montáž celkom [EUR] | S119: J. Nh [h] | T119: Nh celkom [h] | U119: J. hmotnosť [t] | V119: Hmotnosť celkom [t] | W119: J. suť [t] | X119: Suť Celkom [t]
C120: Náklady z rozpočtu | K120: =BK120 -> 0 | Q120: =Q121+Q159+Q164+Q171 -> 0 | R120: =R121+R159+R164+R171 -> 0 | T120: =T121+T159+T164+T171 -> 0 | V120: =V121+V159+V164+V171 -> 21.9957 | X120: =X121+X159+X164+X171 -> 0 | AT120: D | AU120: -1 | BK120: =BK121+BK159+BK164+BK171 -> 0
D121: D | E121: M | F121: Práce a dodávky M | K121: =BK121 -> 0 | Q121: =Q122+Q147 -> 0 | R121: =R122+R147 -> 0 | T121: =T122+T147 -> 0 | V121: =V122+V147 -> 21.9836 | X121: =X122+X147 -> 0 | AR121: 3 | AT121: D | AU121: 0 | AY121: ROZPOCET | BK121: =BK122+BK147 -> 0
D122: D | E122: 21-M | F122: Elektromontáže | K122: =BK122 -> 0 | Q122: =SUM(Q123:Q146) -> 0 | R122: =SUM(R123:R146) -> 0 | T122: =SUM(T123:T146) -> 0 | V122: =SUM(V123:V146) -> 4.37714 | X122: =SUM(X123:X146) -> 0 | AR122: 3 | AT122: D | AU122: 1 | AY122: ROZPOCET | BK122: =SUM(BK123:BK146) -> 0
C123: 1 | D123: K | E123: 210902461.S | F123: Kábel hliníkový silový, uložený pevne NAYY 0,6/1 kV 4x16 pre vonkajšie práce | G123: m | H123: 1202 | K123: =ROUND(P123*H123,3) -> 0 | O123: znížená | P123: =I123+J123 -> 0 | Q123: =ROUND(I123*H123,3) -> 0 | R123: =ROUND(J123*H123,3) -> 0 | T123: =S123*H123 -> 0 | U123: 0 | V123: =U123*H123 -> 0 | W123: 0 | X123: =W123*H123 -> 0 | AR123: 64 | AT123: K | AU123: 2 | AY123: ROZPOCET | BE123: =IF(O123="základná",K123,0) -> 0 | BF123: =IF(O123="znížená",K123,0) -> 0 | BG123: =IF(O123="zákl. prenesená",K123,0) -> 0 | BH123: =IF(O123="zníž. prenesená",K123,0) -> 0 | BI123: =IF(O123="nulová",K123,0) -> 0 | BJ123: 2 | BK123: =ROUND(P123*H123,3) -> 0 | BL123: 64 | BM123: 151248993
C124: 2 | D124: M | E124: 341110033900.S | F124: Kábel hliníkový NAYY 4x16 RE mm2 | G124: m | H124: 1202 | K124: =ROUND(P124*H124,3) -> 0 | O124: znížená | P124: =I124+J124 -> 0 | Q124: =ROUND(I124*H124,3) -> 0 | R124: =ROUND(J124*H124,3) -> 0 | T124: =S124*H124 -> 0 | U124: 0.00096 | V124: =U124*H124 -> 1.15392 | W124: 0 | X124: =W124*H124 -> 0 | AR124: 128 | AT124: M | AU124: 2 | AY124: ROZPOCET | BE124: =IF(O124="základná",K124,0) -> 0 | BF124: =IF(O124="znížená",K124,0) -> 0 | BG124: =IF(O124="zákl. prenesená",K124,0) -> 0 | BH124: =IF(O124="zníž. prenesená",K124,0) -> 0 | BI124: =IF(O124="nulová",K124,0) -> 0 | BJ124: 2 | BK124: =ROUND(P124*H124,3) -> 0 | BL124: 128 | BM124: 895730391
C125: 3 | D125: K | E125: 210204002.S | F125: Osvetľovací stožiar sadový - oceľový | G125: ks | H125: 40 | K125: =ROUND(P125*H125,3) -> 0 | O125: znížená | P125: =I125+J125 -> 0 | Q125: =ROUND(I125*H125,3) -> 0 | R125: =ROUND(J125*H125,3) -> 0 | T125: =S125*H125 -> 0 | U125: 0 | V125: =U125*H125 -> 0 | W125: 0 | X125: =W125*H125 -> 0 | AR125: 64 | AT125: K | AU125: 2 | AY125: ROZPOCET | BE125: =IF(O125="základná",K125,0) -> 0 | BF125: =IF(O125="znížená",K125,0) -> 0 | BG125: =IF(O125="zákl. prenesená",K125,0) -> 0 | BH125: =IF(O125="zníž. prenesená",K125,0) -> 0 | BI125: =IF(O125="nulová",K125,0) -> 0 | BJ125: 2 | BK125: =ROUND(P125*H125,3) -> 0 | BL125: 64 | BM125: 276306609
C126: 4 | D126: M | E126: M210204002.S1 | F126: Osvetľovací rúrový stožiar STB 5m | G126: ks | H126: 40 | K126: =ROUND(P126*H126,3) -> 0 | O126: znížená | P126: =I126+J126 -> 0 | Q126: =ROUND(I126*H126,3) -> 0 | R126: =ROUND(J126*H126,3) -> 0 | T126: =S126*H126 -> 0 | U126: 0 | V126: =U126*H126 -> 0 | W126: 0 | X126: =W126*H126 -> 0 | AR126: 256 | AT126: M | AU126: 2 | AY126: ROZPOCET | BE126: =IF(O126="základná",K126,0) -> 0 | BF126: =IF(O126="znížená",K126,0) -> 0 | BG126: =IF(O126="zákl. prenesená",K126,0) -> 0 | BH126: =IF(O126="zníž. prenesená",K126,0) -> 0 | BI126: =IF(O126="nulová",K126,0) -> 0 | BJ126: 2 | BK126: =ROUND(P126*H126,3) -> 0 | BL126: 64 | BM126: 1194440526
C127: 5 | D127: K | E127: 210201871.S | F127: Montáž základového roštu pre uličné svietidlá 5-12m | G127: ks | H127: 40 | K127: =ROUND(P127*H127,3) -> 0 | O127: znížená | P127: =I127+J127 -> 0 | Q127: =ROUND(I127*H127,3) -> 0 | R127: =ROUND(J127*H127,3) -> 0 | T127: =S127*H127 -> 0 | U127: 0 | V127: =U127*H127 -> 0 | W127: 0 | X127: =W127*H127 -> 0 | AR127: 64 | AT127: K | AU127: 2 | AY127: ROZPOCET | BE127: =IF(O127="základná",K127,0) -> 0 | BF127: =IF(O127="znížená",K127,0) -> 0 | BG127: =IF(O127="zákl. prenesená",K127,0) -> 0 | BH127: =IF(O127="zníž. prenesená",K127,0) -> 0 | BI127: =IF(O127="nulová",K127,0) -> 0 | BJ127: 2 | BK127: =ROUND(P127*H127,3) -> 0 | BL127: 64 | BM127: 156896707
C128: 6 | D128: M | E128: 348370004600.S | F128: Rošt základový ZR pre stožiar výšky 5-12 m | G128: ks | H128: 40 | K128: =ROUND(P128*H128,3) -> 0 | O128: znížená | P128: =I128+J128 -> 0 | Q128: =ROUND(I128*H128,3) -> 0 | R128: =ROUND(J128*H128,3) -> 0 | T128: =S128*H128 -> 0 | U128: 0.05 | V128: =U128*H128 -> 2 | W128: 0 | X128: =W128*H128 -> 0 | AR128: 128 | AT128: M | AU128: 2 | AY128: ROZPOCET | BE128: =IF(O128="základná",K128,0) -> 0 | BF128: =IF(O128="znížená",K128,0) -> 0 | BG128: =IF(O128="zákl. prenesená",K128,0) -> 0 | BH128: =IF(O128="zníž. prenesená",K128,0) -> 0 | BI128: =IF(O128="nulová",K128,0) -> 0 | BJ128: 2 | BK128: =ROUND(P128*H128,3) -> 0 | BL128: 128 | BM128: -232072910
C129: 7 | D129: K | E129: 210201441.S | F129: Montáž výložníka pre parkové a záhradné svietidlá | G129: ks | H129: 40 | K129: =ROUND(P129*H129,3) -> 0 | O129: znížená | P129: =I129+J129 -> 0 | Q129: =ROUND(I129*H129,3) -> 0 | R129: =ROUND(J129*H129,3) -> 0 | T129: =S129*H129 -> 0 | U129: 0 | V129: =U129*H129 -> 0 | W129: 0 | X129: =W129*H129 -> 0 | AR129: 64 | AT129: K | AU129: 2 | AY129: ROZPOCET | BE129: =IF(O129="základná",K129,0) -> 0 | BF129: =IF(O129="znížená",K129,0) -> 0 | BG129: =IF(O129="zákl. prenesená",K129,0) -> 0 | BH129: =IF(O129="zníž. prenesená",K129,0) -> 0 | BI129: =IF(O129="nulová",K129,0) -> 0 | BJ129: 2 | BK129: =ROUND(P129*H129,3) -> 0 | BL129: 64 | BM129: 1648823791
C130: 8 | D130: M | E130: 3483700018000.S1 | F130: Výložník 30cm | G130: ks | H130: 40 | K130: =ROUND(P130*H130,3) -> 0 | O130: znížená | P130: =I130+J130 -> 0 | Q130: =ROUND(I130*H130,3) -> 0 | R130: =ROUND(J130*H130,3) -> 0 | T130: =S130*H130 -> 0 | U130: 0.0009 | V130: =U130*H130 -> 0.036 | W130: 0 | X130: =W130*H130 -> 0 | AR130: 128 | AT130: M | AU130: 2 | AY130: ROZPOCET | BE130: =IF(O130="základná",K130,0) -> 0 | BF130: =IF(O130="znížená",K130,0) -> 0 | BG130: =IF(O130="zákl. prenesená",K130,0) -> 0 | BH130: =IF(O130="zníž. prenesená",K130,0) -> 0 | BI130: =IF(O130="nulová",K130,0) -> 0 | BJ130: 2 | BK130: =ROUND(P130*H130,3) -> 0 | BL130: 128 | BM130: 980631768
C131: 9 | D131: K | E131: 210201430.S | F131: Zapojenie svietidla 1x svetelný zdroj, parkového a záhradného na stĺp LED | G131: ks | H131: 40 | K131: =ROUND(P131*H131,3) -> 0 | O131: znížená | P131: =I131+J131 -> 0 | Q131: =ROUND(I131*H131,3) -> 0 | R131: =ROUND(J131*H131,3) -> 0 | T131: =S131*H131 -> 0 | U131: 0 | V131: =U131*H131 -> 0 | W131: 0 | X131: =W131*H131 -> 0 | AR131: 64 | AT131: K | AU131: 2 | AY131: ROZPOCET | BE131: =IF(O131="základná",K131,0) -> 0 | BF131: =IF(O131="znížená",K131,0) -> 0 | BG131: =IF(O131="zákl. prenesená",K131,0) -> 0 | BH131: =IF(O131="zníž. prenesená",K131,0) -> 0 | BI131: =IF(O131="nulová",K131,0) -> 0 | BJ131: 2 | BK131: =ROUND(P131*H131,3) -> 0 | BL131: 64 | BM131: 632332522
C132: 10 | D132: M | E132: 3483700005000.S1 | F132: Svietidlo vonkajšie parkové LED na stĺp 1x25W, 155LM/W,3875LM, 5000K,prep. ochr. 10kV,IP 66,IK 09,100-240 VAC,50/60 Hz | G132: ks | H132: 40 | K132: =ROUND(P132*H132,3) -> 0 | O132: znížená | P132: =I132+J132 -> 0 | Q132: =ROUND(I132*H132,3) -> 0 | R132: =ROUND(J132*H132,3) -> 0 | T132: =S132*H132 -> 0 | U132: 0.0018 | V132: =U132*H132 -> 0.072 | W132: 0 | X132: =W132*H132 -> 0 | AR132: 128 | AT132: M | AU132: 2 | AY132: ROZPOCET | BE132: =IF(O132="základná",K132,0) -> 0 | BF132: =IF(O132="znížená",K132,0) -> 0 | BG132: =IF(O132="zákl. prenesená",K132,0) -> 0 | BH132: =IF(O132="zníž. prenesená",K132,0) -> 0 | BI132: =IF(O132="nulová",K132,0) -> 0 | BJ132: 2 | BK132: =ROUND(P132*H132,3) -> 0 | BL132: 128 | BM132: 505042199
C133: 11 | D133: K | E133: 210800146.S | F133: Kábel medený uložený pevne CYKY 450/750 V 3x1,5 | G133: m | H133: 336 | K133: =ROUND(P133*H133,3) -> 0 | O133: znížená | P133: =I133+J133 -> 0 | Q133: =ROUND(I133*H133,3) -> 0 | R133: =ROUND(J133*H133,3) -> 0 | T133: =S133*H133 -> 0 | U133: 0 | V133: =U133*H133 -> 0 | W133: 0 | X133: =W133*H133 -> 0 | AR133: 64 | AT133: K | AU133: 2 | AY133: ROZPOCET | BE133: =IF(O133="základná",K133,0) -> 0 | BF133: =IF(O133="znížená",K133,0) -> 0 | BG133: =IF(O133="zákl. prenesená",K133,0) -> 0 | BH133: =IF(O133="zníž. prenesená",K133,0) -> 0 | BI133: =IF(O133="nulová",K133,0) -> 0 | BJ133: 2 | BK133: =ROUND(P133*H133,3) -> 0 | BL133: 64 | BM133: 786148028
C134: 12 | D134: M | E134: 341110000700.S | F134: Kábel medený CYKY 3x1,5 mm2 | G134: m | H134: 336 | K134: =ROUND(P134*H134,3) -> 0 | O134: znížená | P134: =I134+J134 -> 0 | Q134: =ROUND(I134*H134,3) -> 0 | R134: =ROUND(J134*H134,3) -> 0 | T134: =S134*H134 -> 0 | U134: 0.00014 | V134: =U134*H134 -> 0.04704 | W134: 0 | X134: =W134*H134 -> 0 | AR134: 128 | AT134: M | AU134: 2 | AY134: ROZPOCET | BE134: =IF(O134="základná",K134,0) -> 0 | BF134: =IF(O134="znížená",K134,0) -> 0 | BG134: =IF(O134="zákl. prenesená",K134,0) -> 0 | BH134: =IF(O134="zníž. prenesená",K134,0) -> 0 | BI134: =IF(O134="nulová",K134,0) -> 0 | BJ134: 2 | BK134: =ROUND(P134*H134,3) -> 0 | BL134: 128 | BM134: -703061299
... C142: 20 | D142: M | E142: 354410054800.S | F142: Drôt bleskozvodový FeZn, d 10 mm | G142: kg | H142: 674 | K142: =ROUND(P142*H142,3) -> 0 | O142: znížená | P142: =I142+J142 -> 0 | Q142: =ROUND(I142*H142,3) -> 0 | R142: =ROUND(J142*H142,3) -> 0 | T142: =S142*H142 -> 0 | U142: 0.001 | V142: =U142*H142 -> 0.674 | W142: 0 | X142: =W142*H142 -> 0 | AR142: 128 | AT142: M | AU142: 2 | AY142: ROZPOCET | BE142: =IF(O142="základná",K142,0) -> 0 | BF142: =IF(O142="znížená",K142,0) -> 0 | BG142: =IF(O142="zákl. prenesená",K142,0) -> 0 | BH142: =IF(O142="zníž. prenesená",K142,0) -> 0 | BI142: =IF(O142="nulová",K142,0) -> 0 | BJ142: 2 | BK142: =ROUND(P142*H142,3) -> 0 | BL142: 128 | BM142: -911446713
D143: VV | F143: 1078,4*0,625 'Prepočítané koeficientom množstva | H143: 674 | AT143: VV | AU143: 2 | AV143: 2 | AW143: False | AX143: 1 | AY143: ROZPOCET
C144: 21 | D144: M | E144: 354410068000.S | F144: Oko káblové lisované AL kruhové 16/i | G144: ks | H144: 40 | K144: =ROUND(P144*H144,3) -> 0 | O144: znížená | P144: =I144+J144 -> 0 | Q144: =ROUND(I144*H144,3) -> 0 | R144: =ROUND(J144*H144,3) -> 0 | T144: =S144*H144 -> 0 | U144: 1e-05 | V144: =U144*H144 -> 0.0004 | W144: 0 | X144: =W144*H144 -> 0 | AR144: 128 | AT144: M | AU144: 2 | AY144: ROZPOCET | BE144: =IF(O144="základná",K144,0) -> 0 | BF144: =IF(O144="znížená",K144,0) -> 0 | BG144: =IF(O144="zákl. prenesená",K144,0) -> 0 | BH144: =IF(O144="zníž. prenesená",K144,0) -> 0 | BI144: =IF(O144="nulová",K144,0) -> 0 | BJ144: 2 | BK144: =ROUND(P144*H144,3) -> 0 | BL144: 128 | BM144: 898582458
C145: 22 | D145: K | E145: 210220443.S | F145: Svorka ECu 57F25 uzemňovacia SR03 | G145: ks | H145: 104 | K145: =ROUND(P145*H145,3) -> 0 | O145: znížená | P145: =I145+J145 -> 0 | Q145: =ROUND(I145*H145,3) -> 0 | R145: =ROUND(J145*H145,3) -> 0 | T145: =S145*H145 -> 0 | U145: 0 | V145: =U145*H145 -> 0 | W145: 0 | X145: =W145*H145 -> 0 | AR145: 64 | AT145: K | AU145: 2 | AY145: ROZPOCET | BE145: =IF(O145="základná",K145,0) -> 0 | BF145: =IF(O145="znížená",K145,0) -> 0 | BG145: =IF(O145="zákl. prenesená",K145,0) -> 0 | BH145: =IF(O145="zníž. prenesená",K145,0) -> 0 | BI145: =IF(O145="nulová",K145,0) -> 0 | BJ145: 2 | BK145: =ROUND(P145*H145,3) -> 0 | BL145: 64 | BM145: 1029678851
C146: 23 | D146: M | E146: 354410000900.S | F146: Svorka FeZn uzemňovacia označenie SR 03 | G146: ks | H146: 104 | K146: =ROUND(P146*H146,3) -> 0 | O146: znížená | P146: =I146+J146 -> 0 | Q146: =ROUND(I146*H146,3) -> 0 | R146: =ROUND(J146*H146,3) -> 0 | T146: =S146*H146 -> 0 | U146: 0.00021 | V146: =U146*H146 -> 0.02184 | W146: 0 | X146: =W146*H146 -> 0 | AR146: 128 | AT146: M | AU146: 2 | AY146: ROZPOCET | BE146: =IF(O146="základná",K146,0) -> 0 | BF146: =IF(O146="znížená",K146,0) -> 0 | BG146: =IF(O146="zákl. prenesená",K146,0) -> 0 | BH146: =IF(O146="zníž. prenesená",K146,0) -> 0 | BI146: =IF(O146="nulová",K146,0) -> 0 | BJ146: 2 | BK146: =ROUND(P146*H146,3) -> 0 | BL146: 128 | BM146: -1683218960
D147: D | E147: 46-M | F147: Zemné práce vykonávané pri externých montážnych prácach | K147: =BK147 -> 0 | Q147: =SUM(Q148:Q158) -> 0 | R147: =SUM(R148:R158) -> 0 | T147: =SUM(T148:T158) -> 0 | V147: =SUM(V148:V158) -> 17.60646 | X147: =SUM(X148:X158) -> 0 | AR147: 3 | AT147: D | AU147: 1 | AY147: ROZPOCET | BK147: =SUM(BK148:BK158) -> 0
C148: 24 | D148: K | E148: 210204122.S | F148: Stožiarová pätka betónová | G148: ks | H148: 40 | K148: =ROUND(P148*H148,3) -> 0 | O148: znížená | P148: =I148+J148 -> 0 | Q148: =ROUND(I148*H148,3) -> 0 | R148: =ROUND(J148*H148,3) -> 0 | T148: =S148*H148 -> 0 | U148: 0 | V148: =U148*H148 -> 0 | W148: 0 | X148: =W148*H148 -> 0 | AR148: 64 | AT148: K | AU148: 2 | AY148: ROZPOCET | BE148: =IF(O148="základná",K148,0) -> 0 | BF148: =IF(O148="znížená",K148,0) -> 0 | BG148: =IF(O148="zákl. prenesená",K148,0) -> 0 | BH148: =IF(O148="zníž. prenesená",K148,0) -> 0 | BI148: =IF(O148="nulová",K148,0) -> 0 | BJ148: 2 | BK148: =ROUND(P148*H148,3) -> 0 | BL148: 64 | BM148: 1231763762
C149: 25 | D149: M | E149: 589310003500.S | F149: Betón STN EN 206-1-C 16/20 z cementu portlandského | G149: m3 | H149: 8 | K149: =ROUND(P149*H149,3) -> 0 | O149: znížená | P149: =I149+J149 -> 0 | Q149: =ROUND(I149*H149,3) -> 0 | R149: =ROUND(J149*H149,3) -> 0 | T149: =S149*H149 -> 0 | U149: 2.17135 | V149: =U149*H149 -> 17.3708 | W149: 0 | X149: =W149*H149 -> 0 | AR149: 128 | AT149: M | AU149: 2 | AY149: ROZPOCET | BE149: =IF(O149="základná",K149,0) -> 0 | BF149: =IF(O149="znížená",K149,0) -> 0 | BG149: =IF(O149="zákl. prenesená",K149,0) -> 0 | BH149: =IF(O149="zníž. prenesená",K149,0) -> 0 | BI149: =IF(O149="nulová",K149,0) -> 0 | BJ149: 2 | BK149: =ROUND(P149*H149,3) -> 0 | BL149: 128 | BM149: 212344905
C150: 26 | D150: K | E150: 460050713.S | F150: Výkop jamy pre stožiar verejného osvetlenia do 2 m3 vrátane, strojový výkop v zemina triedy 3 | G150: m3 | H150: 8 | K150: =ROUND(P150*H150,3) -> 0 | O150: znížená | P150: =I150+J150 -> 0 | Q150: =ROUND(I150*H150,3) -> 0 | R150: =ROUND(J150*H150,3) -> 0 | T150: =S150*H150 -> 0 | U150: 0 | V150: =U150*H150 -> 0 | W150: 0 | X150: =W150*H150 -> 0 | AR150: 64 | AT150: K | AU150: 2 | AY150: ROZPOCET | BE150: =IF(O150="základná",K150,0) -> 0 | BF150: =IF(O150="znížená",K150,0) -> 0 | BG150: =IF(O150="zákl. prenesená",K150,0) -> 0 | BH150: =IF(O150="zníž. prenesená",K150,0) -> 0 | BI150: =IF(O150="nulová",K150,0) -> 0 | BJ150: 2 | BK150: =ROUND(P150*H150,3) -> 0 | BL150: 64 | BM150: 508527249
C151: 27 | D151: K | E151: 275351215.S | F151: Debnenie stien základových pätiek, zhotovenie-dielce | G151: m2 | H151: 22 | K151: =ROUND(P151*H151,3) -> 0 | O151: znížená | P151: =I151+J151 -> 0 | Q151: =ROUND(I151*H151,3) -> 0 | R151: =ROUND(J151*H151,3) -> 0 | T151: =S151*H151 -> 0 | U151: 0.00067 | V151: =U151*H151 -> 0.01474 | W151: 0 | X151: =W151*H151 -> 0 | AR151: 4 | AT151: K | AU151: 2 | AY151: ROZPOCET | BE151: =IF(O151="základná",K151,0) -> 0 | BF151: =IF(O151="znížená",K151,0) -> 0 | BG151: =IF(O151="zákl. prenesená",K151,0) -> 0 | BH151: =IF(O151="zníž. prenesená",K151,0) -> 0 | BI151: =IF(O151="nulová",K151,0) -> 0 | BJ151: 2 | BK151: =ROUND(P151*H151,3) -> 0 | BL151: 4 | BM151: 1477397402
C152: 28 | D152: K | E152: 275351216.S | F152: Debnenie stien základovýcb pätiek, odstránenie-dielce | G152: m2 | H152: 22 | K152: =ROUND(P152*H152,3) -> 0 | O152: znížená | P152: =I152+J152 -> 0 | Q152: =ROUND(I152*H152,3) -> 0 | R152: =ROUND(J152*H152,3) -> 0 | T152: =S152*H152 -> 0 | U152: 0 | V152: =U152*H152 -> 0 | W152: 0 | X152: =W152*H152 -> 0 | AR152: 4 | AT152: K | AU152: 2 | AY152: ROZPOCET | BE152: =IF(O152="základná",K152,0) -> 0 | BF152: =IF(O152="znížená",K152,0) -> 0 | BG152: =IF(O152="zákl. prenesená",K152,0) -> 0 | BH152: =IF(O152="zníž. prenesená",K152,0) -> 0 | BI152: =IF(O152="nulová",K152,0) -> 0 | BJ152: 2 | BK152: =ROUND(P152*H152,3) -> 0 | BL152: 4 | BM152: 817396928
C153: 29 | D153: K | E153: 141720011.S | F153: Neriadené zemné pretláčanie v hornine tr. 3-4, priemer pretláčania do 50 mm | G153: m | H153: 5 | K153: =ROUND(P153*H153,3) -> 0 | O153: znížená | P153: =I153+J153 -> 0 | Q153: =ROUND(I153*H153,3) -> 0 | R153: =ROUND(J153*H153,3) -> 0 | T153: =S153*H153 -> 0 | U153: 0 | V153: =U153*H153 -> 0 | W153: 0 | X153: =W153*H153 -> 0 | AR153: 4 | AT153: K | AU153: 2 | AY153: ROZPOCET | BE153: =IF(O153="základná",K153,0) -> 0 | BF153: =IF(O153="znížená",K153,0) -> 0 | BG153: =IF(O153="zákl. prenesená",K153,0) -> 0 | BH153: =IF(O153="zníž. prenesená",K153,0) -> 0 | BI153: =IF(O153="nulová",K153,0) -> 0 | BJ153: 2 | BK153: =ROUND(P153*H153,3) -> 0 | BL153: 4 | BM153: 99659233
C154: 30 | D154: K | E154: 460202163.S | F154: Hĺbenie káblovej ryhy strojne 35 cm širokej a 80 cm hlbokej, v zemine triedy 3 | G154: m | H154: 1052 | K154: =ROUND(P154*H154,3) -> 0 | O154: znížená | P154: =I154+J154 -> 0 | Q154: =ROUND(I154*H154,3) -> 0 | R154: =ROUND(J154*H154,3) -> 0 | T154: =S154*H154 -> 0 | U154: 0 | V154: =U154*H154 -> 0 | W154: 0 | X154: =W154*H154 -> 0 | AR154: 64 | AT154: K | AU154: 2 | AY154: ROZPOCET | BE154: =IF(O154="základná",K154,0) -> 0 | BF154: =IF(O154="znížená",K154,0) -> 0 | BG154: =IF(O154="zákl. prenesená",K154,0) -> 0 | BH154: =IF(O154="zníž. prenesená",K154,0) -> 0 | BI154: =IF(O154="nulová",K154,0) -> 0 | BJ154: 2 | BK154: =ROUND(P154*H154,3) -> 0 | BL154: 64 | BM154: 2102361406
C155: 31 | D155: K | E155: 460490012.S | F155: Rozvinutie a uloženie výstražnej fólie z PE do ryhy, šírka do 33 cm | G155: m | H155: 1052 | K155: =ROUND(P155*H155,3) -> 0 | O155: znížená | P155: =I155+J155 -> 0 | Q155: =ROUND(I155*H155,3) -> 0 | R155: =ROUND(J155*H155,3) -> 0 | T155: =S155*H155 -> 0 | U155: 0 | V155: =U155*H155 -> 0 | W155: 0 | X155: =W155*H155 -> 0 | AR155: 64 | AT155: K | AU155: 2 | AY155: ROZPOCET | BE155: =IF(O155="základná",K155,0) -> 0 | BF155: =IF(O155="znížená",K155,0) -> 0 | BG155: =IF(O155="zákl. prenesená",K155,0) -> 0 | BH155: =IF(O155="zníž. prenesená",K155,0) -> 0 | BI155: =IF(O155="nulová",K155,0) -> 0 | BJ155: 2 | BK155: =ROUND(P155*H155,3) -> 0 | BL155: 64 | BM155: -1353183924
C156: 32 | D156: M | E156: 283230008000 | F156: Výstražná fóla PE, šxhr 300x0,08 mm, dĺ. 250 m, farba červená, HAGARD | G156: m | H156: 1052 | K156: =ROUND(P156*H156,3) -> 0 | O156: znížená | P156: =I156+J156 -> 0 | Q156: =ROUND(I156*H156,3) -> 0 | R156: =ROUND(J156*H156,3) -> 0 | T156: =S156*H156 -> 0 | U156: 0.00021 | V156: =U156*H156 -> 0.22092 | W156: 0 | X156: =W156*H156 -> 0 | AR156: 128 | AT156: M | AU156: 2 | AY156: ROZPOCET | BE156: =IF(O156="základná",K156,0) -> 0 | BF156: =IF(O156="znížená",K156,0) -> 0 | BG156: =IF(O156="zákl. prenesená",K156,0) -> 0 | BH156: =IF(O156="zníž. prenesená",K156,0) -> 0 | BI156: =IF(O156="nulová",K156,0) -> 0 | BJ156: 2 | BK156: =ROUND(P156*H156,3) -> 0 | BL156: 128 | BM156: 843812381
C157: 33 | D157: K | E157: 460560163.S | F157: Zásyp nezap. káblovej ryhy bez zhutn. zeminy, 35 cm širokej, 80 cm hlbokej v zemine tr. 3 | G157: m | H157: 1052 | K157: =ROUND(P157*H157,3) -> 0 | O157: znížená | P157: =I157+J157 -> 0 | Q157: =ROUND(I157*H157,3) -> 0 | R157: =ROUND(J157*H157,3) -> 0 | T157: =S157*H157 -> 0 | U157: 0 | V157: =U157*H157 -> 0 | W157: 0 | X157: =W157*H157 -> 0 | AR157: 64 | AT157: K | AU157: 2 | AY157: ROZPOCET | BE157: =IF(O157="základná",K157,0) -> 0 | BF157: =IF(O157="znížená",K157,0) -> 0 | BG157: =IF(O157="zákl. prenesená",K157,0) -> 0 | BH157: =IF(O157="zníž. prenesená",K157,0) -> 0 | BI157: =IF(O157="nulová",K157,0) -> 0 | BJ157: 2 | BK157: =ROUND(P157*H157,3) -> 0 | BL157: 64 | BM157: -1027341156
C158: 34 | D158: K | E158: 460620013.S | F158: Proviz. úprava terénu v zemine tr. 3, aby nerovnosti terénu neboli väčšie ako 2 cm od vodor.hladiny | G158: m2 | H158: 350 | K158: =ROUND(P158*H158,3) -> 0 | O158: znížená | P158: =I158+J158 -> 0 | Q158: =ROUND(I158*H158,3) -> 0 | R158: =ROUND(J158*H158,3) -> 0 | T158: =S158*H158 -> 0 | U158: 0 | V158: =U158*H158 -> 0 | W158: 0 | X158: =W158*H158 -> 0 | AR158: 64 | AT158: K | AU158: 2 | AY158: ROZPOCET | BE158: =IF(O158="základná",K158,0) -> 0 | BF158: =IF(O158="znížená",K158,0) -> 0 | BG158: =IF(O158="zákl. prenesená",K158,0) -> 0 | BH158: =IF(O158="zníž. prenesená",K158,0) -> 0 | BI158: =IF(O158="nulová",K158,0) -> 0 | BJ158: 2 | BK158: =ROUND(P158*H158,3) -> 0 | BL158: 64 | BM158: 2002849532
D159: D | E159: HSV | F159: Práce a dodávky HSV | K159: =BK159 -> 0 | Q159: =Q160 -> 0 | R159: =R160 -> 0 | T159: =T160 -> 0 | V159: =V160 -> 0 | X159: =X160 -> 0 | AR159: 1 | AT159: D | AU159: 0 | AY159: ROZPOCET | BK159: =BK160 -> 0
D160: D | E160: 9 | F160: Ostatné konštrukcie a práce-búranie | K160: =BK160 -> 0 | Q160: =SUM(Q161:Q163) -> 0 | R160: =SUM(R161:R163) -> 0 | T160: =SUM(T161:T163) -> 0 | V160: =SUM(V161:V163) -> 0 | X160: =SUM(X161:X163) -> 0 | AR160: 1 | AT160: D | AU160: 1 | AY160: ROZPOCET | BK160: =SUM(BK161:BK163) -> 0
C161: 35 | D161: K | E161: 210962068.S | F161: Demontáž stožiara osvetľovacieho | G161: ks | H161: 24 | K161: =ROUND(P161*H161,3) -> 0 | O161: znížená | P161: =I161+J161 -> 0 | Q161: =ROUND(I161*H161,3) -> 0 | R161: =ROUND(J161*H161,3) -> 0 | T161: =S161*H161 -> 0 | U161: 0 | V161: =U161*H161 -> 0 | W161: 0 | X161: =W161*H161 -> 0 | AR161: 64 | AT161: K | AU161: 2 | AY161: ROZPOCET | BE161: =IF(O161="základná",K161,0) -> 0 | BF161: =IF(O161="znížená",K161,0) -> 0 | BG161: =IF(O161="zákl. prenesená",K161,0) -> 0 | BH161: =IF(O161="zníž. prenesená",K161,0) -> 0 | BI161: =IF(O161="nulová",K161,0) -> 0 | BJ161: 2 | BK161: =ROUND(P161*H161,3) -> 0 | BL161: 64 | BM161: 1370553846
C162: 36 | D162: K | E162: 979081111.S | F162: Odvoz sutiny a vybúraných hmôt na skládku | G162: t | H162: 36 | K162: =ROUND(P162*H162,3) -> 0 | O162: znížená | P162: =I162+J162 -> 0 | Q162: =ROUND(I162*H162,3) -> 0 | R162: =ROUND(J162*H162,3) -> 0 | T162: =S162*H162 -> 0 | U162: 0 | V162: =U162*H162 -> 0 | W162: 0 | X162: =W162*H162 -> 0 | AR162: 4 | AT162: K | AU162: 2 | AY162: ROZPOCET | BE162: =IF(O162="základná",K162,0) -> 0 | BF162: =IF(O162="znížená",K162,0) -> 0 | BG162: =IF(O162="zákl. prenesená",K162,0) -> 0 | BH162: =IF(O162="zníž. prenesená",K162,0) -> 0 | BI162: =IF(O162="nulová",K162,0) -> 0 | BJ162: 2 | BK162: =ROUND(P162*H162,3) -> 0 | BL162: 4 | BM162: -238062829
C163: 37 | D163: K | E163: 979082111.S | F163: Vnútrostavenisková doprava sutiny a vybúraných hmôt | G163: t | H163: 36 | K163: =ROUND(P163*H163,3) -> 0 | O163: znížená | P163: =I163+J163 -> 0 | Q163: =ROUND(I163*H163,3) -> 0 | R163: =ROUND(J163*H163,3) -> 0 | T163: =S163*H163 -> 0 | U163: 0 | V163: =U163*H163 -> 0 | W163: 0 | X163: =W163*H163 -> 0 | AR163: 4 | AT163: K | AU163: 2 | AY163: ROZPOCET | BE163: =IF(O163="základná",K163,0) -> 0 | BF163: =IF(O163="znížená",K163,0) -> 0 | BG163: =IF(O163="zákl. prenesená",K163,0) -> 0 | BH163: =IF(O163="zníž. prenesená",K163,0) -> 0 | BI163: =IF(O163="nulová",K163,0) -> 0 | BJ163: 2 | BK163: =ROUND(P163*H163,3) -> 0 | BL163: 4 | BM163: 399100953
D164: D | E164: HZS | F164: Hodinové zúčtovacie sadzby | K164: =BK164 -> 0 | Q164: =Q165+SUM(Q166:Q168) -> 0 | R164: =R165+SUM(R166:R168) -> 0 | T164: =T165+SUM(T166:T168) -> 0 | V164: =V165+SUM(V166:V168) -> 0 | X164: =X165+SUM(X166:X168) -> 0 | AR164: 4 | AT164: D | AU164: 0 | AY164: ROZPOCET | BK164: =BK165+SUM(BK166:BK168) -> 0
C165: 38 | D165: K | E165: HZS000111.S | F165: Stavebno montážne práce menej náročne, pomocné alebo manipulačné (Tr. 1) v rozsahu viac ako 8 hodín | G165: hod | H165: 8 | K165: =ROUND(P165*H165,3) -> 0 | O165: znížená | P165: =I165+J165 -> 0 | Q165: =ROUND(I165*H165,3) -> 0 | R165: =ROUND(J165*H165,3) -> 0 | T165: =S165*H165 -> 0 | U165: 0 | V165: =U165*H165 -> 0 | W165: 0 | X165: =W165*H165 -> 0 | AR165: 512 | AT165: K | AU165: 1 | AY165: ROZPOCET | BE165: =IF(O165="základná",K165,0) -> 0 | BF165: =IF(O165="znížená",K165,0) -> 0 | BG165: =IF(O165="zákl. prenesená",K165,0) -> 0 | BH165: =IF(O165="zníž. prenesená",K165,0) -> 0 | BI165: =IF(O165="nulová",K165,0) -> 0 | BJ165: 2 | BK165: =ROUND(P165*H165,3) -> 0 | BL165: 512 | BM165: 795724169
C166: 39 | D166: K | E166: K12 | F166: Skúšobná prevádzka | G166: hod | H166: 8 | K166: =ROUND(P166*H166,3) -> 0 | O166: znížená | P166: =I166+J166 -> 0 | Q166: =ROUND(I166*H166,3) -> 0 | R166: =ROUND(J166*H166,3) -> 0 | T166: =S166*H166 -> 0 | U166: 0 | V166: =U166*H166 -> 0 | W166: 0 | X166: =W166*H166 -> 0 | AR166: 512 | AT166: K | AU166: 1 | AY166: ROZPOCET | BE166: =IF(O166="základná",K166,0) -> 0 | BF166: =IF(O166="znížená",K166,0) -> 0 | BG166: =IF(O166="zákl. prenesená",K166,0) -> 0 | BH166: =IF(O166="zníž. prenesená",K166,0) -> 0 | BI166: =IF(O166="nulová",K166,0) -> 0 | BJ166: 2 | BK166: =ROUND(P166*H166,3) -> 0 | BL166: 512 | BM166: -763916754
C167: 40 | D167: K | E167: K666 | F167: Práca s montážnou plošinou | G167: hod | H167: 40 | K167: =ROUND(P167*H167,3) -> 0 | O167: znížená | P167: =I167+J167 -> 0 | Q167: =ROUND(I167*H167,3) -> 0 | R167: =ROUND(J167*H167,3) -> 0 | T167: =S167*H167 -> 0 | U167: 0 | V167: =U167*H167 -> 0 | W167: 0 | X167: =W167*H167 -> 0 | AR167: 512 | AT167: K | AU167: 1 | AY167: ROZPOCET | BE167: =IF(O167="základná",K167,0) -> 0 | BF167: =IF(O167="znížená",K167,0) -> 0 | BG167: =IF(O167="zákl. prenesená",K167,0) -> 0 | BH167: =IF(O167="zníž. prenesená",K167,0) -> 0 | BI167: =IF(O167="nulová",K167,0) -> 0 | BJ167: 2 | BK167: =ROUND(P167*H167,3) -> 0 | BL167: 512 | BM167: 1395885136
D168: D | E168: 95-M | F168: Revízie | K168: =BK168 -> 0 | Q168: =SUM(Q169:Q170) -> 0 | R168: =SUM(R169:R170) -> 0 | T168: =SUM(T169:T170) -> 0 | V168: =SUM(V169:V170) -> 0 | X168: =SUM(X169:X170) -> 0 | AR168: 3 | AT168: D | AU168: 1 | AY168: ROZPOCET | BK168: =SUM(BK169:BK170) -> 0
C169: 41 | D169: K | E169: 950107001.S | F169: Pomocné práce pri revíziách vypnutie vedenia, preskúšanie a zaistenie vypnutého stavu, zapnutie v jednom objekte | G169: hod | H169: 5 | K169: =ROUND(P169*H169,3) -> 0 | O169: znížená | P169: =I169+J169 -> 0 | Q169: =ROUND(I169*H169,3) -> 0 | R169: =ROUND(J169*H169,3) -> 0 | T169: =S169*H169 -> 0 | U169: 0 | V169: =U169*H169 -> 0 | W169: 0 | X169: =W169*H169 -> 0 | AR169: 262144 | AT169: K | AU169: 2 | AY169: ROZPOCET | BE169: =IF(O169="základná",K169,0) -> 0 | BF169: =IF(O169="znížená",K169,0) -> 0 | BG169: =IF(O169="zákl. prenesená",K169,0) -> 0 | BH169: =IF(O169="zníž. prenesená",K169,0) -> 0 | BI169: =IF(O169="nulová",K169,0) -> 0 | BJ169: 2 | BK169: =ROUND(P169*H169,3) -> 0 | BL169: 262144 | BM169: 1160583778
C170: 42 | D170: K | E170: HZS000114.S | F170: Stavebno montážne práce najnáročnejšie na odbornosť - prehliadky pracoviska a revízie (Tr. 4) v rozsahu viac ako 8 hodín | G170: hod | H170: 24 | K170: =ROUND(P170*H170,3) -> 0 | O170: znížená | P170: =I170+J170 -> 0 | Q170: =ROUND(I170*H170,3) -> 0 | R170: =ROUND(J170*H170,3) -> 0 | T170: =S170*H170 -> 0 | U170: 0 | V170: =U170*H170 -> 0 | W170: 0 | X170: =W170*H170 -> 0 | AR170: 262144 | AT170: K | AU170: 2 | AY170: ROZPOCET | BE170: =IF(O170="základná",K170,0) -> 0 | BF170: =IF(O170="znížená",K170,0) -> 0 | BG170: =IF(O170="zákl. prenesená",K170,0) -> 0 | BH170: =IF(O170="zníž. prenesená",K170,0) -> 0 | BI170: =IF(O170="nulová",K170,0) -> 0 | BJ170: 2 | BK170: =ROUND(P170*H170,3) -> 0 | BL170: 262144 | BM170: 1666893866
D171: D | E171: VRN | F171: Vedľajšie rozpočtové náklady | K171: =BK171 -> 0 | Q171: =SUM(Q172:Q175) -> 0 | R171: =SUM(R172:R175) -> 0 | T171: =SUM(T172:T175) -> 0 | V171: =SUM(V172:V175) -> 0.0121 | X171: =SUM(X172:X175) -> 0 | AR171: 5 | AT171: D | AU171: 0 | AY171: ROZPOCET | BK171: =SUM(BK172:BK175) -> 0
C172: 43 | D172: K | E172: 000300013.S | F172: Vytýčenie trasy - vykonávané pred výstavbou určenie priebehu nadzemného alebo podzemného existujúceho aj plánovaného vedenia | G172: km | H172: 1.202 | K172: =ROUND(P172*H172,3) -> 0 | O172: znížená | P172: =I172+J172 -> 0 | Q172: =ROUND(I172*H172,3) -> 0 | R172: =ROUND(J172*H172,3) -> 0 | T172: =S172*H172 -> 0 | U172: 0 | V172: =U172*H172 -> 0 | W172: 0 | X172: =W172*H172 -> 0 | AR172: 1024 | AT172: K | AU172: 1 | AY172: ROZPOCET | BE172: =IF(O172="základná",K172,0) -> 0 | BF172: =IF(O172="znížená",K172,0) -> 0 | BG172: =IF(O172="zákl. prenesená",K172,0) -> 0 | BH172: =IF(O172="zníž. prenesená",K172,0) -> 0 | BI172: =IF(O172="nulová",K172,0) -> 0 | BJ172: 2 | BK172: =ROUND(P172*H172,3) -> 0 | BL172: 1024 | BM172: -1388350927
C173: 44 | D173: K | E173: 000300031.S | F173: Geodetické práce - vykonávané po výstavbe zameranie skutočného vyhotovenia stavby | G173: km | H173: 1.202 | K173: =ROUND(P173*H173,3) -> 0 | O173: znížená | P173: =I173+J173 -> 0 | Q173: =ROUND(I173*H173,3) -> 0 | R173: =ROUND(J173*H173,3) -> 0 | T173: =S173*H173 -> 0 | U173: 0 | V173: =U173*H173 -> 0 | W173: 0 | X173: =W173*H173 -> 0 | AR173: 1024 | AT173: K | AU173: 1 | AY173: ROZPOCET | BE173: =IF(O173="základná",K173,0) -> 0 | BF173: =IF(O173="znížená",K173,0) -> 0 | BG173: =IF(O173="zákl. prenesená",K173,0) -> 0 | BH173: =IF(O173="zníž. prenesená",K173,0) -> 0 | BI173: =IF(O173="nulová",K173,0) -> 0 | BJ173: 2 | BK173: =ROUND(P173*H173,3) -> 0 | BL173: 1024 | BM173: 1715322231
...
