Workbook

Sheet Rekapitulácia stavby
A1: Export Komplet | BA1: 2.0 | BT1: False | BU1: False | BV1: {71bb7def-3b65-451b-a8cd-1d04855908ee}
AR2: >> skryté stĺpce << | BS2: 0,01 | BT2: 20
BS3: 0,01 | BT3: 20
D4: REKAPITULÁCIA STAVBY | AS4: v --- nižšie sa nachádzajú doplnkové a pomocné údaje k zostavám --- v | BS4: 0,001
D5: Kód: | K5: 10 | BS5: 0,01
D6: Stavba: | K6: Rekonštrukcia spevnených plôch v rámci Mesta Humenné | BS6: 0,01
D7: JKSO: | AK7: KS: | BS7: 0,01
D8: Miesto: | K8: Humenné | AK8: Dátum: | AN8: 11. 6. 2021 | BS8: 0,01
BS9: 0,01
D10: Objednávateľ: | AK10: IČO: | BS10: 0,01
E11: Mesto Humenné | AK11: IČ DPH: | BS11: 0,01
BS12: 0,01
D13: Zhotoviteľ: | AK13: IČO: | BS13: 0,01
AK14: IČ DPH: | BS14: 0,01
BS15: False
D16: Projektant: | AK16: IČO: | BS16: False
AK17: IČ DPH: | BS17: True
BS18: 0,01
D19: Spracovateľ: | AK19: IČO: | BS19: 0,01
AK20: IČ DPH: | BS20: True
D22: Poznámka:
D26: Cena bez DPH | AK26: =ROUND(AG94,2) -> 0
L28: Sadzba dane | W28: Základ dane | AK28: Výška dane
D29: DPH | F29: základná | L29: 0.2 | W29: =ROUND(AZ94, 2) -> 0 | AK29: =ROUND(AV94, 2) -> 0
F30: znížená | L30: 0.2 | W30: =ROUND(BA94, 2) -> 0 | AK30: =ROUND(AW94, 2) -> 0
F31: zákl. prenesená | L31: 0.2 | W31: =ROUND(BB94, 2) -> 0 | AK31: 0
F32: zníž. prenesená | L32: 0.2 | W32: =ROUND(BC94, 2) -> 0 | AK32: 0
F33: nulová | L33: 0 | W33: =ROUND(BD94, 2) -> 0 | AK33: 0
D35: Cena s DPH | T35: v | X35: EUR | AK35: =SUM(AK26:AK33) -> 0
D49: Projektant | AH49: Spracovateľ
D60: Dátum a podpis: | V60: Pečiatka | AH60: Dátum a podpis: | AM60: Pečiatka
D64: Objednávateľ | AH64: Zhotoviteľ
D75: Dátum a podpis: | V75: Pečiatka | AH75: Dátum a podpis: | AM75: Pečiatka
C82: REKAPITULÁCIA OBJEKTOV STAVBY
C84: Kód: | L84: =K5 -> 10
C85: Stavba: | L85: =K6 -> Rekonštrukcia spevnených plôch v rámci Mesta Humenné
C87: Miesto: | L87: =IF(K8="","",K8) -> Humenné | AI87: Dátum: | AM87: =IF(AN8= "","",AN8) -> 11. 6. 2021
C89: Objednávateľ: | L89: =IF(E11= "","",E11) -> Mesto Humenné | AI89: Projektant: | AM89: =IF(E17="","",E17) | AS89: Informatívne údaje z listov zákaziek
C90: Zhotoviteľ: | L90: =IF(E14="","",E14) | AI90: Spracovateľ: | AM90: =IF(E20="","",E20)
C92: Kód | I92: Popis | AG92: Cena bez DPH [EUR] | AN92: Cena s DPH [EUR] | AQ92: Typ | AS92: z toho Ostat._x000D_ náklady [EUR] | AT92: DPH [EUR] | AU92: Normohodiny [h] | AV92: DPH základná [EUR] | AW92: DPH znížená [EUR] | AX92: DPH základná prenesená_x000D_ [EUR] | AY92: DPH znížená prenesená_x000D_ [EUR] | AZ92: Základňa_x000D_ DPH základná | BA92: Základňa_x000D_ DPH znížená | BB92: Základňa_x000D_ DPH zákl. prenesená | BC92: Základňa_x000D_ DPH zníž. prenesená | BD92: Základňa_x000D_ DPH nulová
...

Sheet SO 01 - Rekonštrukcia spe...
L2: >> skryté stĺpce << | AT2: {23608bc0-0eec-4adc-8303-6e2aa4471d81}
AT3: 0
D4: KRYCÍ LIST ROZPOČTU | M4: v --- nižšie sa nachádzajú doplnkové a pomocné údaje k zostavám --- v | AT4: False
D6: Stavba:
E7: ='Rekapitulácia stavby'!K6 -> Rekonštrukcia spevnených plôch v rámci Mesta Humenné
D8: Objekt:
E9: SO 01 - Rekonštrukcia spevnenej odstavnej plochy pri BD Třebíčska
D11: JKSO: | I11: KS:
D12: Miesto: | F12: Humenné | I12: Dátum: | J12: ='Rekapitulácia stavby'!AN8 -> 11. 6. 2021
D14: Objednávateľ: | I14: IČO:
E15: Mesto Humenné | I15: IČ DPH:
D17: Zhotoviteľ: | I17: IČO: | J17: ='Rekapitulácia stavby'!AN13
E18: ='Rekapitulácia stavby'!E14 | I18: IČ DPH: | J18: ='Rekapitulácia stavby'!AN14
D20: Projektant: | I20: IČO: | J20: =IF('Rekapitulácia stavby'!AN16="","",'Rekapitulácia stavby'!AN16)
E21: =IF('Rekapitulácia stavby'!E17="","",'Rekapitulácia stavby'!E17) | I21: IČ DPH: | J21: =IF('Rekapitulácia stavby'!AN17="","",'Rekapitulácia stavby'!AN17)
D23: Spracovateľ: | I23: IČO: | J23: =IF('Rekapitulácia stavby'!AN19="","",'Rekapitulácia stavby'!AN19)
E24: =IF('Rekapitulácia stavby'!E20="","",'Rekapitulácia stavby'!E20) | I24: IČ DPH: | J24: =IF('Rekapitulácia stavby'!AN20="","",'Rekapitulácia stavby'!AN20)
D26: Poznámka:
D30: Cena bez DPH | J30: =ROUND(J121, 2) -> 0
F32: Základ dane | I32: Sadzba dane | J32: Výška dane
D33: DPH | E33: základná | F33: =ROUND((SUM(BE121:BE160)), 2) -> 0 | I33: 0.2 | J33: =ROUND(((SUM(BE121:BE160))*I33), 2) -> 0
E34: znížená | F34: =ROUND((SUM(BF121:BF160)), 2) -> 0 | I34: 0.2 | J34: =ROUND(((SUM(BF121:BF160))*I34), 2) -> 0
E35: zákl. prenesená | F35: =ROUND((SUM(BG121:BG160)), 2) -> 0 | I35: 0.2 | J35: =0 -> 0
E36: zníž. prenesená | F36: =ROUND((SUM(BH121:BH160)), 2) -> 0 | I36: 0.2 | J36: =0 -> 0
E37: nulová | F37: =ROUND((SUM(BI121:BI160)), 2) -> 0 | I37: 0 | J37: =0 -> 0
D39: Cena s DPH | G39: v | H39: EUR | J39: =SUM(J30:J37) -> 0
D50: Projektant | G50: Spracovateľ
D61: Dátum a podpis: | F61: Pečiatka | G61: Dátum a podpis: | J61: Pečiatka
D65: Objednávateľ | G65: Zhotoviteľ
D76: Dátum a podpis: | F76: Pečiatka | G76: Dátum a podpis: | J76: Pečiatka
C82: REKAPITULÁCIA ROZPOČTU
C84: Stavba:
E85: =E7 -> Rekonštrukcia spevnených plôch v rámci Mesta Humenné
C86: Objekt:
E87: =E9 -> SO 01 - Rekonštrukcia spevnenej odstavnej plochy pri BD Třebíčska
C89: Miesto: | F89: =F12 -> Humenné | I89: Dátum: | J89: =IF(J12="","",J12) -> 11. 6. 2021
C91: Objednávateľ: | F91: =E15 -> Mesto Humenné | I91: Projektant: | J91: =E21
C92: Zhotoviteľ: | F92: =IF(E18="","",E18) | I92: Spracovateľ: | J92: =E24
C94: Kód dielu - Popis | J94: Cena celkom [EUR]
C96: Náklady z rozpočtu | J96: =J121 -> 0 | AU96: -1
...

Sheet SO 02 - Sídlisko pod Soko...
L2: >> skryté stĺpce << | AT2: {5354defe-b02f-48d7-8468-0317a341a79e}
AT3: 0
D4: KRYCÍ LIST ROZPOČTU | M4: v --- nižšie sa nachádzajú doplnkové a pomocné údaje k zostavám --- v | AT4: False
D6: Stavba:
E7: ='Rekapitulácia stavby'!K6 -> Rekonštrukcia spevnených plôch v rámci Mesta Humenné
D8: Objekt:
E9: SO 02 - Sídlisko pod Sokolejom - spevnené plochy I.Etapa
D11: JKSO: | I11: KS:
D12: Miesto: | F12: Humenné | I12: Dátum: | J12: ='Rekapitulácia stavby'!AN8 -> 11. 6. 2021
D14: Objednávateľ: | I14: IČO:
E15: Mesto Humenné | I15: IČ DPH:
D17: Zhotoviteľ: | I17: IČO: | J17: ='Rekapitulácia stavby'!AN13
E18: ='Rekapitulácia stavby'!E14 | I18: IČ DPH: | J18: ='Rekapitulácia stavby'!AN14
D20: Projektant: | I20: IČO: | J20: =IF('Rekapitulácia stavby'!AN16="","",'Rekapitulácia stavby'!AN16)
E21: =IF('Rekapitulácia stavby'!E17="","",'Rekapitulácia stavby'!E17) | I21: IČ DPH: | J21: =IF('Rekapitulácia stavby'!AN17="","",'Rekapitulácia stavby'!AN17)
D23: Spracovateľ: | I23: IČO: | J23: =IF('Rekapitulácia stavby'!AN19="","",'Rekapitulácia stavby'!AN19)
E24: =IF('Rekapitulácia stavby'!E20="","",'Rekapitulácia stavby'!E20) | I24: IČ DPH: | J24: =IF('Rekapitulácia stavby'!AN20="","",'Rekapitulácia stavby'!AN20)
D26: Poznámka:
D30: Cena bez DPH | J30: =ROUND(J121, 2) -> 0
F32: Základ dane | I32: Sadzba dane | J32: Výška dane
D33: DPH | E33: základná | F33: =ROUND((SUM(BE121:BE161)), 2) -> 0 | I33: 0.2 | J33: =ROUND(((SUM(BE121:BE161))*I33), 2) -> 0
E34: znížená | F34: =ROUND((SUM(BF121:BF161)), 2) -> 0 | I34: 0.2 | J34: =ROUND(((SUM(BF121:BF161))*I34), 2) -> 0
E35: zákl. prenesená | F35: =ROUND((SUM(BG121:BG161)), 2) -> 0 | I35: 0.2 | J35: =0 -> 0
E36: zníž. prenesená | F36: =ROUND((SUM(BH121:BH161)), 2) -> 0 | I36: 0.2 | J36: =0 -> 0
E37: nulová | F37: =ROUND((SUM(BI121:BI161)), 2) -> 0 | I37: 0 | J37: =0 -> 0
D39: Cena s DPH | G39: v | H39: EUR | J39: =SUM(J30:J37) -> 0
D50: Projektant | G50: Spracovateľ
D61: Dátum a podpis: | F61: Pečiatka | G61: Dátum a podpis: | J61: Pečiatka
D65: Objednávateľ | G65: Zhotoviteľ
D76: Dátum a podpis: | F76: Pečiatka | G76: Dátum a podpis: | J76: Pečiatka
C82: REKAPITULÁCIA ROZPOČTU
C84: Stavba:
E85: =E7 -> Rekonštrukcia spevnených plôch v rámci Mesta Humenné
C86: Objekt:
E87: =E9 -> SO 02 - Sídlisko pod Sokolejom - spevnené plochy I.Etapa
C89: Miesto: | F89: =F12 -> Humenné | I89: Dátum: | J89: =IF(J12="","",J12) -> 11. 6. 2021
C91: Objednávateľ: | F91: =E15 -> Mesto Humenné | I91: Projektant: | J91: =E21
C92: Zhotoviteľ: | F92: =IF(E18="","",E18) | I92: Spracovateľ: | J92: =E24
C94: Kód dielu - Popis | J94: Cena celkom [EUR]
C96: Náklady z rozpočtu | J96: =J121 -> 0 | AU96: -1
...

Sheet SO 03 - Parkovisko - poli...
L2: >> skryté stĺpce << | AT2: {6def6c97-3b98-471e-9f54-241424aa2dea}
AT3: 0
D4: KRYCÍ LIST ROZPOČTU | M4: v --- nižšie sa nachádzajú doplnkové a pomocné údaje k zostavám --- v | AT4: False
D6: Stavba:
E7: ='Rekapitulácia stavby'!K6 -> Rekonštrukcia spevnených plôch v rámci Mesta Humenné
D8: Objekt:
E9: SO 03 - Parkovisko - poliklinika II.etapa
D11: JKSO: | I11: KS:
D12: Miesto: | F12: Humenné | I12: Dátum: | J12: ='Rekapitulácia stavby'!AN8 -> 11. 6. 2021
D14: Objednávateľ: | I14: IČO:
E15: Mesto Humenné | I15: IČ DPH:
D17: Zhotoviteľ: | I17: IČO: | J17: ='Rekapitulácia stavby'!AN13
E18: ='Rekapitulácia stavby'!E14 | I18: IČ DPH: | J18: ='Rekapitulácia stavby'!AN14
D20: Projektant: | I20: IČO: | J20: =IF('Rekapitulácia stavby'!AN16="","",'Rekapitulácia stavby'!AN16)
E21: =IF('Rekapitulácia stavby'!E17="","",'Rekapitulácia stavby'!E17) | I21: IČ DPH: | J21: =IF('Rekapitulácia stavby'!AN17="","",'Rekapitulácia stavby'!AN17)
D23: Spracovateľ: | I23: IČO: | J23: =IF('Rekapitulácia stavby'!AN19="","",'Rekapitulácia stavby'!AN19)
E24: =IF('Rekapitulácia stavby'!E20="","",'Rekapitulácia stavby'!E20) | I24: IČ DPH: | J24: =IF('Rekapitulácia stavby'!AN20="","",'Rekapitulácia stavby'!AN20)
D26: Poznámka:
D30: Cena bez DPH | J30: =ROUND(J120, 2) -> 0
F32: Základ dane | I32: Sadzba dane | J32: Výška dane
D33: DPH | E33: základná | F33: =ROUND((SUM(BE120:BE184)), 2) -> 0 | I33: 0.2 | J33: =ROUND(((SUM(BE120:BE184))*I33), 2) -> 0
E34: znížená | F34: =ROUND((SUM(BF120:BF184)), 2) -> 0 | I34: 0.2 | J34: =ROUND(((SUM(BF120:BF184))*I34), 2) -> 0
E35: zákl. prenesená | F35: =ROUND((SUM(BG120:BG184)), 2) -> 0 | I35: 0.2 | J35: =0 -> 0
E36: zníž. prenesená | F36: =ROUND((SUM(BH120:BH184)), 2) -> 0 | I36: 0.2 | J36: =0 -> 0
E37: nulová | F37: =ROUND((SUM(BI120:BI184)), 2) -> 0 | I37: 0 | J37: =0 -> 0
D39: Cena s DPH | G39: v | H39: EUR | J39: =SUM(J30:J37) -> 0
D50: Projektant | G50: Spracovateľ
D61: Dátum a podpis: | F61: Pečiatka | G61: Dátum a podpis: | J61: Pečiatka
D65: Objednávateľ | G65: Zhotoviteľ
D76: Dátum a podpis: | F76: Pečiatka | G76: Dátum a podpis: | J76: Pečiatka
C82: REKAPITULÁCIA ROZPOČTU
C84: Stavba:
E85: =E7 -> Rekonštrukcia spevnených plôch v rámci Mesta Humenné
C86: Objekt:
E87: =E9 -> SO 03 - Parkovisko - poliklinika II.etapa
C89: Miesto: | F89: =F12 -> Humenné | I89: Dátum: | J89: =IF(J12="","",J12) -> 11. 6. 2021
C91: Objednávateľ: | F91: =E15 -> Mesto Humenné | I91: Projektant: | J91: =E21
C92: Zhotoviteľ: | F92: =IF(E18="","",E18) | I92: Spracovateľ: | J92: =E24
C94: Kód dielu - Popis | J94: Cena celkom [EUR]
C96: Náklady z rozpočtu | J96: =J120 -> 0 | AU96: -1
...

Sheet SO 04 - Spevnená plocha D...
L2: >> skryté stĺpce << | AT2: {cf140b33-5bbe-4f1e-891e-c3a2264bea56}
AT3: 0
D4: KRYCÍ LIST ROZPOČTU | M4: v --- nižšie sa nachádzajú doplnkové a pomocné údaje k zostavám --- v | AT4: False
D6: Stavba:
E7: ='Rekapitulácia stavby'!K6 -> Rekonštrukcia spevnených plôch v rámci Mesta Humenné
D8: Objekt:
E9: SO 04 - Spevnená plocha Dobrianskeho
D11: JKSO: | I11: KS:
D12: Miesto: | F12: Humenné | I12: Dátum: | J12: ='Rekapitulácia stavby'!AN8 -> 11. 6. 2021
D14: Objednávateľ: | I14: IČO:
E15: Mesto Humenné | I15: IČ DPH:
D17: Zhotoviteľ: | I17: IČO: | J17: ='Rekapitulácia stavby'!AN13
E18: ='Rekapitulácia stavby'!E14 | I18: IČ DPH: | J18: ='Rekapitulácia stavby'!AN14
D20: Projektant: | I20: IČO: | J20: =IF('Rekapitulácia stavby'!AN16="","",'Rekapitulácia stavby'!AN16)
E21: =IF('Rekapitulácia stavby'!E17="","",'Rekapitulácia stavby'!E17) | I21: IČ DPH: | J21: =IF('Rekapitulácia stavby'!AN17="","",'Rekapitulácia stavby'!AN17)
D23: Spracovateľ: | I23: IČO: | J23: =IF('Rekapitulácia stavby'!AN19="","",'Rekapitulácia stavby'!AN19)
E24: =IF('Rekapitulácia stavby'!E20="","",'Rekapitulácia stavby'!E20) | I24: IČ DPH: | J24: =IF('Rekapitulácia stavby'!AN20="","",'Rekapitulácia stavby'!AN20)
D26: Poznámka:
D30: Cena bez DPH | J30: =ROUND(J120, 2) -> 0
F32: Základ dane | I32: Sadzba dane | J32: Výška dane
D33: DPH | E33: základná | F33: =ROUND((SUM(BE120:BE148)), 2) -> 0 | I33: 0.2 | J33: =ROUND(((SUM(BE120:BE148))*I33), 2) -> 0
E34: znížená | F34: =ROUND((SUM(BF120:BF148)), 2) -> 0 | I34: 0.2 | J34: =ROUND(((SUM(BF120:BF148))*I34), 2) -> 0
E35: zákl. prenesená | F35: =ROUND((SUM(BG120:BG148)), 2) -> 0 | I35: 0.2 | J35: =0 -> 0
E36: zníž. prenesená | F36: =ROUND((SUM(BH120:BH148)), 2) -> 0 | I36: 0.2 | J36: =0 -> 0
E37: nulová | F37: =ROUND((SUM(BI120:BI148)), 2) -> 0 | I37: 0 | J37: =0 -> 0
D39: Cena s DPH | G39: v | H39: EUR | J39: =SUM(J30:J37) -> 0
D50: Projektant | G50: Spracovateľ
D61: Dátum a podpis: | F61: Pečiatka | G61: Dátum a podpis: | J61: Pečiatka
D65: Objednávateľ | G65: Zhotoviteľ
D76: Dátum a podpis: | F76: Pečiatka | G76: Dátum a podpis: | J76: Pečiatka
C82: REKAPITULÁCIA ROZPOČTU
C84: Stavba:
E85: =E7 -> Rekonštrukcia spevnených plôch v rámci Mesta Humenné
C86: Objekt:
E87: =E9 -> SO 04 - Spevnená plocha Dobrianskeho
C89: Miesto: | F89: =F12 -> Humenné | I89: Dátum: | J89: =IF(J12="","",J12) -> 11. 6. 2021
C91: Objednávateľ: | F91: =E15 -> Mesto Humenné | I91: Projektant: | J91: =E21
C92: Zhotoviteľ: | F92: =IF(E18="","",E18) | I92: Spracovateľ: | J92: =E24
C94: Kód dielu - Popis | J94: Cena celkom [EUR]
C96: Náklady z rozpočtu | J96: =J120 -> 0 | AU96: -1
...

Sheet SO 05 - Sídlisko pod Soko...
L2: >> skryté stĺpce << | AT2: {b20bcaaa-327d-4d0a-bc7e-807b34fd7154}
AT3: 0
D4: KRYCÍ LIST ROZPOČTU | M4: v --- nižšie sa nachádzajú doplnkové a pomocné údaje k zostavám --- v | AT4: False
D6: Stavba:
E7: ='Rekapitulácia stavby'!K6 -> Rekonštrukcia spevnených plôch v rámci Mesta Humenné
D8: Objekt:
E9: SO 05 - Sídlisko pod Sokolejom - spevnené plochy II.etapa
D11: JKSO: | I11: KS:
D12: Miesto: | F12: Humenné | I12: Dátum: | J12: ='Rekapitulácia stavby'!AN8 -> 11. 6. 2021
D14: Objednávateľ: | I14: IČO:
E15: Mesto Humenné | I15: IČ DPH:
D17: Zhotoviteľ: | I17: IČO: | J17: ='Rekapitulácia stavby'!AN13
E18: ='Rekapitulácia stavby'!E14 | I18: IČ DPH: | J18: ='Rekapitulácia stavby'!AN14
D20: Projektant: | I20: IČO: | J20: =IF('Rekapitulácia stavby'!AN16="","",'Rekapitulácia stavby'!AN16)
E21: =IF('Rekapitulácia stavby'!E17="","",'Rekapitulácia stavby'!E17) | I21: IČ DPH: | J21: =IF('Rekapitulácia stavby'!AN17="","",'Rekapitulácia stavby'!AN17)
D23: Spracovateľ: | I23: IČO: | J23: =IF('Rekapitulácia stavby'!AN19="","",'Rekapitulácia stavby'!AN19)
E24: =IF('Rekapitulácia stavby'!E20="","",'Rekapitulácia stavby'!E20) | I24: IČ DPH: | J24: =IF('Rekapitulácia stavby'!AN20="","",'Rekapitulácia stavby'!AN20)
D26: Poznámka:
D30: Cena bez DPH | J30: =ROUND(J124, 2) -> 0
F32: Základ dane | I32: Sadzba dane | J32: Výška dane
D33: DPH | E33: základná | F33: =ROUND((SUM(BE124:BE167)), 2) -> 0 | I33: 0.2 | J33: =ROUND(((SUM(BE124:BE167))*I33), 2) -> 0
E34: znížená | F34: =ROUND((SUM(BF124:BF167)), 2) -> 0 | I34: 0.2 | J34: =ROUND(((SUM(BF124:BF167))*I34), 2) -> 0
E35: zákl. prenesená | F35: =ROUND((SUM(BG124:BG167)), 2) -> 0 | I35: 0.2 | J35: =0 -> 0
E36: zníž. prenesená | F36: =ROUND((SUM(BH124:BH167)), 2) -> 0 | I36: 0.2 | J36: =0 -> 0
E37: nulová | F37: =ROUND((SUM(BI124:BI167)), 2) -> 0 | I37: 0 | J37: =0 -> 0
D39: Cena s DPH | G39: v | H39: EUR | J39: =SUM(J30:J37) -> 0
D50: Projektant | G50: Spracovateľ
D61: Dátum a podpis: | F61: Pečiatka | G61: Dátum a podpis: | J61: Pečiatka
D65: Objednávateľ | G65: Zhotoviteľ
D76: Dátum a podpis: | F76: Pečiatka | G76: Dátum a podpis: | J76: Pečiatka
C82: REKAPITULÁCIA ROZPOČTU
C84: Stavba:
E85: =E7 -> Rekonštrukcia spevnených plôch v rámci Mesta Humenné
C86: Objekt:
E87: =E9 -> SO 05 - Sídlisko pod Sokolejom - spevnené plochy II.etapa
C89: Miesto: | F89: =F12 -> Humenné | I89: Dátum: | J89: =IF(J12="","",J12) -> 11. 6. 2021
C91: Objednávateľ: | F91: =E15 -> Mesto Humenné | I91: Projektant: | J91: =E21
C92: Zhotoviteľ: | F92: =IF(E18="","",E18) | I92: Spracovateľ: | J92: =E24
C94: Kód dielu - Popis | J94: Cena celkom [EUR]
C96: Náklady z rozpočtu | J96: =J124 -> 0 | AU96: -1
...

Sheet SO 06 - Stojiská na nádob...
L2: >> skryté stĺpce << | AT2: {6ce7039f-4f9a-4d77-be5a-20721a28d505}
AT3: 0
D4: KRYCÍ LIST ROZPOČTU | M4: v --- nižšie sa nachádzajú doplnkové a pomocné údaje k zostavám --- v | AT4: False
D6: Stavba:
E7: ='Rekapitulácia stavby'!K6 -> Rekonštrukcia spevnených plôch v rámci Mesta Humenné
D8: Objekt:
E9: SO 06 - Stojiská na nádoby na komunálny odpad a rozšírenie odstavnej plochy pri BD Pugačevova 1399
D11: JKSO: | I11: KS:
D12: Miesto: | F12: Humenné | I12: Dátum: | J12: ='Rekapitulácia stavby'!AN8 -> 11. 6. 2021
D14: Objednávateľ: | I14: IČO:
E15: Mesto Humenné | I15: IČ DPH:
D17: Zhotoviteľ: | I17: IČO: | J17: ='Rekapitulácia stavby'!AN13
E18: ='Rekapitulácia stavby'!E14 | I18: IČ DPH: | J18: ='Rekapitulácia stavby'!AN14
D20: Projektant: | I20: IČO: | J20: =IF('Rekapitulácia stavby'!AN16="","",'Rekapitulácia stavby'!AN16)
E21: =IF('Rekapitulácia stavby'!E17="","",'Rekapitulácia stavby'!E17) | I21: IČ DPH: | J21: =IF('Rekapitulácia stavby'!AN17="","",'Rekapitulácia stavby'!AN17)
D23: Spracovateľ: | I23: IČO: | J23: =IF('Rekapitulácia stavby'!AN19="","",'Rekapitulácia stavby'!AN19)
E24: =IF('Rekapitulácia stavby'!E20="","",'Rekapitulácia stavby'!E20) | I24: IČ DPH: | J24: =IF('Rekapitulácia stavby'!AN20="","",'Rekapitulácia stavby'!AN20)
D26: Poznámka:
D30: Cena bez DPH | J30: =ROUND(J124, 2) -> 0
F32: Základ dane | I32: Sadzba dane | J32: Výška dane
D33: DPH | E33: základná | F33: =ROUND((SUM(BE124:BE159)), 2) -> 0 | I33: 0.2 | J33: =ROUND(((SUM(BE124:BE159))*I33), 2) -> 0
E34: znížená | F34: =ROUND((SUM(BF124:BF159)), 2) -> 0 | I34: 0.2 | J34: =ROUND(((SUM(BF124:BF159))*I34), 2) -> 0
E35: zákl. prenesená | F35: =ROUND((SUM(BG124:BG159)), 2) -> 0 | I35: 0.2 | J35: =0 -> 0
E36: zníž. prenesená | F36: =ROUND((SUM(BH124:BH159)), 2) -> 0 | I36: 0.2 | J36: =0 -> 0
E37: nulová | F37: =ROUND((SUM(BI124:BI159)), 2) -> 0 | I37: 0 | J37: =0 -> 0
D39: Cena s DPH | G39: v | H39: EUR | J39: =SUM(J30:J37) -> 0
D50: Projektant | G50: Spracovateľ
D61: Dátum a podpis: | F61: Pečiatka | G61: Dátum a podpis: | J61: Pečiatka
D65: Objednávateľ | G65: Zhotoviteľ
D76: Dátum a podpis: | F76: Pečiatka | G76: Dátum a podpis: | J76: Pečiatka
C82: REKAPITULÁCIA ROZPOČTU
C84: Stavba:
E85: =E7 -> Rekonštrukcia spevnených plôch v rámci Mesta Humenné
C86: Objekt:
E87: =E9 -> SO 06 - Stojiská na nádoby na komunálny odpad a rozšírenie odstavnej plochy pri BD Pugačevova 1399
C89: Miesto: | F89: =F12 -> Humenné | I89: Dátum: | J89: =IF(J12="","",J12) -> 11. 6. 2021
C91: Objednávateľ: | F91: =E15 -> Mesto Humenné | I91: Projektant: | J91: =E21
C92: Zhotoviteľ: | F92: =IF(E18="","",E18) | I92: Spracovateľ: | J92: =E24
C94: Kód dielu - Popis | J94: Cena celkom [EUR]
C96: Náklady z rozpočtu | J96: =J124 -> 0 | AU96: -1
...
