Workbook

Sheet Rekapitulácia stavby
A1: Export Komplet | BA1: 2.0 | BT1: False | BU1: False | BV1: {71bb7def-3b65-451b-a8cd-1d04855908ee}
AR2: >> skryté stĺpce << | BS2: 0,01 | BT2: 20
BS3: 0,01 | BT3: 20
D4: REKAPITULÁCIA STAVBY | AS4: v --- nižšie sa nachádzajú doplnkové a pomocné údaje k zostavám --- v | BS4: 0,001
D5: Kód: | K5: 10 | BS5: 0,01
D6: Stavba: | K6: Rekonštrukcia spevnených plôch v rámci Mesta Humenné | BS6: 0,01
D7: JKSO: | AK7: KS: | BS7: 0,01
D8: Miesto: | K8: Humenné | AK8: Dátum: | AN8: 11. 6. 2021 | BS8: 0,01
BS9: 0,01
D10: Objednávateľ: | AK10: IČO: | BS10: 0,01
E11: Mesto Humenné | AK11: IČ DPH: | BS11: 0,01
BS12: 0,01
D13: Zhotoviteľ: | AK13: IČO: | BS13: 0,01
AK14: IČ DPH: | BS14: 0,01
BS15: False
D16: Projektant: | AK16: IČO: | BS16: False
AK17: IČ DPH: | BS17: True
BS18: 0,01
D19: Spracovateľ: | AK19: IČO: | BS19: 0,01
AK20: IČ DPH: | BS20: True
D22: Poznámka:
D26: Cena bez DPH | AK26: =ROUND(AG94,2) -> 0
L28: Sadzba dane | W28: Základ dane | AK28: Výška dane
D29: DPH | F29: základná | L29: 0.2 | W29: =ROUND(AZ94, 2) -> 0 | AK29: =ROUND(AV94, 2) -> 0
F30: znížená | L30: 0.2 | W30: =ROUND(BA94, 2) -> 0 | AK30: =ROUND(AW94, 2) -> 0
F31: zákl. prenesená | L31: 0.2 | W31: =ROUND(BB94, 2) -> 0 | AK31: 0
F32: zníž. prenesená | L32: 0.2 | W32: =ROUND(BC94, 2) -> 0 | AK32: 0
F33: nulová | L33: 0 | W33: =ROUND(BD94, 2) -> 0 | AK33: 0
D35: Cena s DPH | T35: v | X35: EUR | AK35: =SUM(AK26:AK33) -> 0
D49: Projektant | AH49: Spracovateľ
D60: Dátum a podpis: | V60: Pečiatka | AH60: Dátum a podpis: | AM60: Pečiatka
D64: Objednávateľ | AH64: Zhotoviteľ
D75: Dátum a podpis: | V75: Pečiatka | AH75: Dátum a podpis: | AM75: Pečiatka
C82: REKAPITULÁCIA OBJEKTOV STAVBY
C84: Kód: | L84: =K5 -> 10
C85: Stavba: | L85: =K6 -> Rekonštrukcia spevnených plôch v rámci Mesta Humenné
C87: Miesto: | L87: =IF(K8="","",K8) -> Humenné | AI87: Dátum: | AM87: =IF(AN8= "","",AN8) -> 11. 6. 2021
C89: Objednávateľ: | L89: =IF(E11= "","",E11) -> Mesto Humenné | AI89: Projektant: | AM89: =IF(E17="","",E17) | AS89: Informatívne údaje z listov zákaziek
C90: Zhotoviteľ: | L90: =IF(E14="","",E14) | AI90: Spracovateľ: | AM90: =IF(E20="","",E20)
C92: Kód | I92: Popis | AG92: Cena bez DPH [EUR] | AN92: Cena s DPH [EUR] | AQ92: Typ | AS92: z toho Ostat._x000D_ náklady [EUR] | AT92: DPH [EUR] | AU92: Normohodiny [h] | AV92: DPH základná [EUR] | AW92: DPH znížená [EUR] | AX92: DPH základná prenesená_x000D_ [EUR] | AY92: DPH znížená prenesená_x000D_ [EUR] | AZ92: Základňa_x000D_ DPH základná | BA92: Základňa_x000D_ DPH znížená | BB92: Základňa_x000D_ DPH zákl. prenesená | BC92: Základňa_x000D_ DPH zníž. prenesená | BD92: Základňa_x000D_ DPH nulová
C94: Náklady z rozpočtov | AG94: =ROUND(SUM(AG95:AG100),2) -> 0 | AN94: =SUM(AG94,AT94) -> 0 | AS94: =ROUND(SUM(AS95:AS100),2) -> 0 | AT94: =ROUND(SUM(AV94:AW94),2) -> 0 | AU94: =ROUND(SUM(AU95:AU100),5) -> 3065.0504 | AV94: =ROUND(AZ94*L29,2) -> 0 | AW94: =ROUND(BA94*L30,2) -> 0 | AX94: =ROUND(BB94*L29,2) -> 0 | AY94: =ROUND(BC94*L30,2) -> 0 | AZ94: =ROUND(SUM(AZ95:AZ100),2) -> 0 | BA94: =ROUND(SUM(BA95:BA100),2) -> 0 | BB94: =ROUND(SUM(BB95:BB100),2) -> 0 | BC94: =ROUND(SUM(BC95:BC100),2) -> 0 | BD94: =ROUND(SUM(BD95:BD100),2) -> 0 | BS94: D | BT94: 0 | BU94: ###NOIMPORT### | BV94: IMPORT | BW94: {71bb7def-3b65-451b-a8cd-1d04855908ee} | BX94: {00000000-0000-0000-0000-000000000000}
A95: / | D95: SO 01 | J95: Rekonštrukcia spevnenej odstavnej plochy pri BD Třebíčska | AG95: ='SO 01 - Rekonštrukcia spe...'!J30 -> 0 | AN95: =SUM(AG95,AT95) -> 0 | AQ95: STA | AS95: 0 | AT95: =ROUND(SUM(AV95:AW95),2) -> 0 | AU95: ='SO 01 - Rekonštrukcia spe...'!P121 -> 586.96772 | AV95: ='SO 01 - Rekonštrukcia spe...'!J33 -> 0 | AW95: ='SO 01 - Rekonštrukcia spe...'!J34 -> 0 | AX95: ='SO 01 - Rekonštrukcia spe...'!J35 -> 0 | AY95: ='SO 01 - Rekonštrukcia spe...'!J36 -> 0 | AZ95: ='SO 01 - Rekonštrukcia spe...'!F33 -> 0 | BA95: ='SO 01 - Rekonštrukcia spe...'!F34 -> 0 | BB95: ='SO 01 - Rekonštrukcia spe...'!F35 -> 0 | BC95: ='SO 01 - Rekonštrukcia spe...'!F36 -> 0 | BD95: ='SO 01 - Rekonštrukcia spe...'!F37 -> 0 | BT95: 1 | BV95: IMPORT | BW95: {23608bc0-0eec-4adc-8303-6e2aa4471d81} | BX95: {71bb7def-3b65-451b-a8cd-1d04855908ee} | CM95: 0
A96: / | D96: SO 02 | J96: Sídlisko pod Sokolejom - spevnené plochy I.Etapa | AG96: ='SO 02 - Sídlisko pod Soko...'!J30 -> 0 | AN96: =SUM(AG96,AT96) -> 0 | AQ96: STA | AS96: 0 | AT96: =ROUND(SUM(AV96:AW96),2) -> 0 | AU96: ='SO 02 - Sídlisko pod Soko...'!P121 -> 716.7845 | AV96: ='SO 02 - Sídlisko pod Soko...'!J33 -> 0 | AW96: ='SO 02 - Sídlisko pod Soko...'!J34 -> 0 | AX96: ='SO 02 - Sídlisko pod Soko...'!J35 -> 0 | AY96: ='SO 02 - Sídlisko pod Soko...'!J36 -> 0 | AZ96: ='SO 02 - Sídlisko pod Soko...'!F33 -> 0 | BA96: ='SO 02 - Sídlisko pod Soko...'!F34 -> 0 | BB96: ='SO 02 - Sídlisko pod Soko...'!F35 -> 0 | BC96: ='SO 02 - Sídlisko pod Soko...'!F36 -> 0 | BD96: ='SO 02 - Sídlisko pod Soko...'!F37 -> 0 | BT96: 1 | BV96: IMPORT | BW96: {5354defe-b02f-48d7-8468-0317a341a79e} | BX96: {71bb7def-3b65-451b-a8cd-1d04855908ee} | CM96: 0
A97: / | D97: SO 03 | J97: Parkovisko - poliklinika II.etapa | AG97: ='SO 03 - Parkovisko - poli...'!J30 -> 0 | AN97: =SUM(AG97,AT97) -> 0 | AQ97: STA | AS97: 0 | AT97: =ROUND(SUM(AV97:AW97),2) -> 0 | AU97: ='SO 03 - Parkovisko - poli...'!P120 -> 342.6731 | AV97: ='SO 03 - Parkovisko - poli...'!J33 -> 0 | AW97: ='SO 03 - Parkovisko - poli...'!J34 -> 0 | AX97: ='SO 03 - Parkovisko - poli...'!J35 -> 0 | AY97: ='SO 03 - Parkovisko - poli...'!J36 -> 0 | AZ97: ='SO 03 - Parkovisko - poli...'!F33 -> 0 | BA97: ='SO 03 - Parkovisko - poli...'!F34 -> 0 | BB97: ='SO 03 - Parkovisko - poli...'!F35 -> 0 | BC97: ='SO 03 - Parkovisko - poli...'!F36 -> 0 | BD97: ='SO 03 - Parkovisko - poli...'!F37 -> 0 | BT97: 1 | BV97: IMPORT | BW97: {6def6c97-3b98-471e-9f54-241424aa2dea} | BX97: {71bb7def-3b65-451b-a8cd-1d04855908ee} | CM97: 0
A98: / | D98: SO 04 | J98: Spevnená plocha Dobrianskeho | AG98: ='SO 04 - Spevnená plocha D...'!J30 -> 0 | AN98: =SUM(AG98,AT98) -> 0 | AQ98: STA | AS98: 0 | AT98: =ROUND(SUM(AV98:AW98),2) -> 0 | AU98: ='SO 04 - Spevnená plocha D...'!P120 -> 149.31354 | AV98: ='SO 04 - Spevnená plocha D...'!J33 -> 0 | AW98: ='SO 04 - Spevnená plocha D...'!J34 -> 0 | AX98: ='SO 04 - Spevnená plocha D...'!J35 -> 0 | AY98: ='SO 04 - Spevnená plocha D...'!J36 -> 0 | AZ98: ='SO 04 - Spevnená plocha D...'!F33 -> 0 | BA98: ='SO 04 - Spevnená plocha D...'!F34 -> 0 | BB98: ='SO 04 - Spevnená plocha D...'!F35 -> 0 | BC98: ='SO 04 - Spevnená plocha D...'!F36 -> 0 | BD98: ='SO 04 - Spevnená plocha D...'!F37 -> 0 | BT98: 1 | BV98: IMPORT | BW98: {cf140b33-5bbe-4f1e-891e-c3a2264bea56} | BX98: {71bb7def-3b65-451b-a8cd-1d04855908ee} | CM98: 0
A99: / | D99: SO 05 | J99: Sídlisko pod Sokolejom - spevnené plochy II.etapa | AG99: ='SO 05 - Sídlisko pod Soko...'!J30 -> 0 | AN99: =SUM(AG99,AT99) -> 0 | AQ99: STA | AS99: 0 | AT99: =ROUND(SUM(AV99:AW99),2) -> 0 | AU99: ='SO 05 - Sídlisko pod Soko...'!P124 -> 1192.5748 | AV99: ='SO 05 - Sídlisko pod Soko...'!J33 -> 0 | AW99: ='SO 05 - Sídlisko pod Soko...'!J34 -> 0 | AX99: ='SO 05 - Sídlisko pod Soko...'!J35 -> 0 | AY99: ='SO 05 - Sídlisko pod Soko...'!J36 -> 0 | AZ99: ='SO 05 - Sídlisko pod Soko...'!F33 -> 0 | BA99: ='SO 05 - Sídlisko pod Soko...'!F34 -> 0 | BB99: ='SO 05 - Sídlisko pod Soko...'!F35 -> 0 | BC99: ='SO 05 - Sídlisko pod Soko...'!F36 -> 0 | BD99: ='SO 05 - Sídlisko pod Soko...'!F37 -> 0 | BT99: 1 | BV99: IMPORT | BW99: {b20bcaaa-327d-4d0a-bc7e-807b34fd7154} | BX99: {71bb7def-3b65-451b-a8cd-1d04855908ee} | CM99: 0
A100: / | D100: SO 06 | J100: Stojiská na nádoby na komunálny odpad a rozšírenie odstavnej plochy pri BD Pugačevova 1399 | AG100: ='SO 06 - Stojiská na nádob...'!J30 -> 0 | AN100: =SUM(AG100,AT100) -> 0 | AQ100: STA | AS100: 0 | AT100: =ROUND(SUM(AV100:AW100),2) -> 0 | AU100: ='SO 06 - Stojiská na nádob...'!P124 -> 76.736821 | AV100: ='SO 06 - Stojiská na nádob...'!J33 -> 0 | AW100: ='SO 06 - Stojiská na nádob...'!J34 -> 0 | AX100: ='SO 06 - Stojiská na nádob...'!J35 -> 0 | AY100: ='SO 06 - Stojiská na nádob...'!J36 -> 0 | AZ100: ='SO 06 - Stojiská na nádob...'!F33 -> 0 | BA100: ='SO 06 - Stojiská na nádob...'!F34 -> 0 | BB100: ='SO 06 - Stojiská na nádob...'!F35 -> 0 | BC100: ='SO 06 - Stojiská na nádob...'!F36 -> 0 | BD100: ='SO 06 - Stojiská na nádob...'!F37 -> 0 | BT100: 1 | BV100: IMPORT | BW100: {6ce7039f-4f9a-4d77-be5a-20721a28d505} | BX100: {71bb7def-3b65-451b-a8cd-1d04855908ee} | CM100: 0

Sheet SO 01 - Rekonštrukcia spe...
L2: >> skryté stĺpce << | AT2: {23608bc0-0eec-4adc-8303-6e2aa4471d81}
AT3: 0
D4: KRYCÍ LIST ROZPOČTU | M4: v --- nižšie sa nachádzajú doplnkové a pomocné údaje k zostavám --- v | AT4: False
D6: Stavba:
E7: ='Rekapitulácia stavby'!K6 -> Rekonštrukcia spevnených plôch v rámci Mesta Humenné
D8: Objekt:
E9: SO 01 - Rekonštrukcia spevnenej odstavnej plochy pri BD Třebíčska
D11: JKSO: | I11: KS:
D12: Miesto: | F12: Humenné | I12: Dátum: | J12: ='Rekapitulácia stavby'!AN8 -> 11. 6. 2021
D14: Objednávateľ: | I14: IČO:
E15: Mesto Humenné | I15: IČ DPH:
D17: Zhotoviteľ: | I17: IČO: | J17: ='Rekapitulácia stavby'!AN13
E18: ='Rekapitulácia stavby'!E14 | I18: IČ DPH: | J18: ='Rekapitulácia stavby'!AN14
D20: Projektant: | I20: IČO: | J20: =IF('Rekapitulácia stavby'!AN16="","",'Rekapitulácia stavby'!AN16)
E21: =IF('Rekapitulácia stavby'!E17="","",'Rekapitulácia stavby'!E17) | I21: IČ DPH: | J21: =IF('Rekapitulácia stavby'!AN17="","",'Rekapitulácia stavby'!AN17)
D23: Spracovateľ: | I23: IČO: | J23: =IF('Rekapitulácia stavby'!AN19="","",'Rekapitulácia stavby'!AN19)
E24: =IF('Rekapitulácia stavby'!E20="","",'Rekapitulácia stavby'!E20) | I24: IČ DPH: | J24: =IF('Rekapitulácia stavby'!AN20="","",'Rekapitulácia stavby'!AN20)
D26: Poznámka:
D30: Cena bez DPH | J30: =ROUND(J121, 2) -> 0
F32: Základ dane | I32: Sadzba dane | J32: Výška dane
D33: DPH | E33: základná | F33: =ROUND((SUM(BE121:BE160)), 2) -> 0 | I33: 0.2 | J33: =ROUND(((SUM(BE121:BE160))*I33), 2) -> 0
E34: znížená | F34: =ROUND((SUM(BF121:BF160)), 2) -> 0 | I34: 0.2 | J34: =ROUND(((SUM(BF121:BF160))*I34), 2) -> 0
E35: zákl. prenesená | F35: =ROUND((SUM(BG121:BG160)), 2) -> 0 | I35: 0.2 | J35: =0 -> 0
E36: zníž. prenesená | F36: =ROUND((SUM(BH121:BH160)), 2) -> 0 | I36: 0.2 | J36: =0 -> 0
E37: nulová | F37: =ROUND((SUM(BI121:BI160)), 2) -> 0 | I37: 0 | J37: =0 -> 0
D39: Cena s DPH | G39: v | H39: EUR | J39: =SUM(J30:J37) -> 0
D50: Projektant | G50: Spracovateľ
D61: Dátum a podpis: | F61: Pečiatka | G61: Dátum a podpis: | J61: Pečiatka
D65: Objednávateľ | G65: Zhotoviteľ
D76: Dátum a podpis: | F76: Pečiatka | G76: Dátum a podpis: | J76: Pečiatka
C82: REKAPITULÁCIA ROZPOČTU
C84: Stavba:
E85: =E7 -> Rekonštrukcia spevnených plôch v rámci Mesta Humenné
C86: Objekt:
E87: =E9 -> SO 01 - Rekonštrukcia spevnenej odstavnej plochy pri BD Třebíčska
C89: Miesto: | F89: =F12 -> Humenné | I89: Dátum: | J89: =IF(J12="","",J12) -> 11. 6. 2021
C91: Objednávateľ: | F91: =E15 -> Mesto Humenné | I91: Projektant: | J91: =E21
C92: Zhotoviteľ: | F92: =IF(E18="","",E18) | I92: Spracovateľ: | J92: =E24
C94: Kód dielu - Popis | J94: Cena celkom [EUR]
C96: Náklady z rozpočtu | J96: =J121 -> 0 | AU96: -1
D97: HSV - Práce a dodávky HSV | J97: =J122 -> 0
D98: 1 - Zemné práce | J98: =J123 -> 0
D99: 5 - Komunikácie | J99: =J137 -> 0
D100: 9 - Ostatné konštrukcie a práce-búranie | J100: =J145 -> 0
D101: 99 - Presun hmôt HSV | J101: =J159 -> 0
C108: ROZPOČET
C110: Stavba:
E111: =E7 -> Rekonštrukcia spevnených plôch v rámci Mesta Humenné
C112: Objekt:
E113: =E9 -> SO 01 - Rekonštrukcia spevnenej odstavnej plochy pri BD Třebíčska
C115: Miesto: | F115: =F12 -> Humenné | I115: Dátum: | J115: =IF(J12="","",J12) -> 11. 6. 2021
C117: Objednávateľ: | F117: =E15 -> Mesto Humenné | I117: Projektant: | J117: =E21
C118: Zhotoviteľ: | F118: =IF(E18="","",E18) | I118: Spracovateľ: | J118: =E24
C120: PČ | D120: Typ | E120: Kód | F120: Popis | G120: MJ | H120: Množstvo | I120: J.cena [EUR] | J120: Cena celkom [EUR] | K120: Cenová sústava | N120: DPH | O120: J. Nh [h] | P120: Nh celkom [h] | Q120: J. hmotnosť [t] | R120: Hmotnosť celkom [t] | S120: J. suť [t] | T120: Suť Celkom [t]
C121: Náklady z rozpočtu | J121: =BK121 -> 0 | P121: =P122 -> 586.96772 | R121: =R122 -> 115.55446 | T121: =T122 -> 53.725 | AT121: D | AU121: -1 | BK121: =BK122 -> 0
D122: D | E122: HSV | F122: Práce a dodávky HSV | J122: =BK122 -> 0 | P122: =P123+P137+P145+P159 -> 586.96772 | R122: =R123+R137+R145+R159 -> 115.55446 | T122: =T123+T137+T145+T159 -> 53.725 | AR122: 1 | AT122: D | AU122: 0 | AY122: ROZPOCET | BK122: =BK123+BK137+BK145+BK159 -> 0
D123: D | E123: 1 | F123: Zemné práce | J123: =BK123 -> 0 | P123: =SUM(P124:P136) -> 198.265 | R123: =SUM(R124:R136) -> 35.42 | T123: =SUM(T124:T136) -> 53.725 | AR123: 1 | AT123: D | AU123: 1 | AY123: ROZPOCET | BK123: =SUM(BK124:BK136) -> 0
C124: 1 | D124: K | E124: 113107111.S | F124: Odstránenie krytu v ploche do 200 m2 z kameniva ťaženého, hr. do 100 mm, -0,16000t | G124: m2 | H124: 50 | J124: =ROUND(I124*H124,2) -> 0 | N124: znížená | O124: 0.237 | P124: =O124*H124 -> 11.85 | Q124: 0 | R124: =Q124*H124 -> 0 | S124: 0.16 | T124: =S124*H124 -> 8 | AR124: 4 | AT124: K | AU124: 2 | AY124: ROZPOCET | BE124: =IF(N124="základná",J124,0) -> 0 | BF124: =IF(N124="znížená",J124,0) -> 0 | BG124: =IF(N124="zákl. prenesená",J124,0) -> 0 | BH124: =IF(N124="zníž. prenesená",J124,0) -> 0 | BI124: =IF(N124="nulová",J124,0) -> 0 | BJ124: 2 | BK124: =ROUND(I124*H124,2) -> 0 | BL124: 4 | BM124: 697175077
C125: 2 | D125: K | E125: 113107123.S | F125: Odstránenie krytu v ploche do 200 m2 z kameniva hrubého drveného, hr.200 do 300 mm, -0,40000t | G125: m2 | H125: 50 | J125: =ROUND(I125*H125,2) -> 0 | N125: znížená | O125: 1.005 | P125: =O125*H125 -> 50.25 | Q125: 0 | R125: =Q125*H125 -> 0 | S125: 0.4 | T125: =S125*H125 -> 20 | AR125: 4 | AT125: K | AU125: 2 | AY125: ROZPOCET | BE125: =IF(N125="základná",J125,0) -> 0 | BF125: =IF(N125="znížená",J125,0) -> 0 | BG125: =IF(N125="zákl. prenesená",J125,0) -> 0 | BH125: =IF(N125="zníž. prenesená",J125,0) -> 0 | BI125: =IF(N125="nulová",J125,0) -> 0 | BJ125: 2 | BK125: =ROUND(I125*H125,2) -> 0 | BL125: 4 | BM125: 573359678
C126: 3 | D126: K | E126: 113107142.S | F126: Odstránenie krytu asfaltového v ploche do 200 m2, hr. nad 50 do 100 mm, -0,18100t | G126: m2 | H126: 50 | J126: =ROUND(I126*H126,2) -> 0 | N126: znížená | O126: 0.355 | P126: =O126*H126 -> 17.75 | Q126: 0 | R126: =Q126*H126 -> 0 | S126: 0.181 | T126: =S126*H126 -> 9.05 | AR126: 4 | AT126: K | AU126: 2 | AY126: ROZPOCET | BE126: =IF(N126="základná",J126,0) -> 0 | BF126: =IF(N126="znížená",J126,0) -> 0 | BG126: =IF(N126="zákl. prenesená",J126,0) -> 0 | BH126: =IF(N126="zníž. prenesená",J126,0) -> 0 | BI126: =IF(N126="nulová",J126,0) -> 0 | BJ126: 2 | BK126: =ROUND(I126*H126,2) -> 0 | BL126: 4 | BM126: -1964337491
C127: 4 | D127: K | E127: 113206111.S | F127: Vytrhanie obrúb betónových, s vybúraním lôžka, z krajníkov alebo obrubníkov stojatých, -0,14500t | G127: m | H127: 115 | J127: =ROUND(I127*H127,2) -> 0 | N127: znížená | O127: 0.127 | P127: =O127*H127 -> 14.605 | Q127: 0 | R127: =Q127*H127 -> 0 | S127: 0.145 | T127: =S127*H127 -> 16.675 | AR127: 4 | AT127: K | AU127: 2 | AY127: ROZPOCET | BE127: =IF(N127="základná",J127,0) -> 0 | BF127: =IF(N127="znížená",J127,0) -> 0 | BG127: =IF(N127="zákl. prenesená",J127,0) -> 0 | BH127: =IF(N127="zníž. prenesená",J127,0) -> 0 | BI127: =IF(N127="nulová",J127,0) -> 0 | BJ127: 2 | BK127: =ROUND(I127*H127,2) -> 0 | BL127: 4 | BM127: -2061171428
C128: 5 | D128: K | E128: 121101111.S | F128: Odstránenie ornice s vodor. premiestn. na hromady, so zložením na vzdialenosť do 100 m a do 100m3 | G128: m3 | H128: 48 | J128: =ROUND(I128*H128,2) -> 0 | N128: znížená | O128: 0.013 | P128: =O128*H128 -> 0.624 | Q128: 0 | R128: =Q128*H128 -> 0 | S128: 0 | T128: =S128*H128 -> 0 | AR128: 4 | AT128: K | AU128: 2 | AY128: ROZPOCET | BE128: =IF(N128="základná",J128,0) -> 0 | BF128: =IF(N128="znížená",J128,0) -> 0 | BG128: =IF(N128="zákl. prenesená",J128,0) -> 0 | BH128: =IF(N128="zníž. prenesená",J128,0) -> 0 | BI128: =IF(N128="nulová",J128,0) -> 0 | BJ128: 2 | BK128: =ROUND(I128*H128,2) -> 0 | BL128: 4 | BM128: 1545323506
C129: 6 | D129: K | E129: 122201402.S | F129: Výkop v zemníku na suchu v hornine 3, nad 100 do 1000 m3 | G129: m3 | H129: 192 | J129: =ROUND(I129*H129,2) -> 0 | N129: znížená | O129: 0.095 | P129: =O129*H129 -> 18.24 | Q129: 0 | R129: =Q129*H129 -> 0 | S129: 0 | T129: =S129*H129 -> 0 | AR129: 4 | AT129: K | AU129: 2 | AY129: ROZPOCET | BE129: =IF(N129="základná",J129,0) -> 0 | BF129: =IF(N129="znížená",J129,0) -> 0 | BG129: =IF(N129="zákl. prenesená",J129,0) -> 0 | BH129: =IF(N129="zníž. prenesená",J129,0) -> 0 | BI129: =IF(N129="nulová",J129,0) -> 0 | BJ129: 2 | BK129: =ROUND(I129*H129,2) -> 0 | BL129: 4 | BM129: -1683519555
C130: 7 | D130: K | E130: 122201409.S | F130: Príplatok k cenám za lepivosť výkopu v zemníkoch na suchu v hornine 3 | G130: m3 | H130: 192 | J130: =ROUND(I130*H130,2) -> 0 | N130: znížená | O130: 0.023 | P130: =O130*H130 -> 4.416 | Q130: 0 | R130: =Q130*H130 -> 0 | S130: 0 | T130: =S130*H130 -> 0 | AR130: 4 | AT130: K | AU130: 2 | AY130: ROZPOCET | BE130: =IF(N130="základná",J130,0) -> 0 | BF130: =IF(N130="znížená",J130,0) -> 0 | BG130: =IF(N130="zákl. prenesená",J130,0) -> 0 | BH130: =IF(N130="zníž. prenesená",J130,0) -> 0 | BI130: =IF(N130="nulová",J130,0) -> 0 | BJ130: 2 | BK130: =ROUND(I130*H130,2) -> 0 | BL130: 4 | BM130: 831797515
C131: 8 | D131: K | E131: 162301101.S | F131: Vodorovné premiestnenie výkopku po spevnenej ceste z horniny tr.1-4, do 100 m3 na vzdialenosť do 500 m | G131: m3 | H131: 240 | J131: =ROUND(I131*H131,2) -> 0 | N131: znížená | O131: 0.0269 | P131: =O131*H131 -> 6.456 | Q131: 0 | R131: =Q131*H131 -> 0 | S131: 0 | T131: =S131*H131 -> 0 | AR131: 4 | AT131: K | AU131: 2 | AY131: ROZPOCET | BE131: =IF(N131="základná",J131,0) -> 0 | BF131: =IF(N131="znížená",J131,0) -> 0 | BG131: =IF(N131="zákl. prenesená",J131,0) -> 0 | BH131: =IF(N131="zníž. prenesená",J131,0) -> 0 | BI131: =IF(N131="nulová",J131,0) -> 0 | BJ131: 2 | BK131: =ROUND(I131*H131,2) -> 0 | BL131: 4 | BM131: 2139895563
C132: 9 | D132: K | E132: 162501105.S | F132: Vodorovné premiestnenie výkopku po spevnenej ceste z horniny tr.1-4, do 100 m3, príplatok k cene za každých ďalšich a začatých 1000 m | G132: m3 | H132: 1200 | J132: =ROUND(I132*H132,2) -> 0 | N132: znížená | O132: 0.00737 | P132: =O132*H132 -> 8.844 | Q132: 0 | R132: =Q132*H132 -> 0 | S132: 0 | T132: =S132*H132 -> 0 | AR132: 4 | AT132: K | AU132: 2 | AY132: ROZPOCET | BE132: =IF(N132="základná",J132,0) -> 0 | BF132: =IF(N132="znížená",J132,0) -> 0 | BG132: =IF(N132="zákl. prenesená",J132,0) -> 0 | BH132: =IF(N132="zníž. prenesená",J132,0) -> 0 | BI132: =IF(N132="nulová",J132,0) -> 0 | BJ132: 2 | BK132: =ROUND(I132*H132,2) -> 0 | BL132: 4 | BM132: 1155034655
C133: 10 | D133: K | E133: 171201201.S | F133: Uloženie sypaniny na skládky do 100 m3 | G133: m3 | H133: 240 | J133: =ROUND(I133*H133,2) -> 0 | N133: znížená | O133: 0.009 | P133: =O133*H133 -> 2.16 | Q133: 0 | R133: =Q133*H133 -> 0 | S133: 0 | T133: =S133*H133 -> 0 | AR133: 4 | AT133: K | AU133: 2 | AY133: ROZPOCET | BE133: =IF(N133="základná",J133,0) -> 0 | BF133: =IF(N133="znížená",J133,0) -> 0 | BG133: =IF(N133="zákl. prenesená",J133,0) -> 0 | BH133: =IF(N133="zníž. prenesená",J133,0) -> 0 | BI133: =IF(N133="nulová",J133,0) -> 0 | BJ133: 2 | BK133: =ROUND(I133*H133,2) -> 0 | BL133: 4 | BM133: 712311672
C134: 11 | D134: K | E134: 171209002.S | F134: Poplatok za skladovanie - zemina a kamenivo (17 05) ostatné | G134: t | H134: 240 | J134: =ROUND(I134*H134,2) -> 0 | N134: znížená | O134: 0 | P134: =O134*H134 -> 0 | Q134: 0 | R134: =Q134*H134 -> 0 | S134: 0 | T134: =S134*H134 -> 0 | AR134: 4 | AT134: K | AU134: 2 | AY134: ROZPOCET | BE134: =IF(N134="základná",J134,0) -> 0 | BF134: =IF(N134="znížená",J134,0) -> 0 | BG134: =IF(N134="zákl. prenesená",J134,0) -> 0 | BH134: =IF(N134="zníž. prenesená",J134,0) -> 0 | BI134: =IF(N134="nulová",J134,0) -> 0 | BJ134: 2 | BK134: =ROUND(I134*H134,2) -> 0 | BL134: 4 | BM134: 1895229173
C135: 33 | D135: K | E135: 182313101.S | F135: Vyplnenie otvoru v tvárniciach | G135: m2 | H135: 530 | J135: =ROUND(I135*H135,2) -> 0 | N135: znížená | O135: 0.119 | P135: =O135*H135 -> 63.07 | Q135: 0 | R135: =Q135*H135 -> 0 | S135: 0 | T135: =S135*H135 -> 0 | AR135: 4 | AT135: K | AU135: 2 | AY135: ROZPOCET | BE135: =IF(N135="základná",J135,0) -> 0 | BF135: =IF(N135="znížená",J135,0) -> 0 | BG135: =IF(N135="zákl. prenesená",J135,0) -> 0 | BH135: =IF(N135="zníž. prenesená",J135,0) -> 0 | BI135: =IF(N135="nulová",J135,0) -> 0 | BJ135: 2 | BK135: =ROUND(I135*H135,2) -> 0 | BL135: 4 | BM135: -537343932
C136: 34 | D136: M | E136: 58331000270011 | F136: Štrkopiesok so zeminou na zasypávanie polovegetačných tvárnic | G136: t | H136: 35.42 | J136: =ROUND(I136*H136,2) -> 0 | N136: znížená | O136: 0 | P136: =O136*H136 -> 0 | Q136: 1 | R136: =Q136*H136 -> 35.42 | S136: 0 | T136: =S136*H136 -> 0 | AR136: 8 | AT136: M | AU136: 2 | AY136: ROZPOCET | BE136: =IF(N136="základná",J136,0) -> 0 | BF136: =IF(N136="znížená",J136,0) -> 0 | BG136: =IF(N136="zákl. prenesená",J136,0) -> 0 | BH136: =IF(N136="zníž. prenesená",J136,0) -> 0 | BI136: =IF(N136="nulová",J136,0) -> 0 | BJ136: 2 | BK136: =ROUND(I136*H136,2) -> 0 | BL136: 4 | BM136: 813553355
D137: D | E137: 5 | F137: Komunikácie | J137: =BK137 -> 0 | P137: =SUM(P138:P144) -> 340.34 | R137: =SUM(R138:R144) -> 80.08 | T137: =SUM(T138:T144) -> 0 | AR137: 1 | AT137: D | AU137: 1 | AY137: ROZPOCET | BK137: =SUM(BK138:BK144) -> 0
C138: 12 | D138: K | E138: 564231111 | F138: Podklad alebo podsyp zo štrkopiesku s rozprestretím, vlhčením a zhutnením, po zhutnení hr. 100 mm | G138: m2 | H138: 530 | J138: =ROUND(I138*H138,2) -> 0 | N138: znížená | O138: 0 | P138: =O138*H138 -> 0 | Q138: 0 | R138: =Q138*H138 -> 0 | S138: 0 | T138: =S138*H138 -> 0 | AR138: 4 | AT138: K | AU138: 2 | AY138: ROZPOCET | BE138: =IF(N138="základná",J138,0) -> 0 | BF138: =IF(N138="znížená",J138,0) -> 0 | BG138: =IF(N138="zákl. prenesená",J138,0) -> 0 | BH138: =IF(N138="zníž. prenesená",J138,0) -> 0 | BI138: =IF(N138="nulová",J138,0) -> 0 | BJ138: 2 | BK138: =ROUND(I138*H138,2) -> 0 | BL138: 4 | BM138: 751807904
C139: 13 | D139: K | E139: 564251111 | F139: Podklad alebo podsyp zo štrkopiesku s rozprestretím, vlhčením a zhutnením, po zhutnení hr. 150 mm | G139: m2 | H139: 530 | J139: =ROUND(I139*H139,2) -> 0 | N139: znížená | O139: 0 | P139: =O139*H139 -> 0 | Q139: 0 | R139: =Q139*H139 -> 0 | S139: 0 | T139: =S139*H139 -> 0 | AR139: 4 | AT139: K | AU139: 2 | AY139: ROZPOCET | BE139: =IF(N139="základná",J139,0) -> 0 | BF139: =IF(N139="znížená",J139,0) -> 0 | BG139: =IF(N139="zákl. prenesená",J139,0) -> 0 | BH139: =IF(N139="zníž. prenesená",J139,0) -> 0 | BI139: =IF(N139="nulová",J139,0) -> 0 | BJ139: 2 | BK139: =ROUND(I139*H139,2) -> 0 | BL139: 4 | BM139: 2105670295
C140: 14 | D140: K | E140: 564811112 | F140: Podklad zo štrkodrviny s rozprestretím a zhutnením, po zhutnení hr. 60 mm | G140: m2 | H140: 530 | J140: =ROUND(I140*H140,2) -> 0 | N140: znížená | O140: 0 | P140: =O140*H140 -> 0 | Q140: 0 | R140: =Q140*H140 -> 0 | S140: 0 | T140: =S140*H140 -> 0 | AR140: 4 | AT140: K | AU140: 2 | AY140: ROZPOCET | BE140: =IF(N140="základná",J140,0) -> 0 | BF140: =IF(N140="znížená",J140,0) -> 0 | BG140: =IF(N140="zákl. prenesená",J140,0) -> 0 | BH140: =IF(N140="zníž. prenesená",J140,0) -> 0 | BI140: =IF(N140="nulová",J140,0) -> 0 | BJ140: 2 | BK140: =ROUND(I140*H140,2) -> 0 | BL140: 4 | BM140: 1625025470
C141: 15 | D141: K | E141: 564851111 | F141: Podklad zo štrkodrviny fr. 16-32mm, s rozprestretím a zhutnením, po zhutnení hr. 150 mm | G141: m2 | H141: 530 | J141: =ROUND(I141*H141,2) -> 0 | N141: znížená | O141: 0 | P141: =O141*H141 -> 0 | Q141: 0 | R141: =Q141*H141 -> 0 | S141: 0 | T141: =S141*H141 -> 0 | AR141: 4 | AT141: K | AU141: 2 | AY141: ROZPOCET | BE141: =IF(N141="základná",J141,0) -> 0 | BF141: =IF(N141="znížená",J141,0) -> 0 | BG141: =IF(N141="zákl. prenesená",J141,0) -> 0 | BH141: =IF(N141="zníž. prenesená",J141,0) -> 0 | BI141: =IF(N141="nulová",J141,0) -> 0 | BJ141: 2 | BK141: =ROUND(I141*H141,2) -> 0 | BL141: 4 | BM141: -1713300882
C142: 16 | D142: K | E142: 596912214.S | F142: Kladenie betónovej dlažby z vegetačných tvárnic hr. 80 mm, do lôžka z kameniva ťaženého, veľkosti do 0,25 m2, plochy nad 300 m2 | G142: m2 | H142: 530 | J142: =ROUND(I142*H142,2) -> 0 | N142: znížená | O142: 0.476 | P142: =O142*H142 -> 252.28 | Q142: 0.112 | R142: =Q142*H142 -> 59.36 | S142: 0 | T142: =S142*H142 -> 0 | AR142: 4 | AT142: K | AU142: 2 | AY142: ROZPOCET | BE142: =IF(N142="základná",J142,0) -> 0 | BF142: =IF(N142="znížená",J142,0) -> 0 | BG142: =IF(N142="zákl. prenesená",J142,0) -> 0 | BH142: =IF(N142="zníž. prenesená",J142,0) -> 0 | BI142: =IF(N142="nulová",J142,0) -> 0 | BJ142: 2 | BK142: =ROUND(I142*H142,2) -> 0 | BL142: 4 | BM142: 444881981
C143: 17 | D143: M | E143: 592460013500 | F143: Dlažba betónová zatrávňovacia, hr. 80 mm, sivá | G143: m2 | H143: 530 | J143: =ROUND(I143*H143,2) -> 0 | N143: znížená | O143: 0 | P143: =O143*H143 -> 0 | Q143: 0 | R143: =Q143*H143 -> 0 | S143: 0 | T143: =S143*H143 -> 0 | AR143: 8 | AT143: M | AU143: 2 | AY143: ROZPOCET | BE143: =IF(N143="základná",J143,0) -> 0 | BF143: =IF(N143="znížená",J143,0) -> 0 | BG143: =IF(N143="zákl. prenesená",J143,0) -> 0 | BH143: =IF(N143="zníž. prenesená",J143,0) -> 0 | BI143: =IF(N143="nulová",J143,0) -> 0 | BJ143: 2 | BK143: =ROUND(I143*H143,2) -> 0 | BL143: 4 | BM143: 399894502
C144: 18 | D144: K | E144: 59691221411 | F144: Oprava plochy z polovegetačných tvárnic - demontáž, vyrovnanie, spätná montáž 30% | G144: m2 | H144: 185 | J144: =ROUND(I144*H144,2) -> 0 | N144: znížená | O144: 0.476 | P144: =O144*H144 -> 88.06 | Q144: 0.112 | R144: =Q144*H144 -> 20.72 | S144: 0 | T144: =S144*H144 -> 0 | AR144: 4 | AT144: K | AU144: 2 | AY144: ROZPOCET | BE144: =IF(N144="základná",J144,0) -> 0 | BF144: =IF(N144="znížená",J144,0) -> 0 | BG144: =IF(N144="zákl. prenesená",J144,0) -> 0 | BH144: =IF(N144="zníž. prenesená",J144,0) -> 0 | BI144: =IF(N144="nulová",J144,0) -> 0 | BJ144: 2 | BK144: =ROUND(I144*H144,2) -> 0 | BL144: 4 | BM144: 1807074373
D145: D | E145: 9 | F145: Ostatné konštrukcie a práce-búranie | J145: =BK145 -> 0 | P145: =SUM(P146:P158) -> 2.95 | R145: =SUM(R146:R158) -> 0.05446215 | T145: =SUM(T146:T158) -> 0 | AR145: 1 | AT145: D | AU145: 1 | AY145: ROZPOCET | BK145: =SUM(BK146:BK158) -> 0
C146: 19 | D146: K | E146: 915711111 | F146: Vodorovné značenie krytu striekané farbou deliacich čiar šírky 120 mm | G146: m | H146: 375 | J146: =ROUND(I146*H146,2) -> 0 | N146: znížená | O146: 0 | P146: =O146*H146 -> 0 | Q146: 8.9987163e-05 | R146: =Q146*H146 -> 0.033745186 | S146: 0 | T146: =S146*H146 -> 0 | AR146: 4 | AT146: K | AU146: 2 | AY146: ROZPOCET | BE146: =IF(N146="základná",J146,0) -> 0 | BF146: =IF(N146="znížená",J146,0) -> 0 | BG146: =IF(N146="zákl. prenesená",J146,0) -> 0 | BH146: =IF(N146="zníž. prenesená",J146,0) -> 0 | BI146: =IF(N146="nulová",J146,0) -> 0 | BJ146: 2 | BK146: =ROUND(I146*H146,2) -> 0 | BL146: 4 | BM146: -415702639
C147: 20 | D147: K | E147: 915719111 | F147: Príplatok k cene za reflexnú úpravu balotinovú deliacich čiar šírky 120 mm | G147: m | H147: 375 | J147: =ROUND(I147*H147,2) -> 0 | N147: znížená | O147: 0 | P147: =O147*H147 -> 0 | Q147: 3.9987163e-05 | R147: =Q147*H147 -> 0.014995186 | S147: 0 | T147: =S147*H147 -> 0 | AR147: 4 | AT147: K | AU147: 2 | AY147: ROZPOCET | BE147: =IF(N147="základná",J147,0) -> 0 | BF147: =IF(N147="znížená",J147,0) -> 0 | BG147: =IF(N147="zákl. prenesená",J147,0) -> 0 | BH147: =IF(N147="zníž. prenesená",J147,0) -> 0 | BI147: =IF(N147="nulová",J147,0) -> 0 | BJ147: 2 | BK147: =ROUND(I147*H147,2) -> 0 | BL147: 4 | BM147: 571787569
C148: 21 | D148: K | E148: 915721111 | F148: Vodorovné značenie krytu striekané farbou stopčiar, zebier, tieňov, šípok nápisov, prechodov a pod. | G148: m2 | H148: 4.5 | J148: =ROUND(I148*H148,2) -> 0 | N148: znížená | O148: 0 | P148: =O148*H148 -> 0 | Q148: 0.00066 | R148: =Q148*H148 -> 0.00297 | S148: 0 | T148: =S148*H148 -> 0 | AR148: 4 | AT148: K | AU148: 2 | AY148: ROZPOCET | BE148: =IF(N148="základná",J148,0) -> 0 | BF148: =IF(N148="znížená",J148,0) -> 0 | BG148: =IF(N148="zákl. prenesená",J148,0) -> 0 | BH148: =IF(N148="zníž. prenesená",J148,0) -> 0 | BI148: =IF(N148="nulová",J148,0) -> 0 | BJ148: 2 | BK148: =ROUND(I148*H148,2) -> 0 | BL148: 4 | BM148: -555064101
C149: 22 | D149: K | E149: 915729111 | F149: Príplatok za reflexnú úpravu balotinovú stopčiar, zebier, tieňov, šípok nápisov, prechodov a pod. | G149: m2 | H149: 4.5 | J149: =ROUND(I149*H149,2) -> 0 | N149: znížená | O149: 0 | P149: =O149*H149 -> 0 | Q149: 0.00032 | R149: =Q149*H149 -> 0.00144 | S149: 0 | T149: =S149*H149 -> 0 | AR149: 4 | AT149: K | AU149: 2 | AY149: ROZPOCET | BE149: =IF(N149="základná",J149,0) -> 0 | BF149: =IF(N149="znížená",J149,0) -> 0 | BG149: =IF(N149="zákl. prenesená",J149,0) -> 0 | BH149: =IF(N149="zníž. prenesená",J149,0) -> 0 | BI149: =IF(N149="nulová",J149,0) -> 0 | BJ149: 2 | BK149: =ROUND(I149*H149,2) -> 0 | BL149: 4 | BM149: 1407190057
C150: 23 | D150: K | E150: 915791111 | F150: Predznačenie pre značenie striekané farbou z náterových hmôt deliace čiary, vodiace prúžky | G150: m | H150: 375 | J150: =ROUND(I150*H150,2) -> 0 | N150: znížená | O150: 0 | P150: =O150*H150 -> 0 | Q150: 3.4980745e-06 | R150: =Q150*H150 -> 0.0013117779 | S150: 0 | T150: =S150*H150 -> 0 | AR150: 4 | AT150: K | AU150: 2 | AY150: ROZPOCET | BE150: =IF(N150="základná",J150,0) -> 0 | BF150: =IF(N150="znížená",J150,0) -> 0 | BG150: =IF(N150="zákl. prenesená",J150,0) -> 0 | BH150: =IF(N150="zníž. prenesená",J150,0) -> 0 | BI150: =IF(N150="nulová",J150,0) -> 0 | BJ150: 2 | BK150: =ROUND(I150*H150,2) -> 0 | BL150: 4 | BM150: -327574628
C151: 24 | D151: K | E151: 915791112 | F151: Predznačenie pre vodorovné značenie striekané farbou alebo vykonávané z náterových hmôt | G151: m2 | H151: 4.5 | J151: =ROUND(I151*H151,2) -> 0 | N151: znížená | O151: 0 | P151: =O151*H151 -> 0 | Q151: 0 | R151: =Q151*H151 -> 0 | S151: 0 | T151: =S151*H151 -> 0 | AR151: 4 | AT151: K | AU151: 2 | AY151: ROZPOCET | BE151: =IF(N151="základná",J151,0) -> 0 | BF151: =IF(N151="znížená",J151,0) -> 0 | BG151: =IF(N151="zákl. prenesená",J151,0) -> 0 | BH151: =IF(N151="zníž. prenesená",J151,0) -> 0 | BI151: =IF(N151="nulová",J151,0) -> 0 | BJ151: 2 | BK151: =ROUND(I151*H151,2) -> 0 | BL151: 4 | BM151: -1727416724
C152: 25 | D152: K | E152: 917762111.1 | F152: Osadenie chodník. obrubníka betónového ležatého do lôžka z betónu prosteho tr. C 12/15 s bočnou oporou | G152: m | H152: 20 | J152: =ROUND(I152*H152,2) -> 0 | N152: znížená | O152: 0 | P152: =O152*H152 -> 0 | Q152: 0 | R152: =Q152*H152 -> 0 | S152: 0 | T152: =S152*H152 -> 0 | AR152: 4 | AT152: K | AU152: 2 | AY152: ROZPOCET | BE152: =IF(N152="základná",J152,0) -> 0 | BF152: =IF(N152="znížená",J152,0) -> 0 | BG152: =IF(N152="zákl. prenesená",J152,0) -> 0 | BH152: =IF(N152="zníž. prenesená",J152,0) -> 0 | BI152: =IF(N152="nulová",J152,0) -> 0 | BJ152: 2 | BK152: =ROUND(I152*H152,2) -> 0 | BL152: 4 | BM152: -51789653
C153: 26 | D153: M | E153: 592170001000 | F153: Obrubník cestný, lxšxv 1000x150x260 mm | G153: ks | H153: 20.2 | J153: =ROUND(I153*H153,2) -> 0 | N153: znížená | O153: 0 | P153: =O153*H153 -> 0 | Q153: 0 | R153: =Q153*H153 -> 0 | S153: 0 | T153: =S153*H153 -> 0 | AR153: 8 | AT153: M | AU153: 2 | AY153: ROZPOCET | BE153: =IF(N153="základná",J153,0) -> 0 | BF153: =IF(N153="znížená",J153,0) -> 0 | BG153: =IF(N153="zákl. prenesená",J153,0) -> 0 | BH153: =IF(N153="zníž. prenesená",J153,0) -> 0 | BI153: =IF(N153="nulová",J153,0) -> 0 | BJ153: 2 | BK153: =ROUND(I153*H153,2) -> 0 | BL153: 4 | BM153: -742008242
C154: 27 | D154: K | E154: 919735113.S | F154: Rezanie existujúceho asfaltového krytu alebo podkladu hĺbky nad 100 do 150 mm | G154: m | H154: 10 | J154: =ROUND(I154*H154,2) -> 0 | N154: znížená | O154: 0.295 | P154: =O154*H154 -> 2.95 | Q154: 0 | R154: =Q154*H154 -> 0 | S154: 0 | T154: =S154*H154 -> 0 | AR154: 4 | AT154: K | AU154: 2 | AY154: ROZPOCET | BE154: =IF(N154="základná",J154,0) -> 0 | BF154: =IF(N154="znížená",J154,0) -> 0 | BG154: =IF(N154="zákl. prenesená",J154,0) -> 0 | BH154: =IF(N154="zníž. prenesená",J154,0) -> 0 | BI154: =IF(N154="nulová",J154,0) -> 0 | BJ154: 2 | BK154: =ROUND(I154*H154,2) -> 0 | BL154: 4 | BM154: 173944020
C155: 28 | D155: K | E155: 979081111 | F155: Odvoz sutiny a vybúraných hmôt na skládku do 1 km | G155: t | H155: 72 | J155: =ROUND(I155*H155,2) -> 0 | N155: znížená | O155: 0 | P155: =O155*H155 -> 0 | Q155: 0 | R155: =Q155*H155 -> 0 | S155: 0 | T155: =S155*H155 -> 0 | AR155: 4 | AT155: K | AU155: 2 | AY155: ROZPOCET | BE155: =IF(N155="základná",J155,0) -> 0 | BF155: =IF(N155="znížená",J155,0) -> 0 | BG155: =IF(N155="zákl. prenesená",J155,0) -> 0 | BH155: =IF(N155="zníž. prenesená",J155,0) -> 0 | BI155: =IF(N155="nulová",J155,0) -> 0 | BJ155: 2 | BK155: =ROUND(I155*H155,2) -> 0 | BL155: 4 | BM155: 1024995504
C156: 29 | D156: K | E156: 979081121 | F156: Odvoz sutiny a vybúraných hmôt na skládku za každý ďalší 1 km | G156: t | H156: 1440 | J156: =ROUND(I156*H156,2) -> 0 | N156: znížená | O156: 0 | P156: =O156*H156 -> 0 | Q156: 0 | R156: =Q156*H156 -> 0 | S156: 0 | T156: =S156*H156 -> 0 | AR156: 4 | AT156: K | AU156: 2 | AY156: ROZPOCET | BE156: =IF(N156="základná",J156,0) -> 0 | BF156: =IF(N156="znížená",J156,0) -> 0 | BG156: =IF(N156="zákl. prenesená",J156,0) -> 0 | BH156: =IF(N156="zníž. prenesená",J156,0) -> 0 | BI156: =IF(N156="nulová",J156,0) -> 0 | BJ156: 2 | BK156: =ROUND(I156*H156,2) -> 0 | BL156: 4 | BM156: -1091662036
C157: 30 | D157: K | E157: 979082111 | F157: Vnútrostavenisková doprava sutiny a vybúraných hmôt do 10 m | G157: t | H157: 72 | J157: =ROUND(I157*H157,2) -> 0 | N157: znížená | O157: 0 | P157: =O157*H157 -> 0 | Q157: 0 | R157: =Q157*H157 -> 0 | S157: 0 | T157: =S157*H157 -> 0 | AR157: 4 | AT157: K | AU157: 2 | AY157: ROZPOCET | BE157: =IF(N157="základná",J157,0) -> 0 | BF157: =IF(N157="znížená",J157,0) -> 0 | BG157: =IF(N157="zákl. prenesená",J157,0) -> 0 | BH157: =IF(N157="zníž. prenesená",J157,0) -> 0 | BI157: =IF(N157="nulová",J157,0) -> 0 | BJ157: 2 | BK157: =ROUND(I157*H157,2) -> 0 | BL157: 4 | BM157: 1735573931
C158: 31 | D158: K | E158: 979082121 | F158: Poplatok za uskladnenie TKO | G158: t | H158: 72 | J158: =ROUND(I158*H158,2) -> 0 | N158: znížená | O158: 0 | P158: =O158*H158 -> 0 | Q158: 0 | R158: =Q158*H158 -> 0 | S158: 0 | T158: =S158*H158 -> 0 | AR158: 4 | AT158: K | AU158: 2 | AY158: ROZPOCET | BE158: =IF(N158="základná",J158,0) -> 0 | BF158: =IF(N158="znížená",J158,0) -> 0 | BG158: =IF(N158="zákl. prenesená",J158,0) -> 0 | BH158: =IF(N158="zníž. prenesená",J158,0) -> 0 | BI158: =IF(N158="nulová",J158,0) -> 0 | BJ158: 2 | BK158: =ROUND(I158*H158,2) -> 0 | BL158: 4 | BM158: -27351547
D159: D | E159: 99 | F159: Presun hmôt HSV | J159: =BK159 -> 0 | P159: =P160 -> 45.412722 | R159: =R160 -> 0 | T159: =T160 -> 0 | AR159: 1 | AT159: D | AU159: 1 | AY159: ROZPOCET | BK159: =BK160 -> 0
C160: 32 | D160: K | E160: 998223011.S | F160: Presun hmôt pre pozemné komunikácie s krytom dláždeným (822 2.3, 822 5.3) akejkoľvek dĺžky objektu | G160: t | H160: 115.554 | J160: =ROUND(I160*H160,2) -> 0 | N160: znížená | O160: 0.393 | P160: =O160*H160 -> 45.412722 | Q160: 0 | R160: =Q160*H160 -> 0 | S160: 0 | T160: =S160*H160 -> 0 | AR160: 4 | AT160: K | AU160: 2 | AY160: ROZPOCET | BE160: =IF(N160="základná",J160,0) -> 0 | BF160: =IF(N160="znížená",J160,0) -> 0 | BG160: =IF(N160="zákl. prenesená",J160,0) -> 0 | BH160: =IF(N160="zníž. prenesená",J160,0) -> 0 | BI160: =IF(N160="nulová",J160,0) -> 0 | BJ160: 2 | BK160: =ROUND(I160*H160,2) -> 0 | BL160: 4 | BM160: 1671810439

Sheet SO 02 - Sídlisko pod Soko...
L2: >> skryté stĺpce << | AT2: {5354defe-b02f-48d7-8468-0317a341a79e}
AT3: 0
D4: KRYCÍ LIST ROZPOČTU | M4: v --- nižšie sa nachádzajú doplnkové a pomocné údaje k zostavám --- v | AT4: False
D6: Stavba:
E7: ='Rekapitulácia stavby'!K6 -> Rekonštrukcia spevnených plôch v rámci Mesta Humenné
D8: Objekt:
E9: SO 02 - Sídlisko pod Sokolejom - spevnené plochy I.Etapa
D11: JKSO: | I11: KS:
D12: Miesto: | F12: Humenné | I12: Dátum: | J12: ='Rekapitulácia stavby'!AN8 -> 11. 6. 2021
D14: Objednávateľ: | I14: IČO:
E15: Mesto Humenné | I15: IČ DPH:
D17: Zhotoviteľ: | I17: IČO: | J17: ='Rekapitulácia stavby'!AN13
E18: ='Rekapitulácia stavby'!E14 | I18: IČ DPH: | J18: ='Rekapitulácia stavby'!AN14
D20: Projektant: | I20: IČO: | J20: =IF('Rekapitulácia stavby'!AN16="","",'Rekapitulácia stavby'!AN16)
E21: =IF('Rekapitulácia stavby'!E17="","",'Rekapitulácia stavby'!E17) | I21: IČ DPH: | J21: =IF('Rekapitulácia stavby'!AN17="","",'Rekapitulácia stavby'!AN17)
D23: Spracovateľ: | I23: IČO: | J23: =IF('Rekapitulácia stavby'!AN19="","",'Rekapitulácia stavby'!AN19)
E24: =IF('Rekapitulácia stavby'!E20="","",'Rekapitulácia stavby'!E20) | I24: IČ DPH: | J24: =IF('Rekapitulácia stavby'!AN20="","",'Rekapitulácia stavby'!AN20)
D26: Poznámka:
D30: Cena bez DPH | J30: =ROUND(J121, 2) -> 0
F32: Základ dane | I32: Sadzba dane | J32: Výška dane
D33: DPH | E33: základná | F33: =ROUND((SUM(BE121:BE161)), 2) -> 0 | I33: 0.2 | J33: =ROUND(((SUM(BE121:BE161))*I33), 2) -> 0
E34: znížená | F34: =ROUND((SUM(BF121:BF161)), 2) -> 0 | I34: 0.2 | J34: =ROUND(((SUM(BF121:BF161))*I34), 2) -> 0
E35: zákl. prenesená | F35: =ROUND((SUM(BG121:BG161)), 2) -> 0 | I35: 0.2 | J35: =0 -> 0
E36: zníž. prenesená | F36: =ROUND((SUM(BH121:BH161)), 2) -> 0 | I36: 0.2 | J36: =0 -> 0
E37: nulová | F37: =ROUND((SUM(BI121:BI161)), 2) -> 0 | I37: 0 | J37: =0 -> 0
D39: Cena s DPH | G39: v | H39: EUR | J39: =SUM(J30:J37) -> 0
D50: Projektant | G50: Spracovateľ
D61: Dátum a podpis: | F61: Pečiatka | G61: Dátum a podpis: | J61: Pečiatka
D65: Objednávateľ | G65: Zhotoviteľ
D76: Dátum a podpis: | F76: Pečiatka | G76: Dátum a podpis: | J76: Pečiatka
C82: REKAPITULÁCIA ROZPOČTU
C84: Stavba:
E85: =E7 -> Rekonštrukcia spevnených plôch v rámci Mesta Humenné
C86: Objekt:
E87: =E9 -> SO 02 - Sídlisko pod Sokolejom - spevnené plochy I.Etapa
C89: Miesto: | F89: =F12 -> Humenné | I89: Dátum: | J89: =IF(J12="","",J12) -> 11. 6. 2021
C91: Objednávateľ: | F91: =E15 -> Mesto Humenné | I91: Projektant: | J91: =E21
C92: Zhotoviteľ: | F92: =IF(E18="","",E18) | I92: Spracovateľ: | J92: =E24
C94: Kód dielu - Popis | J94: Cena celkom [EUR]
C96: Náklady z rozpočtu | J96: =J121 -> 0 | AU96: -1
D97: HSV - Práce a dodávky HSV | J97: =J122 -> 0
D98: 1 - Zemné práce | J98: =J123 -> 0
D99: 5 - Komunikácie | J99: =J134 -> 0
D100: 9 - Ostatné konštrukcie a práce-búranie | J100: =J147 -> 0
D101: 99 - Presun hmôt HSV | J101: =J160 -> 0
C108: ROZPOČET
C110: Stavba:
E111: =E7 -> Rekonštrukcia spevnených plôch v rámci Mesta Humenné
C112: Objekt:
E113: =E9 -> SO 02 - Sídlisko pod Sokolejom - spevnené plochy I.Etapa
C115: Miesto: | F115: =F12 -> Humenné | I115: Dátum: | J115: =IF(J12="","",J12) -> 11. 6. 2021
C117: Objednávateľ: | F117: =E15 -> Mesto Humenné | I117: Projektant: | J117: =E21
C118: Zhotoviteľ: | F118: =IF(E18="","",E18) | I118: Spracovateľ: | J118: =E24
C120: PČ | D120: Typ | E120: Kód | F120: Popis | G120: MJ | H120: Množstvo | I120: J.cena [EUR] | J120: Cena celkom [EUR] | K120: Cenová sústava | N120: DPH | O120: J. Nh [h] | P120: Nh celkom [h] | Q120: J. hmotnosť [t] | R120: Hmotnosť celkom [t] | S120: J. suť [t] | T120: Suť Celkom [t]
C121: Náklady z rozpočtu | J121: =BK121 -> 0 | P121: =P122 -> 716.7845 | R121: =R122 -> 471.40559 | T121: =T122 -> 10.15 | AT121: D | AU121: -1 | BK121: =BK122 -> 0
D122: D | E122: HSV | F122: Práce a dodávky HSV | J122: =BK122 -> 0 | P122: =P123+P134+P147+P160 -> 716.7845 | R122: =R123+R134+R147+R160 -> 471.40559 | T122: =T123+T134+T147+T160 -> 10.15 | AR122: 1 | AT122: D | AU122: 0 | AY122: ROZPOCET | BK122: =BK123+BK134+BK147+BK160 -> 0
D123: D | E123: 1 | F123: Zemné práce | J123: =BK123 -> 0 | P123: =SUM(P124:P133) -> 190.19033 | R123: =SUM(R124:R133) -> 20.16 | T123: =SUM(T124:T133) -> 10.15 | AR123: 1 | AT123: D | AU123: 1 | AY123: ROZPOCET | BK123: =SUM(BK124:BK133) -> 0
C124: 1 | D124: K | E124: 113206111.S | F124: Vytrhanie obrúb betónových, s vybúraním lôžka, z krajníkov alebo obrubníkov stojatých, -0,14500t | G124: m | H124: 70 | J124: =ROUND(I124*H124,2) -> 0 | N124: znížená | O124: 0.127 | P124: =O124*H124 -> 8.89 | Q124: 0 | R124: =Q124*H124 -> 0 | S124: 0.145 | T124: =S124*H124 -> 10.15 | AR124: 4 | AT124: K | AU124: 2 | AY124: ROZPOCET | BE124: =IF(N124="základná",J124,0) -> 0 | BF124: =IF(N124="znížená",J124,0) -> 0 | BG124: =IF(N124="zákl. prenesená",J124,0) -> 0 | BH124: =IF(N124="zníž. prenesená",J124,0) -> 0 | BI124: =IF(N124="nulová",J124,0) -> 0 | BJ124: 2 | BK124: =ROUND(I124*H124,2) -> 0 | BL124: 4 | BM124: -1093800979
C125: 2 | D125: K | E125: 121101111.S | F125: Odstránenie ornice s vodor. premiestn. na hromady, so zložením na vzdialenosť do 100 m a do 100m3 | G125: m3 | H125: 45.5 | J125: =ROUND(I125*H125,2) -> 0 | N125: znížená | O125: 0.013 | P125: =O125*H125 -> 0.5915 | Q125: 0 | R125: =Q125*H125 -> 0 | S125: 0 | T125: =S125*H125 -> 0 | AR125: 4 | AT125: K | AU125: 2 | AY125: ROZPOCET | BE125: =IF(N125="základná",J125,0) -> 0 | BF125: =IF(N125="znížená",J125,0) -> 0 | BG125: =IF(N125="zákl. prenesená",J125,0) -> 0 | BH125: =IF(N125="zníž. prenesená",J125,0) -> 0 | BI125: =IF(N125="nulová",J125,0) -> 0 | BJ125: 2 | BK125: =ROUND(I125*H125,2) -> 0 | BL125: 4 | BM125: -2100983377
C126: 3 | D126: K | E126: 122201101.S | F126: Odkopávka a prekopávka nezapažená v hornine 3, do 100 m3 | G126: m3 | H126: 197.75 | J126: =ROUND(I126*H126,2) -> 0 | N126: znížená | O126: 0.46 | P126: =O126*H126 -> 90.965 | Q126: 0 | R126: =Q126*H126 -> 0 | S126: 0 | T126: =S126*H126 -> 0 | AR126: 4 | AT126: K | AU126: 2 | AY126: ROZPOCET | BE126: =IF(N126="základná",J126,0) -> 0 | BF126: =IF(N126="znížená",J126,0) -> 0 | BG126: =IF(N126="zákl. prenesená",J126,0) -> 0 | BH126: =IF(N126="zníž. prenesená",J126,0) -> 0 | BI126: =IF(N126="nulová",J126,0) -> 0 | BJ126: 2 | BK126: =ROUND(I126*H126,2) -> 0 | BL126: 4 | BM126: 804085801
C127: 4 | D127: K | E127: 122201109.S | F127: Odkopávky a prekopávky nezapažené. Príplatok k cenám za lepivosť horniny 3 | G127: m3 | H127: 197.75 | J127: =ROUND(I127*H127,2) -> 0 | N127: znížená | O127: 0.056 | P127: =O127*H127 -> 11.074 | Q127: 0 | R127: =Q127*H127 -> 0 | S127: 0 | T127: =S127*H127 -> 0 | AR127: 4 | AT127: K | AU127: 2 | AY127: ROZPOCET | BE127: =IF(N127="základná",J127,0) -> 0 | BF127: =IF(N127="znížená",J127,0) -> 0 | BG127: =IF(N127="zákl. prenesená",J127,0) -> 0 | BH127: =IF(N127="zníž. prenesená",J127,0) -> 0 | BI127: =IF(N127="nulová",J127,0) -> 0 | BJ127: 2 | BK127: =ROUND(I127*H127,2) -> 0 | BL127: 4 | BM127: -377518483
C128: 5 | D128: K | E128: 162503102.S | F128: Vodorovné premiestnenie výkopku pre cesty po spevnenej ceste z horniny tr.1-4 do 1000 m3 na vzdialenosť do 3000 m | G128: m3 | H128: 197.75 | J128: =ROUND(I128*H128,2) -> 0 | N128: znížená | O128: 0.0489 | P128: =O128*H128 -> 9.669975 | Q128: 0 | R128: =Q128*H128 -> 0 | S128: 0 | T128: =S128*H128 -> 0 | AR128: 4 | AT128: K | AU128: 2 | AY128: ROZPOCET | BE128: =IF(N128="základná",J128,0) -> 0 | BF128: =IF(N128="znížená",J128,0) -> 0 | BG128: =IF(N128="zákl. prenesená",J128,0) -> 0 | BH128: =IF(N128="zníž. prenesená",J128,0) -> 0 | BI128: =IF(N128="nulová",J128,0) -> 0 | BJ128: 2 | BK128: =ROUND(I128*H128,2) -> 0 | BL128: 4 | BM128: 1142725496
C129: 6 | D129: K | E129: 162503103.S | F129: Vodorovné premiestnenie výkopku pre cesty po spevnenej ceste z horniny tr.1-4 do 1000 m3, príplatok k cene za každých ďalšich a začatých 1000 m | G129: m3 | H129: 1384.25 | J129: =ROUND(I129*H129,2) -> 0 | N129: znížená | O129: 0.00539 | P129: =O129*H129 -> 7.4611075 | Q129: 0 | R129: =Q129*H129 -> 0 | S129: 0 | T129: =S129*H129 -> 0 | AR129: 4 | AT129: K | AU129: 2 | AY129: ROZPOCET | BE129: =IF(N129="základná",J129,0) -> 0 | BF129: =IF(N129="znížená",J129,0) -> 0 | BG129: =IF(N129="zákl. prenesená",J129,0) -> 0 | BH129: =IF(N129="zníž. prenesená",J129,0) -> 0 | BI129: =IF(N129="nulová",J129,0) -> 0 | BJ129: 2 | BK129: =ROUND(I129*H129,2) -> 0 | BL129: 4 | BM129: -324869071
C130: 7 | D130: K | E130: 167101102.S | F130: Nakladanie neuľahnutého výkopku z hornín tr.1-4 nad 100 do 1000 m3 | G130: m3 | H130: 197.75 | J130: =ROUND(I130*H130,2) -> 0 | N130: znížená | O130: 0.087 | P130: =O130*H130 -> 17.20425 | Q130: 0 | R130: =Q130*H130 -> 0 | S130: 0 | T130: =S130*H130 -> 0 | AR130: 4 | AT130: K | AU130: 2 | AY130: ROZPOCET | BE130: =IF(N130="základná",J130,0) -> 0 | BF130: =IF(N130="znížená",J130,0) -> 0 | BG130: =IF(N130="zákl. prenesená",J130,0) -> 0 | BH130: =IF(N130="zníž. prenesená",J130,0) -> 0 | BI130: =IF(N130="nulová",J130,0) -> 0 | BJ130: 2 | BK130: =ROUND(I130*H130,2) -> 0 | BL130: 4 | BM130: -58532033
C131: 8 | D131: K | E131: 171102102.S | F131: Uloženie sypaniny do násypu súdržných hornín pre diaľnice na 96% Proctor-Standard | G131: m3 | H131: 197.75 | J131: =ROUND(I131*H131,2) -> 0 | N131: znížená | O131: 0.022 | P131: =O131*H131 -> 4.3505 | Q131: 0 | R131: =Q131*H131 -> 0 | S131: 0 | T131: =S131*H131 -> 0 | AR131: 4 | AT131: K | AU131: 2 | AY131: ROZPOCET | BE131: =IF(N131="základná",J131,0) -> 0 | BF131: =IF(N131="znížená",J131,0) -> 0 | BG131: =IF(N131="zákl. prenesená",J131,0) -> 0 | BH131: =IF(N131="zníž. prenesená",J131,0) -> 0 | BI131: =IF(N131="nulová",J131,0) -> 0 | BJ131: 2 | BK131: =ROUND(I131*H131,2) -> 0 | BL131: 4 | BM131: -871071905
C132: 9 | D132: K | E132: 182313101.S | F132: Vyplnenie otvoru v tvárniciach | G132: m2 | H132: 336 | J132: =ROUND(I132*H132,2) -> 0 | N132: znížená | O132: 0.119 | P132: =O132*H132 -> 39.984 | Q132: 0 | R132: =Q132*H132 -> 0 | S132: 0 | T132: =S132*H132 -> 0 | AR132: 4 | AT132: K | AU132: 2 | AY132: ROZPOCET | BE132: =IF(N132="základná",J132,0) -> 0 | BF132: =IF(N132="znížená",J132,0) -> 0 | BG132: =IF(N132="zákl. prenesená",J132,0) -> 0 | BH132: =IF(N132="zníž. prenesená",J132,0) -> 0 | BI132: =IF(N132="nulová",J132,0) -> 0 | BJ132: 2 | BK132: =ROUND(I132*H132,2) -> 0 | BL132: 4 | BM132: -1838491024
C133: 10 | D133: M | E133: 58331000270011 | F133: Štrkopiesok so zeminou na zasypávanie polovegetačných tvárnic | G133: t | H133: 20.16 | J133: =ROUND(I133*H133,2) -> 0 | N133: znížená | O133: 0 | P133: =O133*H133 -> 0 | Q133: 1 | R133: =Q133*H133 -> 20.16 | S133: 0 | T133: =S133*H133 -> 0 | AR133: 8 | AT133: M | AU133: 2 | AY133: ROZPOCET | BE133: =IF(N133="základná",J133,0) -> 0 | BF133: =IF(N133="znížená",J133,0) -> 0 | BG133: =IF(N133="zákl. prenesená",J133,0) -> 0 | BH133: =IF(N133="zníž. prenesená",J133,0) -> 0 | BI133: =IF(N133="nulová",J133,0) -> 0 | BJ133: 2 | BK133: =ROUND(I133*H133,2) -> 0 | BL133: 4 | BM133: 1527184324
D134: D | E134: 5 | F134: Komunikácie | J134: =BK134 -> 0 | P134: =SUM(P135:P146) -> 261.28161 | R134: =SUM(R135:R146) -> 410.53054 | T134: =SUM(T135:T146) -> 0 | AR134: 1 | AT134: D | AU134: 1 | AY134: ROZPOCET | BK134: =SUM(BK135:BK146) -> 0
C135: 13 | D135: K | E135: 564531111.S | F135: Zhotovenie podsypu alebo podkladu zo sypaniny, po zhutnení hr. 100 mm | G135: m2 | H135: 336 | J135: =ROUND(I135*H135,2) -> 0 | N135: znížená | O135: 0.02524 | P135: =O135*H135 -> 8.48064 | Q135: 0 | R135: =Q135*H135 -> 0 | S135: 0 | T135: =S135*H135 -> 0 | AR135: 4 | AT135: K | AU135: 2 | AY135: ROZPOCET | BE135: =IF(N135="základná",J135,0) -> 0 | BF135: =IF(N135="znížená",J135,0) -> 0 | BG135: =IF(N135="zákl. prenesená",J135,0) -> 0 | BH135: =IF(N135="zníž. prenesená",J135,0) -> 0 | BI135: =IF(N135="nulová",J135,0) -> 0 | BJ135: 2 | BK135: =ROUND(I135*H135,2) -> 0 | BL135: 4 | BM135: 2134174127
C136: 14 | D136: M | E136: 583310002700.S | F136: Štrkopiesok frakcia 0-8 mm | G136: t | H136: 50.4 | J136: =ROUND(I136*H136,2) -> 0 | N136: znížená | O136: 0 | P136: =O136*H136 -> 0 | Q136: 1 | R136: =Q136*H136 -> 50.4 | S136: 0 | T136: =S136*H136 -> 0 | AR136: 8 | AT136: M | AU136: 2 | AY136: ROZPOCET | BE136: =IF(N136="základná",J136,0) -> 0 | BF136: =IF(N136="znížená",J136,0) -> 0 | BG136: =IF(N136="zákl. prenesená",J136,0) -> 0 | BH136: =IF(N136="zníž. prenesená",J136,0) -> 0 | BI136: =IF(N136="nulová",J136,0) -> 0 | BJ136: 2 | BK136: =ROUND(I136*H136,2) -> 0 | BL136: 4 | BM136: -1224985297
C137: 15 | D137: K | E137: 564730111.S | F137: Podklad alebo kryt z kameniva hrubého drveného veľ. 8-16 mm s rozprestretím a zhutnením hr. 100 mm | G137: m2 | H137: 336 | J137: =ROUND(I137*H137,2) -> 0 | N137: znížená | O137: 0.02512 | P137: =O137*H137 -> 8.44032 | Q137: 0.199 | R137: =Q137*H137 -> 66.864 | S137: 0 | T137: =S137*H137 -> 0 | AR137: 4 | AT137: K | AU137: 2 | AY137: ROZPOCET | BE137: =IF(N137="základná",J137,0) -> 0 | BF137: =IF(N137="znížená",J137,0) -> 0 | BG137: =IF(N137="zákl. prenesená",J137,0) -> 0 | BH137: =IF(N137="zníž. prenesená",J137,0) -> 0 | BI137: =IF(N137="nulová",J137,0) -> 0 | BJ137: 2 | BK137: =ROUND(I137*H137,2) -> 0 | BL137: 4 | BM137: 1184031764
C138: 17 | D138: K | E138: 564750111.S | F138: Podklad alebo kryt z kameniva hrubého drveného veľ. 8-16 mm s rozprestretím a zhutnením hr. 150 mm | G138: m2 | H138: 93.8 | J138: =ROUND(I138*H138,2) -> 0 | N138: znížená | O138: 0.02562 | P138: =O138*H138 -> 2.403156 | Q138: 0.299 | R138: =Q138*H138 -> 28.0462 | S138: 0 | T138: =S138*H138 -> 0 | AR138: 4 | AT138: K | AU138: 2 | AY138: ROZPOCET | BE138: =IF(N138="základná",J138,0) -> 0 | BF138: =IF(N138="znížená",J138,0) -> 0 | BG138: =IF(N138="zákl. prenesená",J138,0) -> 0 | BH138: =IF(N138="zníž. prenesená",J138,0) -> 0 | BI138: =IF(N138="nulová",J138,0) -> 0 | BJ138: 2 | BK138: =ROUND(I138*H138,2) -> 0 | BL138: 4 | BM138: -1462788797
C139: 18 | D139: K | E139: 5647511111 | F139: Podklad alebo kryt z kameniva hrubého drveného veľ. 16-63 mm s rozprestretím a zhutnením hr. 150 mm | G139: m2 | H139: 336 | J139: =ROUND(I139*H139,2) -> 0 | N139: znížená | O139: 0.02112 | P139: =O139*H139 -> 7.09632 | Q139: 0.2916 | R139: =Q139*H139 -> 97.9776 | S139: 0 | T139: =S139*H139 -> 0 | AR139: 4 | AT139: K | AU139: 2 | AY139: ROZPOCET | BE139: =IF(N139="základná",J139,0) -> 0 | BF139: =IF(N139="znížená",J139,0) -> 0 | BG139: =IF(N139="zákl. prenesená",J139,0) -> 0 | BH139: =IF(N139="zníž. prenesená",J139,0) -> 0 | BI139: =IF(N139="nulová",J139,0) -> 0 | BJ139: 2 | BK139: =ROUND(I139*H139,2) -> 0 | BL139: 4 | BM139: 172286618
C140: 19 | D140: K | E140: 564801112.S | F140: Podklad zo štrkodrviny s rozprestretím a zhutnením, po zhutnení hr. 40 mm | G140: m2 | H140: 93.8 | J140: =ROUND(I140*H140,2) -> 0 | N140: znížená | O140: 0.01912 | P140: =O140*H140 -> 1.793456 | Q140: 0.08003 | R140: =Q140*H140 -> 7.506814 | S140: 0 | T140: =S140*H140 -> 0 | AR140: 4 | AT140: K | AU140: 2 | AY140: ROZPOCET | BE140: =IF(N140="základná",J140,0) -> 0 | BF140: =IF(N140="znížená",J140,0) -> 0 | BG140: =IF(N140="zákl. prenesená",J140,0) -> 0 | BH140: =IF(N140="zníž. prenesená",J140,0) -> 0 | BI140: =IF(N140="nulová",J140,0) -> 0 | BJ140: 2 | BK140: =ROUND(I140*H140,2) -> 0 | BL140: 4 | BM140: 1947837284
C141: 20 | D141: K | E141: 564811112.S | F141: Podklad zo štrkodrviny s rozprestretím a zhutnením, po zhutnení hr. 60 mm | G141: m2 | H141: 336 | J141: =ROUND(I141*H141,2) -> 0 | N141: znížená | O141: 0.02212 | P141: =O141*H141 -> 7.43232 | Q141: 0.11637 | R141: =Q141*H141 -> 39.10032 | S141: 0 | T141: =S141*H141 -> 0 | AR141: 4 | AT141: K | AU141: 2 | AY141: ROZPOCET | BE141: =IF(N141="základná",J141,0) -> 0 | BF141: =IF(N141="znížená",J141,0) -> 0 | BG141: =IF(N141="zákl. prenesená",J141,0) -> 0 | BH141: =IF(N141="zníž. prenesená",J141,0) -> 0 | BI141: =IF(N141="nulová",J141,0) -> 0 | BJ141: 2 | BK141: =ROUND(I141*H141,2) -> 0 | BL141: 4 | BM141: -1248286736
C142: 39 | D142: K | E142: 567114211 | F142: Podklad z podkladového betónu PB II tr. C 16/20 hr. 100 mm | G142: m2 | H142: 93.8 | J142: =ROUND(I142*H142,2) -> 0 | N142: znížená | O142: 0 | P142: =O142*H142 -> 0 | Q142: 0.26577 | R142: =Q142*H142 -> 24.929226 | S142: 0 | T142: =S142*H142 -> 0 | AR142: 4 | AT142: K | AU142: 2 | AY142: ROZPOCET | BE142: =IF(N142="základná",J142,0) -> 0 | BF142: =IF(N142="znížená",J142,0) -> 0 | BG142: =IF(N142="zákl. prenesená",J142,0) -> 0 | BH142: =IF(N142="zníž. prenesená",J142,0) -> 0 | BI142: =IF(N142="nulová",J142,0) -> 0 | BJ142: 2 | BK142: =ROUND(I142*H142,2) -> 0 | BL142: 4 | BM142: -1695176810
C143: 21 | D143: K | E143: 596911142.S | F143: Kladenie betónovej zámkovej dlažby komunikácií pre peších hr. 60 mm pre peších nad 50 do 100 m2 so zriadením lôžka z kameniva hr. 30 mm | G143: m2 | H143: 93.8 | J143: =ROUND(I143*H143,2) -> 0 | N143: znížená | O143: 0.70042 | P143: =O143*H143 -> 65.699396 | Q143: 0.0925 | R143: =Q143*H143 -> 8.6765 | S143: 0 | T143: =S143*H143 -> 0 | AR143: 4 | AT143: K | AU143: 2 | AY143: ROZPOCET | BE143: =IF(N143="základná",J143,0) -> 0 | BF143: =IF(N143="znížená",J143,0) -> 0 | BG143: =IF(N143="zákl. prenesená",J143,0) -> 0 | BH143: =IF(N143="zníž. prenesená",J143,0) -> 0 | BI143: =IF(N143="nulová",J143,0) -> 0 | BJ143: 2 | BK143: =ROUND(I143*H143,2) -> 0 | BL143: 4 | BM143: 398485420
C144: 22 | D144: M | E144: 592460007500 | F144: Dlažba betónová bezškárová,hr. 60 mm, sivá | G144: m2 | H144: 95.676 | J144: =ROUND(I144*H144,2) -> 0 | N144: znížená | O144: 0 | P144: =O144*H144 -> 0 | Q144: 0.13 | R144: =Q144*H144 -> 12.43788 | S144: 0 | T144: =S144*H144 -> 0 | AR144: 8 | AT144: M | AU144: 2 | AY144: ROZPOCET | BE144: =IF(N144="základná",J144,0) -> 0 | BF144: =IF(N144="znížená",J144,0) -> 0 | BG144: =IF(N144="zákl. prenesená",J144,0) -> 0 | BH144: =IF(N144="zníž. prenesená",J144,0) -> 0 | BI144: =IF(N144="nulová",J144,0) -> 0 | BJ144: 2 | BK144: =ROUND(I144*H144,2) -> 0 | BL144: 4 | BM144: -1182085473
C145: 38 | D145: K | E145: 596912214.S | F145: Kladenie betónovej dlažby z vegetačných tvárnic hr. 80 mm, do lôžka z kameniva ťaženého, veľkosti do 0,25 m2, plochy nad 300 m2 | G145: m2 | H145: 336 | J145: =ROUND(I145*H145,2) -> 0 | N145: znížená | O145: 0.476 | P145: =O145*H145 -> 159.936 | Q145: 0.112 | R145: =Q145*H145 -> 37.632 | S145: 0 | T145: =S145*H145 -> 0 | AR145: 4 | AT145: K | AU145: 2 | AY145: ROZPOCET | BE145: =IF(N145="základná",J145,0) -> 0 | BF145: =IF(N145="znížená",J145,0) -> 0 | BG145: =IF(N145="zákl. prenesená",J145,0) -> 0 | BH145: =IF(N145="zníž. prenesená",J145,0) -> 0 | BI145: =IF(N145="nulová",J145,0) -> 0 | BJ145: 2 | BK145: =ROUND(I145*H145,2) -> 0 | BL145: 4 | BM145: 2120507977
C146: 24 | D146: M | E146: 592460013500 | F146: Dlažba betónová zatrávňovacia, hr. 80 mm, sivá | G146: m2 | H146: 336 | J146: =ROUND(I146*H146,2) -> 0 | N146: znížená | O146: 0 | P146: =O146*H146 -> 0 | Q146: 0.11 | R146: =Q146*H146 -> 36.96 | S146: 0 | T146: =S146*H146 -> 0 | AR146: 8 | AT146: M | AU146: 2 | AY146: ROZPOCET | BE146: =IF(N146="základná",J146,0) -> 0 | BF146: =IF(N146="znížená",J146,0) -> 0 | BG146: =IF(N146="zákl. prenesená",J146,0) -> 0 | BH146: =IF(N146="zníž. prenesená",J146,0) -> 0 | BI146: =IF(N146="nulová",J146,0) -> 0 | BJ146: 2 | BK146: =ROUND(I146*H146,2) -> 0 | BL146: 4 | BM146: -1257951645
D147: D | E147: 9 | F147: Ostatné konštrukcie a práce-búranie | J147: =BK147 -> 0 | P147: =SUM(P148:P159) -> 80.05 | R147: =SUM(R148:R159) -> 40.715051 | T147: =SUM(T148:T159) -> 0 | AR147: 1 | AT147: D | AU147: 1 | AY147: ROZPOCET | BK147: =SUM(BK148:BK159) -> 0
C148: 25 | D148: K | E148: 915711111 | F148: Vodorovné značenie krytu striekané farbou deliacich čiar šírky 120 mm | G148: m | H148: 130 | J148: =ROUND(I148*H148,2) -> 0 | N148: znížená | O148: 0 | P148: =O148*H148 -> 0 | Q148: 8.9987163e-05 | R148: =Q148*H148 -> 0.011698331 | S148: 0 | T148: =S148*H148 -> 0 | AR148: 4 | AT148: K | AU148: 2 | AY148: ROZPOCET | BE148: =IF(N148="základná",J148,0) -> 0 | BF148: =IF(N148="znížená",J148,0) -> 0 | BG148: =IF(N148="zákl. prenesená",J148,0) -> 0 | BH148: =IF(N148="zníž. prenesená",J148,0) -> 0 | BI148: =IF(N148="nulová",J148,0) -> 0 | BJ148: 2 | BK148: =ROUND(I148*H148,2) -> 0 | BL148: 4 | BM148: 690986230
C149: 26 | D149: K | E149: 915719111 | F149: Príplatok k cene za reflexnú úpravu balotinovú deliacich čiar šírky 120 mm | G149: m | H149: 130 | J149: =ROUND(I149*H149,2) -> 0 | N149: znížená | O149: 0 | P149: =O149*H149 -> 0 | Q149: 3.9987163e-05 | R149: =Q149*H149 -> 0.0051983312 | S149: 0 | T149: =S149*H149 -> 0 | AR149: 4 | AT149: K | AU149: 2 | AY149: ROZPOCET | BE149: =IF(N149="základná",J149,0) -> 0 | BF149: =IF(N149="znížená",J149,0) -> 0 | BG149: =IF(N149="zákl. prenesená",J149,0) -> 0 | BH149: =IF(N149="zníž. prenesená",J149,0) -> 0 | BI149: =IF(N149="nulová",J149,0) -> 0 | BJ149: 2 | BK149: =ROUND(I149*H149,2) -> 0 | BL149: 4 | BM149: -49271357
C150: 27 | D150: K | E150: 915791111 | F150: Predznačenie pre značenie striekané farbou z náterových hmôt deliace čiary, vodiace prúžky | G150: m | H150: 130 | J150: =ROUND(I150*H150,2) -> 0 | N150: znížená | O150: 0 | P150: =O150*H150 -> 0 | Q150: 3.4980745e-06 | R150: =Q150*H150 -> 0.00045474968 | S150: 0 | T150: =S150*H150 -> 0 | AR150: 4 | AT150: K | AU150: 2 | AY150: ROZPOCET | BE150: =IF(N150="základná",J150,0) -> 0 | BF150: =IF(N150="znížená",J150,0) -> 0 | BG150: =IF(N150="zákl. prenesená",J150,0) -> 0 | BH150: =IF(N150="zníž. prenesená",J150,0) -> 0 | BI150: =IF(N150="nulová",J150,0) -> 0 | BJ150: 2 | BK150: =ROUND(I150*H150,2) -> 0 | BL150: 4 | BM150: -1358940301
C151: 28 | D151: K | E151: 916331111.S | F151: Osadenie cestného obrubníka betónového ležatého do lôžka z betónu prostého tr. C 12/15 bez bočnej opory | G151: m | H151: 70 | J151: =ROUND(I151*H151,2) -> 0 | N151: znížená | O151: 0.27 | P151: =O151*H151 -> 18.9 | Q151: 0.14041 | R151: =Q151*H151 -> 9.8287 | S151: 0 | T151: =S151*H151 -> 0 | AR151: 4 | AT151: K | AU151: 2 | AY151: ROZPOCET | BE151: =IF(N151="základná",J151,0) -> 0 | BF151: =IF(N151="znížená",J151,0) -> 0 | BG151: =IF(N151="zákl. prenesená",J151,0) -> 0 | BH151: =IF(N151="zníž. prenesená",J151,0) -> 0 | BI151: =IF(N151="nulová",J151,0) -> 0 | BJ151: 2 | BK151: =ROUND(I151*H151,2) -> 0 | BL151: 4 | BM151: 66800164
C152: 29 | D152: M | E152: 592170002400 | F152: Obrubník cestný nábehový, lxšxv 1000x200x150(100) mm | G152: ks | H152: 70 | J152: =ROUND(I152*H152,2) -> 0 | N152: znížená | O152: 0 | P152: =O152*H152 -> 0 | Q152: 0.065 | R152: =Q152*H152 -> 4.55 | S152: 0 | T152: =S152*H152 -> 0 | AR152: 8 | AT152: M | AU152: 2 | AY152: ROZPOCET | BE152: =IF(N152="základná",J152,0) -> 0 | BF152: =IF(N152="znížená",J152,0) -> 0 | BG152: =IF(N152="zákl. prenesená",J152,0) -> 0 | BH152: =IF(N152="zníž. prenesená",J152,0) -> 0 | BI152: =IF(N152="nulová",J152,0) -> 0 | BJ152: 2 | BK152: =ROUND(I152*H152,2) -> 0 | BL152: 4 | BM152: 690513874
C153: 30 | D153: K | E153: 916362111.S | F153: Osadenie cestného obrubníka betónového stojatého do lôžka z betónu prostého tr. C 12/15 s bočnou oporou | G153: m | H153: 150 | J153: =ROUND(I153*H153,2) -> 0 | N153: znížená | O153: 0.27 | P153: =O153*H153 -> 40.5 | Q153: 0.15223 | R153: =Q153*H153 -> 22.8345 | S153: 0 | T153: =S153*H153 -> 0 | AR153: 4 | AT153: K | AU153: 2 | AY153: ROZPOCET | BE153: =IF(N153="základná",J153,0) -> 0 | BF153: =IF(N153="znížená",J153,0) -> 0 | BG153: =IF(N153="zákl. prenesená",J153,0) -> 0 | BH153: =IF(N153="zníž. prenesená",J153,0) -> 0 | BI153: =IF(N153="nulová",J153,0) -> 0 | BJ153: 2 | BK153: =ROUND(I153*H153,2) -> 0 | BL153: 4 | BM153: 1766834232
C154: 31 | D154: M | E154: 59217000180011 | F154: Obrubník parkový so skosenou hranou, lxšxv 1000x80x250 mm, sivá | G154: ks | H154: 151.5 | J154: =ROUND(I154*H154,2) -> 0 | N154: znížená | O154: 0 | P154: =O154*H154 -> 0 | Q154: 0.023 | R154: =Q154*H154 -> 3.4845 | S154: 0 | T154: =S154*H154 -> 0 | AR154: 8 | AT154: M | AU154: 2 | AY154: ROZPOCET | BE154: =IF(N154="základná",J154,0) -> 0 | BF154: =IF(N154="znížená",J154,0) -> 0 | BG154: =IF(N154="zákl. prenesená",J154,0) -> 0 | BH154: =IF(N154="zníž. prenesená",J154,0) -> 0 | BI154: =IF(N154="nulová",J154,0) -> 0 | BJ154: 2 | BK154: =ROUND(I154*H154,2) -> 0 | BL154: 4 | BM154: 1829072280
C155: 32 | D155: K | E155: 919735113.S | F155: Rezanie existujúceho asfaltového krytu alebo podkladu hĺbky nad 100 do 150 mm | G155: m | H155: 70 | J155: =ROUND(I155*H155,2) -> 0 | N155: znížená | O155: 0.295 | P155: =O155*H155 -> 20.65 | Q155: 0 | R155: =Q155*H155 -> 0 | S155: 0 | T155: =S155*H155 -> 0 | AR155: 4 | AT155: K | AU155: 2 | AY155: ROZPOCET | BE155: =IF(N155="základná",J155,0) -> 0 | BF155: =IF(N155="znížená",J155,0) -> 0 | BG155: =IF(N155="zákl. prenesená",J155,0) -> 0 | BH155: =IF(N155="zníž. prenesená",J155,0) -> 0 | BI155: =IF(N155="nulová",J155,0) -> 0 | BJ155: 2 | BK155: =ROUND(I155*H155,2) -> 0 | BL155: 4 | BM155: -1181102920
C156: 34 | D156: K | E156: 979081111 | F156: Odvoz sutiny a vybúraných hmôt na skládku do 1 km | G156: t | H156: 14 | J156: =ROUND(I156*H156,2) -> 0 | N156: znížená | O156: 0 | P156: =O156*H156 -> 0 | Q156: 0 | R156: =Q156*H156 -> 0 | S156: 0 | T156: =S156*H156 -> 0 | AR156: 4 | AT156: K | AU156: 2 | AY156: ROZPOCET | BE156: =IF(N156="základná",J156,0) -> 0 | BF156: =IF(N156="znížená",J156,0) -> 0 | BG156: =IF(N156="zákl. prenesená",J156,0) -> 0 | BH156: =IF(N156="zníž. prenesená",J156,0) -> 0 | BI156: =IF(N156="nulová",J156,0) -> 0 | BJ156: 2 | BK156: =ROUND(I156*H156,2) -> 0 | BL156: 4 | BM156: 504075598
C157: 35 | D157: K | E157: 979081121 | F157: Odvoz sutiny a vybúraných hmôt na skládku za každý ďalší 1 km | G157: t | H157: 280 | J157: =ROUND(I157*H157,2) -> 0 | N157: znížená | O157: 0 | P157: =O157*H157 -> 0 | Q157: 0 | R157: =Q157*H157 -> 0 | S157: 0 | T157: =S157*H157 -> 0 | AR157: 4 | AT157: K | AU157: 2 | AY157: ROZPOCET | BE157: =IF(N157="základná",J157,0) -> 0 | BF157: =IF(N157="znížená",J157,0) -> 0 | BG157: =IF(N157="zákl. prenesená",J157,0) -> 0 | BH157: =IF(N157="zníž. prenesená",J157,0) -> 0 | BI157: =IF(N157="nulová",J157,0) -> 0 | BJ157: 2 | BK157: =ROUND(I157*H157,2) -> 0 | BL157: 4 | BM157: 1504815267
C158: 36 | D158: K | E158: 979082111 | F158: Vnútrostavenisková doprava sutiny a vybúraných hmôt do 10 m | G158: t | H158: 14 | J158: =ROUND(I158*H158,2) -> 0 | N158: znížená | O158: 0 | P158: =O158*H158 -> 0 | Q158: 0 | R158: =Q158*H158 -> 0 | S158: 0 | T158: =S158*H158 -> 0 | AR158: 4 | AT158: K | AU158: 2 | AY158: ROZPOCET | BE158: =IF(N158="základná",J158,0) -> 0 | BF158: =IF(N158="znížená",J158,0) -> 0 | BG158: =IF(N158="zákl. prenesená",J158,0) -> 0 | BH158: =IF(N158="zníž. prenesená",J158,0) -> 0 | BI158: =IF(N158="nulová",J158,0) -> 0 | BJ158: 2 | BK158: =ROUND(I158*H158,2) -> 0 | BL158: 4 | BM158: -2003943887
C159: 37 | D159: K | E159: 979082121 | F159: Poplatok za uskladnenie TKO | G159: t | H159: 14 | J159: =ROUND(I159*H159,2) -> 0 | N159: znížená | O159: 0 | P159: =O159*H159 -> 0 | Q159: 0 | R159: =Q159*H159 -> 0 | S159: 0 | T159: =S159*H159 -> 0 | AR159: 4 | AT159: K | AU159: 2 | AY159: ROZPOCET | BE159: =IF(N159="základná",J159,0) -> 0 | BF159: =IF(N159="znížená",J159,0) -> 0 | BG159: =IF(N159="zákl. prenesená",J159,0) -> 0 | BH159: =IF(N159="zníž. prenesená",J159,0) -> 0 | BI159: =IF(N159="nulová",J159,0) -> 0 | BJ159: 2 | BK159: =ROUND(I159*H159,2) -> 0 | BL159: 4 | BM159: -1380157290
D160: D | E160: 99 | F160: Presun hmôt HSV | J160: =BK160 -> 0 | P160: =P161 -> 185.26256 | R160: =R161 -> 0 | T160: =T161 -> 0 | AR160: 1 | AT160: D | AU160: 1 | AY160: ROZPOCET | BK160: =BK161 -> 0
C161: 33 | D161: K | E161: 998223011.S | F161: Presun hmôt pre pozemné komunikácie s krytom dláždeným (822 2.3, 822 5.3) akejkoľvek dĺžky objektu | G161: t | H161: 471.406 | J161: =ROUND(I161*H161,2) -> 0 | N161: znížená | O161: 0.393 | P161: =O161*H161 -> 185.26256 | Q161: 0 | R161: =Q161*H161 -> 0 | S161: 0 | T161: =S161*H161 -> 0 | AR161: 4 | AT161: K | AU161: 2 | AY161: ROZPOCET | BE161: =IF(N161="základná",J161,0) -> 0 | BF161: =IF(N161="znížená",J161,0) -> 0 | BG161: =IF(N161="zákl. prenesená",J161,0) -> 0 | BH161: =IF(N161="zníž. prenesená",J161,0) -> 0 | BI161: =IF(N161="nulová",J161,0) -> 0 | BJ161: 2 | BK161: =ROUND(I161*H161,2) -> 0 | BL161: 4 | BM161: 670279677

Sheet SO 03 - Parkovisko - poli...
L2: >> skryté stĺpce << | AT2: {6def6c97-3b98-471e-9f54-241424aa2dea}
AT3: 0
D4: KRYCÍ LIST ROZPOČTU | M4: v --- nižšie sa nachádzajú doplnkové a pomocné údaje k zostavám --- v | AT4: False
D6: Stavba:
E7: ='Rekapitulácia stavby'!K6 -> Rekonštrukcia spevnených plôch v rámci Mesta Humenné
D8: Objekt:
E9: SO 03 - Parkovisko - poliklinika II.etapa
D11: JKSO: | I11: KS:
D12: Miesto: | F12: Humenné | I12: Dátum: | J12: ='Rekapitulácia stavby'!AN8 -> 11. 6. 2021
D14: Objednávateľ: | I14: IČO:
E15: Mesto Humenné | I15: IČ DPH:
D17: Zhotoviteľ: | I17: IČO: | J17: ='Rekapitulácia stavby'!AN13
E18: ='Rekapitulácia stavby'!E14 | I18: IČ DPH: | J18: ='Rekapitulácia stavby'!AN14
D20: Projektant: | I20: IČO: | J20: =IF('Rekapitulácia stavby'!AN16="","",'Rekapitulácia stavby'!AN16)
E21: =IF('Rekapitulácia stavby'!E17="","",'Rekapitulácia stavby'!E17) | I21: IČ DPH: | J21: =IF('Rekapitulácia stavby'!AN17="","",'Rekapitulácia stavby'!AN17)
D23: Spracovateľ: | I23: IČO: | J23: =IF('Rekapitulácia stavby'!AN19="","",'Rekapitulácia stavby'!AN19)
E24: =IF('Rekapitulácia stavby'!E20="","",'Rekapitulácia stavby'!E20) | I24: IČ DPH: | J24: =IF('Rekapitulácia stavby'!AN20="","",'Rekapitulácia stavby'!AN20)
D26: Poznámka:
D30: Cena bez DPH | J30: =ROUND(J120, 2) -> 0
F32: Základ dane | I32: Sadzba dane | J32: Výška dane
D33: DPH | E33: základná | F33: =ROUND((SUM(BE120:BE184)), 2) -> 0 | I33: 0.2 | J33: =ROUND(((SUM(BE120:BE184))*I33), 2) -> 0
E34: znížená | F34: =ROUND((SUM(BF120:BF184)), 2) -> 0 | I34: 0.2 | J34: =ROUND(((SUM(BF120:BF184))*I34), 2) -> 0
E35: zákl. prenesená | F35: =ROUND((SUM(BG120:BG184)), 2) -> 0 | I35: 0.2 | J35: =0 -> 0
E36: zníž. prenesená | F36: =ROUND((SUM(BH120:BH184)), 2) -> 0 | I36: 0.2 | J36: =0 -> 0
E37: nulová | F37: =ROUND((SUM(BI120:BI184)), 2) -> 0 | I37: 0 | J37: =0 -> 0
D39: Cena s DPH | G39: v | H39: EUR | J39: =SUM(J30:J37) -> 0
D50: Projektant | G50: Spracovateľ
D61: Dátum a podpis: | F61: Pečiatka | G61: Dátum a podpis: | J61: Pečiatka
D65: Objednávateľ | G65: Zhotoviteľ
D76: Dátum a podpis: | F76: Pečiatka | G76: Dátum a podpis: | J76: Pečiatka
C82: REKAPITULÁCIA ROZPOČTU
C84: Stavba:
E85: =E7 -> Rekonštrukcia spevnených plôch v rámci Mesta Humenné
C86: Objekt:
E87: =E9 -> SO 03 - Parkovisko - poliklinika II.etapa
C89: Miesto: | F89: =F12 -> Humenné | I89: Dátum: | J89: =IF(J12="","",J12) -> 11. 6. 2021
C91: Objednávateľ: | F91: =E15 -> Mesto Humenné | I91: Projektant: | J91: =E21
C92: Zhotoviteľ: | F92: =IF(E18="","",E18) | I92: Spracovateľ: | J92: =E24
C94: Kód dielu - Popis | J94: Cena celkom [EUR]
C96: Náklady z rozpočtu | J96: =J120 -> 0 | AU96: -1
D97: HSV - Práce a dodávky HSV | J97: =J121 -> 0
D98: 1 - Zemné práce | J98: =J122 -> 0
D99: 5 - Komunikácie | J99: =J147 -> 0
D100: 9 - Ostatné konštrukcie a práce-búranie | J100: =J158 -> 0
C107: ROZPOČET
C109: Stavba:
E110: =E7 -> Rekonštrukcia spevnených plôch v rámci Mesta Humenné
C111: Objekt:
E112: =E9 -> SO 03 - Parkovisko - poliklinika II.etapa
C114: Miesto: | F114: =F12 -> Humenné | I114: Dátum: | J114: =IF(J12="","",J12) -> 11. 6. 2021
C116: Objednávateľ: | F116: =E15 -> Mesto Humenné | I116: Projektant: | J116: =E21
C117: Zhotoviteľ: | F117: =IF(E18="","",E18) | I117: Spracovateľ: | J117: =E24
C119: PČ | D119: Typ | E119: Kód | F119: Popis | G119: MJ | H119: Množstvo | I119: J.cena [EUR] | J119: Cena celkom [EUR] | K119: Cenová sústava | N119: DPH | O119: J. Nh [h] | P119: Nh celkom [h] | Q119: J. hmotnosť [t] | R119: Hmotnosť celkom [t] | S119: J. suť [t] | T119: Suť Celkom [t]
C120: Náklady z rozpočtu | J120: =BK120 -> 0 | P120: =P121 -> 342.6731 | R120: =R121 -> 809.85323 | T120: =T121 -> 0 | AT120: D | AU120: -1 | BK120: =BK121 -> 0
D121: D | E121: HSV | F121: Práce a dodávky HSV | J121: =BK121 -> 0 | P121: =P122+P147+P158 -> 342.6731 | R121: =R122+R147+R158 -> 809.85323 | T121: =T122+T147+T158 -> 0 | AR121: 1 | AT121: D | AU121: 0 | AY121: ROZPOCET | BK121: =BK122+BK147+BK158 -> 0
D122: D | E122: 1 | F122: Zemné práce | J122: =BK122 -> 0 | P122: =SUM(P123:P146) -> 28.7035 | R122: =SUM(R123:R146) -> 6.424965 | T122: =SUM(T123:T146) -> 0 | AR122: 1 | AT122: D | AU122: 1 | AY122: ROZPOCET | BK122: =SUM(BK123:BK146) -> 0
C123: 1 | D123: K | E123: 112101122 | F123: Prekládka eli stlpa | G123: ks | H123: 1 | J123: =ROUND(I123*H123,2) -> 0 | N123: znížená | O123: 0 | P123: =O123*H123 -> 0 | Q123: 0 | R123: =Q123*H123 -> 0 | S123: 0 | T123: =S123*H123 -> 0 | AR123: 4 | AT123: K | AU123: 2 | AY123: ROZPOCET | BE123: =IF(N123="základná",J123,0) -> 0 | BF123: =IF(N123="znížená",J123,0) -> 0 | BG123: =IF(N123="zákl. prenesená",J123,0) -> 0 | BH123: =IF(N123="zníž. prenesená",J123,0) -> 0 | BI123: =IF(N123="nulová",J123,0) -> 0 | BJ123: 2 | BK123: =ROUND(I123*H123,2) -> 0 | BL123: 4 | BM123: -636715250
C124: 2 | D124: K | E124: 113307131 | F124: Odstránenie podkladu v ploche do 200 m2 z betónu prostého, hr. vrstvy do 150 mm, -0,22500t | G124: m2 | H124: 45 | J124: =ROUND(I124*H124,2) -> 0 | N124: znížená | O124: 0 | P124: =O124*H124 -> 0 | Q124: 0 | R124: =Q124*H124 -> 0 | S124: 0 | T124: =S124*H124 -> 0 | AR124: 4 | AT124: K | AU124: 2 | AY124: ROZPOCET | BE124: =IF(N124="základná",J124,0) -> 0 | BF124: =IF(N124="znížená",J124,0) -> 0 | BG124: =IF(N124="zákl. prenesená",J124,0) -> 0 | BH124: =IF(N124="zníž. prenesená",J124,0) -> 0 | BI124: =IF(N124="nulová",J124,0) -> 0 | BJ124: 2 | BK124: =ROUND(I124*H124,2) -> 0 | BL124: 4 | BM124: 1856341163
C125: 3 | D125: K | E125: 122101102.S | F125: Odkopávka a prekopávka nezapažená v hornine 1 a 2, nad 100 do 1000 m3 | G125: m3 | H125: 243.25 | J125: =ROUND(I125*H125,2) -> 0 | N125: znížená | O125: 0.118 | P125: =O125*H125 -> 28.7035 | Q125: 0 | R125: =Q125*H125 -> 0 | S125: 0 | T125: =S125*H125 -> 0 | AR125: 4 | AT125: K | AU125: 2 | AY125: ROZPOCET | BE125: =IF(N125="základná",J125,0) -> 0 | BF125: =IF(N125="znížená",J125,0) -> 0 | BG125: =IF(N125="zákl. prenesená",J125,0) -> 0 | BH125: =IF(N125="zníž. prenesená",J125,0) -> 0 | BI125: =IF(N125="nulová",J125,0) -> 0 | BJ125: 2 | BK125: =ROUND(I125*H125,2) -> 0 | BL125: 4 | BM125: -2014271438
C126: 4 | D126: K | E126: 122201402 | F126: Výkop v zemníku na suchu v hornine 3, nad 100 do 1000 m3 - ornica | G126: m3 | H126: 48.15 | J126: =ROUND(I126*H126,2) -> 0 | N126: znížená | O126: 0 | P126: =O126*H126 -> 0 | Q126: 0 | R126: =Q126*H126 -> 0 | S126: 0 | T126: =S126*H126 -> 0 | AR126: 4 | AT126: K | AU126: 2 | AY126: ROZPOCET | BE126: =IF(N126="základná",J126,0) -> 0 | BF126: =IF(N126="znížená",J126,0) -> 0 | BG126: =IF(N126="zákl. prenesená",J126,0) -> 0 | BH126: =IF(N126="zníž. prenesená",J126,0) -> 0 | BI126: =IF(N126="nulová",J126,0) -> 0 | BJ126: 2 | BK126: =ROUND(I126*H126,2) -> 0 | BL126: 4 | BM126: 184276386
C127: 5 | D127: K | E127: 122202201 | F127: Odkopávka a prekopávka nezapažená pre cesty a letiská v hornonách 2 do 100 m3 - zobratie ornice | G127: m3 | H127: 83.6 | J127: =ROUND(I127*H127,2) -> 0 | N127: znížená | O127: 0 | P127: =O127*H127 -> 0 | Q127: 0 | R127: =Q127*H127 -> 0 | S127: 0 | T127: =S127*H127 -> 0 | AR127: 4 | AT127: K | AU127: 2 | AY127: ROZPOCET | BE127: =IF(N127="základná",J127,0) -> 0 | BF127: =IF(N127="znížená",J127,0) -> 0 | BG127: =IF(N127="zákl. prenesená",J127,0) -> 0 | BH127: =IF(N127="zníž. prenesená",J127,0) -> 0 | BI127: =IF(N127="nulová",J127,0) -> 0 | BJ127: 2 | BK127: =ROUND(I127*H127,2) -> 0 | BL127: 4 | BM127: 1571135094
C128: 6 | D128: K | E128: 133201101 | F128: Výkop šachty hornina 3 do 100 m3-osadenie DZ | G128: m3 | H128: 0.6 | J128: =ROUND(I128*H128,2) -> 0 | N128: znížená | O128: 0 | P128: =O128*H128 -> 0 | Q128: 0 | R128: =Q128*H128 -> 0 | S128: 0 | T128: =S128*H128 -> 0 | AR128: 4 | AT128: K | AU128: 2 | AY128: ROZPOCET | BE128: =IF(N128="základná",J128,0) -> 0 | BF128: =IF(N128="znížená",J128,0) -> 0 | BG128: =IF(N128="zákl. prenesená",J128,0) -> 0 | BH128: =IF(N128="zníž. prenesená",J128,0) -> 0 | BI128: =IF(N128="nulová",J128,0) -> 0 | BJ128: 2 | BK128: =ROUND(I128*H128,2) -> 0 | BL128: 4 | BM128: 274813220
C129: 7 | D129: K | E129: 133201109 | F129: Príplatok k cenám za lepivosť horniny | G129: m3 | H129: 0.6 | J129: =ROUND(I129*H129,2) -> 0 | N129: znížená | O129: 0 | P129: =O129*H129 -> 0 | Q129: 0 | R129: =Q129*H129 -> 0 | S129: 0 | T129: =S129*H129 -> 0 | AR129: 4 | AT129: K | AU129: 2 | AY129: ROZPOCET | BE129: =IF(N129="základná",J129,0) -> 0 | BF129: =IF(N129="znížená",J129,0) -> 0 | BG129: =IF(N129="zákl. prenesená",J129,0) -> 0 | BH129: =IF(N129="zníž. prenesená",J129,0) -> 0 | BI129: =IF(N129="nulová",J129,0) -> 0 | BJ129: 2 | BK129: =ROUND(I129*H129,2) -> 0 | BL129: 4 | BM129: 116949707
C130: 8 | D130: K | E130: 162501122 | F130: Vodorovné premiestnenie výkopku po spevnenej ceste z horniny tr.1-4, nad 100 do 1000 m3 na vzdialenosť do 3000 m | G130: m3 | H130: 375 | J130: =ROUND(I130*H130,2) -> 0 | N130: znížená | O130: 0 | P130: =O130*H130 -> 0 | Q130: 0 | R130: =Q130*H130 -> 0 | S130: 0 | T130: =S130*H130 -> 0 | AR130: 4 | AT130: K | AU130: 2 | AY130: ROZPOCET | BE130: =IF(N130="základná",J130,0) -> 0 | BF130: =IF(N130="znížená",J130,0) -> 0 | BG130: =IF(N130="zákl. prenesená",J130,0) -> 0 | BH130: =IF(N130="zníž. prenesená",J130,0) -> 0 | BI130: =IF(N130="nulová",J130,0) -> 0 | BJ130: 2 | BK130: =ROUND(I130*H130,2) -> 0 | BL130: 4 | BM130: -1874314079
C131: 9 | D131: K | E131: 162501123 | F131: Vodorovné premiestnenie výkopku po spevnenej ceste z horniny tr.1-4, nad 100 do 1000 m3, príplatok k cene za každých ďalšich a začatých 1000 m | G131: m3 | H131: 1500 | J131: =ROUND(I131*H131,2) -> 0 | N131: znížená | O131: 0 | P131: =O131*H131 -> 0 | Q131: 0 | R131: =Q131*H131 -> 0 | S131: 0 | T131: =S131*H131 -> 0 | AR131: 4 | AT131: K | AU131: 2 | AY131: ROZPOCET | BE131: =IF(N131="základná",J131,0) -> 0 | BF131: =IF(N131="znížená",J131,0) -> 0 | BG131: =IF(N131="zákl. prenesená",J131,0) -> 0 | BH131: =IF(N131="zníž. prenesená",J131,0) -> 0 | BI131: =IF(N131="nulová",J131,0) -> 0 | BJ131: 2 | BK131: =ROUND(I131*H131,2) -> 0 | BL131: 4 | BM131: 863183512
C132: 10 | D132: K | E132: 171201201 | F132: Uloženie sypaniny na skládky do 100 m3 | G132: m3 | H132: 375 | J132: =ROUND(I132*H132,2) -> 0 | N132: znížená | O132: 0 | P132: =O132*H132 -> 0 | Q132: 0 | R132: =Q132*H132 -> 0 | S132: 0 | T132: =S132*H132 -> 0 | AR132: 4 | AT132: K | AU132: 2 | AY132: ROZPOCET | BE132: =IF(N132="základná",J132,0) -> 0 | BF132: =IF(N132="znížená",J132,0) -> 0 | BG132: =IF(N132="zákl. prenesená",J132,0) -> 0 | BH132: =IF(N132="zníž. prenesená",J132,0) -> 0 | BI132: =IF(N132="nulová",J132,0) -> 0 | BJ132: 2 | BK132: =ROUND(I132*H132,2) -> 0 | BL132: 4 | BM132: 1384648260
C133: 11 | D133: K | E133: 180402111 | F133: Založenie trávnika parkového výsevom v rovine do 1:5 | G133: m2 | H133: 160.5 | J133: =ROUND(I133*H133,2) -> 0 | N133: znížená | O133: 0 | P133: =O133*H133 -> 0 | Q133: 0.04 | R133: =Q133*H133 -> 6.42 | S133: 0 | T133: =S133*H133 -> 0 | AR133: 4 | AT133: K | AU133: 2 | AY133: ROZPOCET | BE133: =IF(N133="základná",J133,0) -> 0 | BF133: =IF(N133="znížená",J133,0) -> 0 | BG133: =IF(N133="zákl. prenesená",J133,0) -> 0 | BH133: =IF(N133="zníž. prenesená",J133,0) -> 0 | BI133: =IF(N133="nulová",J133,0) -> 0 | BJ133: 2 | BK133: =ROUND(I133*H133,2) -> 0 | BL133: 4 | BM133: 451331211
C134: 12 | D134: M | E134: 005720001400 | F134: Osivá tráv - semená parkovej zmesi | G134: kg | H134: 4.964 | J134: =ROUND(I134*H134,2) -> 0 | N134: znížená | O134: 0 | P134: =O134*H134 -> 0 | Q134: 0.0010002015 | R134: =Q134*H134 -> 0.004965 | S134: 0 | T134: =S134*H134 -> 0 | AR134: 8 | AT134: M | AU134: 2 | AY134: ROZPOCET | BE134: =IF(N134="základná",J134,0) -> 0 | BF134: =IF(N134="znížená",J134,0) -> 0 | BG134: =IF(N134="zákl. prenesená",J134,0) -> 0 | BH134: =IF(N134="zníž. prenesená",J134,0) -> 0 | BI134: =IF(N134="nulová",J134,0) -> 0 | BJ134: 2 | BK134: =ROUND(I134*H134,2) -> 0 | BL134: 4 | BM134: 1360467539
... C146: 24 | D146: K | E146: 185803111 | F146: Ošetrenie trávnika v rovine alebo na svahu do 1:5 | G146: m2 | H146: 160.5 | J146: =ROUND(I146*H146,2) -> 0 | N146: znížená | O146: 0 | P146: =O146*H146 -> 0 | Q146: 0 | R146: =Q146*H146 -> 0 | S146: 0 | T146: =S146*H146 -> 0 | AR146: 4 | AT146: K | AU146: 2 | AY146: ROZPOCET | BE146: =IF(N146="základná",J146,0) -> 0 | BF146: =IF(N146="znížená",J146,0) -> 0 | BG146: =IF(N146="zákl. prenesená",J146,0) -> 0 | BH146: =IF(N146="zníž. prenesená",J146,0) -> 0 | BI146: =IF(N146="nulová",J146,0) -> 0 | BJ146: 2 | BK146: =ROUND(I146*H146,2) -> 0 | BL146: 4 | BM146: -2145258690
D147: D | E147: 5 | F147: Komunikácie | J147: =BK147 -> 0 | P147: =SUM(P148:P157) -> 313.9696 | R147: =SUM(R148:R157) -> 763.76554 | T147: =SUM(T148:T157) -> 0 | AR147: 1 | AT147: D | AU147: 1 | AY147: ROZPOCET | BK147: =SUM(BK148:BK157) -> 0
C148: 25 | D148: K | E148: 564231111 | F148: Podklad alebo podsyp zo štrkopiesku s rozprestretím, vlhčením a zhutnením, po zhutnení hr. 100 mm | G148: m2 | H148: 659.6 | J148: =ROUND(I148*H148,2) -> 0 | N148: znížená | O148: 0 | P148: =O148*H148 -> 0 | Q148: 0.2224 | R148: =Q148*H148 -> 146.69504 | S148: 0 | T148: =S148*H148 -> 0 | AR148: 4 | AT148: K | AU148: 2 | AY148: ROZPOCET | BE148: =IF(N148="základná",J148,0) -> 0 | BF148: =IF(N148="znížená",J148,0) -> 0 | BG148: =IF(N148="zákl. prenesená",J148,0) -> 0 | BH148: =IF(N148="zníž. prenesená",J148,0) -> 0 | BI148: =IF(N148="nulová",J148,0) -> 0 | BJ148: 2 | BK148: =ROUND(I148*H148,2) -> 0 | BL148: 4 | BM148: 1001053544
C149: 26 | D149: K | E149: 564251111 | F149: Podklad alebo podsyp zo štrkopiesku s rozprestretím, vlhčením a zhutnením, po zhutnení hr. 150 mm | G149: m2 | H149: 89.9 | J149: =ROUND(I149*H149,2) -> 0 | N149: znížená | O149: 0 | P149: =O149*H149 -> 0 | Q149: 0.3336 | R149: =Q149*H149 -> 29.99064 | S149: 0 | T149: =S149*H149 -> 0 | AR149: 4 | AT149: K | AU149: 2 | AY149: ROZPOCET | BE149: =IF(N149="základná",J149,0) -> 0 | BF149: =IF(N149="znížená",J149,0) -> 0 | BG149: =IF(N149="zákl. prenesená",J149,0) -> 0 | BH149: =IF(N149="zníž. prenesená",J149,0) -> 0 | BI149: =IF(N149="nulová",J149,0) -> 0 | BJ149: 2 | BK149: =ROUND(I149*H149,2) -> 0 | BL149: 4 | BM149: -214365060
C150: 27 | D150: K | E150: 564811112 | F150: Podklad zo štrkodrviny s rozprestretím a zhutnením, po zhutnení hr. 60 mm | G150: m2 | H150: 659.6 | J150: =ROUND(I150*H150,2) -> 0 | N150: znížená | O150: 0 | P150: =O150*H150 -> 0 | Q150: 0.12837 | R150: =Q150*H150 -> 84.672852 | S150: 0 | T150: =S150*H150 -> 0 | AR150: 4 | AT150: K | AU150: 2 | AY150: ROZPOCET | BE150: =IF(N150="základná",J150,0) -> 0 | BF150: =IF(N150="znížená",J150,0) -> 0 | BG150: =IF(N150="zákl. prenesená",J150,0) -> 0 | BH150: =IF(N150="zníž. prenesená",J150,0) -> 0 | BI150: =IF(N150="nulová",J150,0) -> 0 | BJ150: 2 | BK150: =ROUND(I150*H150,2) -> 0 | BL150: 4 | BM150: 733302800
C151: 28 | D151: K | E151: 564831111 | F151: Podklad zo štrkodrviny fr. 8-16, s rozprestretím a zhutnením, po zhutnení hr. 100 mm | G151: m2 | H151: 659.6 | J151: =ROUND(I151*H151,2) -> 0 | N151: znížená | O151: 0 | P151: =O151*H151 -> 0 | Q151: 0.18907 | R151: =Q151*H151 -> 124.71057 | S151: 0 | T151: =S151*H151 -> 0 | AR151: 4 | AT151: K | AU151: 2 | AY151: ROZPOCET | BE151: =IF(N151="základná",J151,0) -> 0 | BF151: =IF(N151="znížená",J151,0) -> 0 | BG151: =IF(N151="zákl. prenesená",J151,0) -> 0 | BH151: =IF(N151="zníž. prenesená",J151,0) -> 0 | BI151: =IF(N151="nulová",J151,0) -> 0 | BJ151: 2 | BK151: =ROUND(I151*H151,2) -> 0 | BL151: 4 | BM151: -1200313447
C152: 29 | D152: K | E152: 564851111 | F152: Podklad zo štrkodrviny fr. 16-32mm, s rozprestretím a zhutnením, po zhutnení hr. 150 mm | G152: m2 | H152: 659.6 | J152: =ROUND(I152*H152,2) -> 0 | N152: znížená | O152: 0 | P152: =O152*H152 -> 0 | Q152: 0.27994 | R152: =Q152*H152 -> 184.64842 | S152: 0 | T152: =S152*H152 -> 0 | AR152: 4 | AT152: K | AU152: 2 | AY152: ROZPOCET | BE152: =IF(N152="základná",J152,0) -> 0 | BF152: =IF(N152="znížená",J152,0) -> 0 | BG152: =IF(N152="zákl. prenesená",J152,0) -> 0 | BH152: =IF(N152="zníž. prenesená",J152,0) -> 0 | BI152: =IF(N152="nulová",J152,0) -> 0 | BJ152: 2 | BK152: =ROUND(I152*H152,2) -> 0 | BL152: 4 | BM152: -1330144442
C153: 30 | D153: K | E153: 567114211 | F153: Podklad z podkladového betónu PB II tr. C 16/20 hr. 100 mm | G153: m2 | H153: 89.9 | J153: =ROUND(I153*H153,2) -> 0 | N153: znížená | O153: 0 | P153: =O153*H153 -> 0 | Q153: 0.26577 | R153: =Q153*H153 -> 23.892723 | S153: 0 | T153: =S153*H153 -> 0 | AR153: 4 | AT153: K | AU153: 2 | AY153: ROZPOCET | BE153: =IF(N153="základná",J153,0) -> 0 | BF153: =IF(N153="znížená",J153,0) -> 0 | BG153: =IF(N153="zákl. prenesená",J153,0) -> 0 | BH153: =IF(N153="zníž. prenesená",J153,0) -> 0 | BI153: =IF(N153="nulová",J153,0) -> 0 | BJ153: 2 | BK153: =ROUND(I153*H153,2) -> 0 | BL153: 4 | BM153: 272588698
C154: 61 | D154: K | E154: 596912214.S | F154: Kladenie betónovej dlažby z vegetačných tvárnic hr. 80 mm, do lôžka z kameniva ťaženého, veľkosti do 0,25 m2, plochy nad 300 m2 | G154: m2 | H154: 659.6 | J154: =ROUND(I154*H154,2) -> 0 | N154: znížená | O154: 0.476 | P154: =O154*H154 -> 313.9696 | Q154: 0.112 | R154: =Q154*H154 -> 73.8752 | S154: 0 | T154: =S154*H154 -> 0 | AR154: 4 | AT154: K | AU154: 2 | AY154: ROZPOCET | BE154: =IF(N154="základná",J154,0) -> 0 | BF154: =IF(N154="znížená",J154,0) -> 0 | BG154: =IF(N154="zákl. prenesená",J154,0) -> 0 | BH154: =IF(N154="zníž. prenesená",J154,0) -> 0 | BI154: =IF(N154="nulová",J154,0) -> 0 | BJ154: 2 | BK154: =ROUND(I154*H154,2) -> 0 | BL154: 4 | BM154: -599369638
C155: 32 | D155: M | E155: 592460013500 | F155: Dlažba betónová zatrávňovacia, hr. 80 mm, sivá | G155: m2 | H155: 666.196 | J155: =ROUND(I155*H155,2) -> 0 | N155: znížená | O155: 0 | P155: =O155*H155 -> 0 | Q155: 0.11 | R155: =Q155*H155 -> 73.28156 | S155: 0 | T155: =S155*H155 -> 0 | AR155: 8 | AT155: M | AU155: 2 | AY155: ROZPOCET | BE155: =IF(N155="základná",J155,0) -> 0 | BF155: =IF(N155="znížená",J155,0) -> 0 | BG155: =IF(N155="zákl. prenesená",J155,0) -> 0 | BH155: =IF(N155="zníž. prenesená",J155,0) -> 0 | BI155: =IF(N155="nulová",J155,0) -> 0 | BJ155: 2 | BK155: =ROUND(I155*H155,2) -> 0 | BL155: 4 | BM155: -958388743
C156: 33 | D156: K | E156: 596911111 | F156: Kladenie zámkovej dlažby pre peších do 20 m2 hr. 6cm | G156: m2 | H156: 89.9 | J156: =ROUND(I156*H156,2) -> 0 | N156: znížená | O156: 0 | P156: =O156*H156 -> 0 | Q156: 0.1134 | R156: =Q156*H156 -> 10.19466 | S156: 0 | T156: =S156*H156 -> 0 | AR156: 4 | AT156: K | AU156: 2 | AY156: ROZPOCET | BE156: =IF(N156="základná",J156,0) -> 0 | BF156: =IF(N156="znížená",J156,0) -> 0 | BG156: =IF(N156="zákl. prenesená",J156,0) -> 0 | BH156: =IF(N156="zníž. prenesená",J156,0) -> 0 | BI156: =IF(N156="nulová",J156,0) -> 0 | BJ156: 2 | BK156: =ROUND(I156*H156,2) -> 0 | BL156: 4 | BM156: 343971283
C157: 34 | D157: M | E157: 592460004700 | F157: Dlažba betónová High value PREMAC KLASIKO Aquaflair, rozmer 200x100x60 mm, sivá | G157: m2 | H157: 90.799 | J157: =ROUND(I157*H157,2) -> 0 | N157: znížená | O157: 0 | P157: =O157*H157 -> 0 | Q157: 0.13 | R157: =Q157*H157 -> 11.80387 | S157: 0 | T157: =S157*H157 -> 0 | AR157: 8 | AT157: M | AU157: 2 | AY157: ROZPOCET | BE157: =IF(N157="základná",J157,0) -> 0 | BF157: =IF(N157="znížená",J157,0) -> 0 | BG157: =IF(N157="zákl. prenesená",J157,0) -> 0 | BH157: =IF(N157="zníž. prenesená",J157,0) -> 0 | BI157: =IF(N157="nulová",J157,0) -> 0 | BJ157: 2 | BK157: =ROUND(I157*H157,2) -> 0 | BL157: 4 | BM157: 212973221
D158: D | E158: 9 | F158: Ostatné konštrukcie a práce-búranie | J158: =BK158 -> 0 | P158: =SUM(P159:P184) -> 0 | R158: =SUM(R159:R184) -> 39.662723 | T158: =SUM(T159:T184) -> 0 | AR158: 1 | AT158: D | AU158: 1 | AY158: ROZPOCET | BK158: =SUM(BK159:BK184) -> 0
C159: 35 | D159: M | E159: 4041354300 | F159: Stojan pre značku | G159: Kus | H159: 3 | J159: =ROUND(I159*H159,2) -> 0 | N159: znížená | O159: 0 | P159: =O159*H159 -> 0 | Q159: 0.0186 | R159: =Q159*H159 -> 0.0558 | S159: 0 | T159: =S159*H159 -> 0 | AR159: 8 | AT159: M | AU159: 2 | AY159: ROZPOCET | BE159: =IF(N159="základná",J159,0) -> 0 | BF159: =IF(N159="znížená",J159,0) -> 0 | BG159: =IF(N159="zákl. prenesená",J159,0) -> 0 | BH159: =IF(N159="zníž. prenesená",J159,0) -> 0 | BI159: =IF(N159="nulová",J159,0) -> 0 | BJ159: 2 | BK159: =ROUND(I159*H159,2) -> 0 | BL159: 4 | BM159: 1359958396
C160: 36 | D160: K | E160: 914001111 | F160: Osadenie a montáž cestnej zvislej dopravnej značky na stľpik,stľp,konzolu alebo objekt | G160: ks | H160: 7 | J160: =ROUND(I160*H160,2) -> 0 | N160: znížená | O160: 0 | P160: =O160*H160 -> 0 | Q160: 0.2457 | R160: =Q160*H160 -> 1.7199 | S160: 0 | T160: =S160*H160 -> 0 | AR160: 4 | AT160: K | AU160: 2 | AY160: ROZPOCET | BE160: =IF(N160="základná",J160,0) -> 0 | BF160: =IF(N160="znížená",J160,0) -> 0 | BG160: =IF(N160="zákl. prenesená",J160,0) -> 0 | BH160: =IF(N160="zníž. prenesená",J160,0) -> 0 | BI160: =IF(N160="nulová",J160,0) -> 0 | BJ160: 2 | BK160: =ROUND(I160*H160,2) -> 0 | BL160: 4 | BM160: -2095234712
C161: 37 | D161: M | E161: 4044781420 | F161: P1 „Daj prednosť v jazde !“ pozinkovaná, základný rozmer 900 mm, fólia RA1 | G161: ks | H161: 2 | J161: =ROUND(I161*H161,2) -> 0 | N161: znížená | O161: 0 | P161: =O161*H161 -> 0 | Q161: 0 | R161: =Q161*H161 -> 0 | S161: 0 | T161: =S161*H161 -> 0 | AR161: 8 | AT161: M | AU161: 2 | AY161: ROZPOCET | BE161: =IF(N161="základná",J161,0) -> 0 | BF161: =IF(N161="znížená",J161,0) -> 0 | BG161: =IF(N161="zákl. prenesená",J161,0) -> 0 | BH161: =IF(N161="zníž. prenesená",J161,0) -> 0 | BI161: =IF(N161="nulová",J161,0) -> 0 | BJ161: 2 | BK161: =ROUND(I161*H161,2) -> 0 | BL161: 4 | BM161: 908304344
C162: 38 | D162: M | E162: 404410117000 | F162: Informatívna prevádzková značka IP16 (Parkovisko – parkovacie miesta s vyhradeným státím), rozmer 500x700 mm, fólia RA1, pozinkovaná | G162: ks | H162: 1 | J162: =ROUND(I162*H162,2) -> 0 | N162: znížená | O162: 0 | P162: =O162*H162 -> 0 | Q162: 0.002 | R162: =Q162*H162 -> 0.002 | S162: 0 | T162: =S162*H162 -> 0 | AR162: 8 | AT162: M | AU162: 2 | AY162: ROZPOCET | BE162: =IF(N162="základná",J162,0) -> 0 | BF162: =IF(N162="znížená",J162,0) -> 0 | BG162: =IF(N162="zákl. prenesená",J162,0) -> 0 | BH162: =IF(N162="zníž. prenesená",J162,0) -> 0 | BI162: =IF(N162="nulová",J162,0) -> 0 | BJ162: 2 | BK162: =ROUND(I162*H162,2) -> 0 | BL162: 4 | BM162: 589131579
C163: 39 | D163: M | E163: 404410194200 | F163: Dodatková tabuľka E1 (Počet), rozmer 500x500 mm, Zn plech so zahnutým lisovaným okrajom I. trieda, EG, 7 rokov | G163: ks | H163: 1 | J163: =ROUND(I163*H163,2) -> 0 | N163: znížená | O163: 0 | P163: =O163*H163 -> 0 | Q163: 0.0081 | R163: =Q163*H163 -> 0.0081 | S163: 0 | T163: =S163*H163 -> 0 | AR163: 8 | AT163: M | AU163: 2 | AY163: ROZPOCET | BE163: =IF(N163="základná",J163,0) -> 0 | BF163: =IF(N163="znížená",J163,0) -> 0 | BG163: =IF(N163="zákl. prenesená",J163,0) -> 0 | BH163: =IF(N163="zníž. prenesená",J163,0) -> 0 | BI163: =IF(N163="nulová",J163,0) -> 0 | BJ163: 2 | BK163: =ROUND(I163*H163,2) -> 0 | BL163: 4 | BM163: -689980746
C164: 40 | D164: M | E164: 404410084700 | F164: Príkazová značka C2 (Prikázaný smer jazdy vpravo), rozmer 700 mm, fólia RA1, pozinkovaná | G164: ks | H164: 2 | J164: =ROUND(I164*H164,2) -> 0 | N164: znížená | O164: 0 | P164: =O164*H164 -> 0 | Q164: 0.00093 | R164: =Q164*H164 -> 0.00186 | S164: 0 | T164: =S164*H164 -> 0 | AR164: 8 | AT164: M | AU164: 2 | AY164: ROZPOCET | BE164: =IF(N164="základná",J164,0) -> 0 | BF164: =IF(N164="znížená",J164,0) -> 0 | BG164: =IF(N164="zákl. prenesená",J164,0) -> 0 | BH164: =IF(N164="zníž. prenesená",J164,0) -> 0 | BI164: =IF(N164="nulová",J164,0) -> 0 | BJ164: 2 | BK164: =ROUND(I164*H164,2) -> 0 | BL164: 4 | BM164: 1470197263
C165: 41 | D165: M | E165: 404410195700 | F165: Dodatková tabuľka E7 (Smerová šípka), rozmer 500x150 mm, Zn plech so zahnutým lisovaným okrajom I. trieda, EG, 7 rokov | G165: ks | H165: 1 | J165: =ROUND(I165*H165,2) -> 0 | N165: znížená | O165: 0 | P165: =O165*H165 -> 0 | Q165: 0.0031 | R165: =Q165*H165 -> 0.0031 | S165: 0 | T165: =S165*H165 -> 0 | AR165: 8 | AT165: M | AU165: 2 | AY165: ROZPOCET | BE165: =IF(N165="základná",J165,0) -> 0 | BF165: =IF(N165="znížená",J165,0) -> 0 | BG165: =IF(N165="zákl. prenesená",J165,0) -> 0 | BH165: =IF(N165="zníž. prenesená",J165,0) -> 0 | BI165: =IF(N165="nulová",J165,0) -> 0 | BJ165: 2 | BK165: =ROUND(I165*H165,2) -> 0 | BL165: 4 | BM165: -1542573480
C166: 42 | D166: K | E166: 915711111 | F166: Vodorovné značenie krytu striekané farbou deliacich čiar šírky 120 mm | G166: m | H166: 145 | J166: =ROUND(I166*H166,2) -> 0 | N166: znížená | O166: 0 | P166: =O166*H166 -> 0 | Q166: 8.9987163e-05 | R166: =Q166*H166 -> 0.013048139 | S166: 0 | T166: =S166*H166 -> 0 | AR166: 4 | AT166: K | AU166: 2 | AY166: ROZPOCET | BE166: =IF(N166="základná",J166,0) -> 0 | BF166: =IF(N166="znížená",J166,0) -> 0 | BG166: =IF(N166="zákl. prenesená",J166,0) -> 0 | BH166: =IF(N166="zníž. prenesená",J166,0) -> 0 | BI166: =IF(N166="nulová",J166,0) -> 0 | BJ166: 2 | BK166: =ROUND(I166*H166,2) -> 0 | BL166: 4 | BM166: 703495556
C167: 43 | D167: K | E167: 915719111 | F167: Príplatok k cene za reflexnú úpravu balotinovú deliacich čiar šírky 120 mm | G167: m | H167: 145 | J167: =ROUND(I167*H167,2) -> 0 | N167: znížená | O167: 0 | P167: =O167*H167 -> 0 | Q167: 3.9987163e-05 | R167: =Q167*H167 -> 0.0057981386 | S167: 0 | T167: =S167*H167 -> 0 | AR167: 4 | AT167: K | AU167: 2 | AY167: ROZPOCET | BE167: =IF(N167="základná",J167,0) -> 0 | BF167: =IF(N167="znížená",J167,0) -> 0 | BG167: =IF(N167="zákl. prenesená",J167,0) -> 0 | BH167: =IF(N167="zníž. prenesená",J167,0) -> 0 | BI167: =IF(N167="nulová",J167,0) -> 0 | BJ167: 2 | BK167: =ROUND(I167*H167,2) -> 0 | BL167: 4 | BM167: 21979576
C168: 44 | D168: K | E168: 915721111 | F168: Vodorovné značenie krytu striekané farbou stopčiar, zebier, tieňov, šípok nápisov, prechodov a pod. | G168: m2 | H168: 4.5 | J168: =ROUND(I168*H168,2) -> 0 | N168: znížená | O168: 0 | P168: =O168*H168 -> 0 | Q168: 0.00066 | R168: =Q168*H168 -> 0.00297 | S168: 0 | T168: =S168*H168 -> 0 | AR168: 4 | AT168: K | AU168: 2 | AY168: ROZPOCET | BE168: =IF(N168="základná",J168,0) -> 0 | BF168: =IF(N168="znížená",J168,0) -> 0 | BG168: =IF(N168="zákl. prenesená",J168,0) -> 0 | BH168: =IF(N168="zníž. prenesená",J168,0) -> 0 | BI168: =IF(N168="nulová",J168,0) -> 0 | BJ168: 2 | BK168: =ROUND(I168*H168,2) -> 0 | BL168: 4 | BM168: -292116874
C169: 45 | D169: K | E169: 915729111 | F169: Príplatok za reflexnú úpravu balotinovú stopčiar, zebier, tieňov, šípok nápisov, prechodov a pod. | G169: m2 | H169: 4.5 | J169: =ROUND(I169*H169,2) -> 0 | N169: znížená | O169: 0 | P169: =O169*H169 -> 0 | Q169: 0.00032 | R169: =Q169*H169 -> 0.00144 | S169: 0 | T169: =S169*H169 -> 0 | AR169: 4 | AT169: K | AU169: 2 | AY169: ROZPOCET | BE169: =IF(N169="základná",J169,0) -> 0 | BF169: =IF(N169="znížená",J169,0) -> 0 | BG169: =IF(N169="zákl. prenesená",J169,0) -> 0 | BH169: =IF(N169="zníž. prenesená",J169,0) -> 0 | BI169: =IF(N169="nulová",J169,0) -> 0 | BJ169: 2 | BK169: =ROUND(I169*H169,2) -> 0 | BL169: 4 | BM169: -1999792379
C170: 46 | D170: K | E170: 915791111 | F170: Predznačenie pre značenie striekané farbou z náterových hmôt deliace čiary, vodiace prúžky | G170: m | H170: 145 | J170: =ROUND(I170*H170,2) -> 0 | N170: znížená | O170: 0 | P170: =O170*H170 -> 0 | Q170: 3.4980745e-06 | R170: =Q170*H170 -> 0.0005072208 | S170: 0 | T170: =S170*H170 -> 0 | AR170: 4 | AT170: K | AU170: 2 | AY170: ROZPOCET | BE170: =IF(N170="základná",J170,0) -> 0 | BF170: =IF(N170="znížená",J170,0) -> 0 | BG170: =IF(N170="zákl. prenesená",J170,0) -> 0 | BH170: =IF(N170="zníž. prenesená",J170,0) -> 0 | BI170: =IF(N170="nulová",J170,0) -> 0 | BJ170: 2 | BK170: =ROUND(I170*H170,2) -> 0 | BL170: 4 | BM170: 92803879
... C184: 60 | D184: K | E184: 979082121 | F184: Poplatok za uskladnenie TKO | G184: t | H184: 97.9 | J184: =ROUND(I184*H184,2) -> 0 | N184: znížená | O184: 0 | P184: =O184*H184 -> 0 | Q184: 0 | R184: =Q184*H184 -> 0 | S184: 0 | T184: =S184*H184 -> 0 | AR184: 4 | AT184: K | AU184: 2 | AY184: ROZPOCET | BE184: =IF(N184="základná",J184,0) -> 0 | BF184: =IF(N184="znížená",J184,0) -> 0 | BG184: =IF(N184="zákl. prenesená",J184,0) -> 0 | BH184: =IF(N184="zníž. prenesená",J184,0) -> 0 | BI184: =IF(N184="nulová",J184,0) -> 0 | BJ184: 2 | BK184: =ROUND(I184*H184,2) -> 0 | BL184: 4 | BM184: 1491984348

Sheet SO 04 - Spevnená plocha D...
L2: >> skryté stĺpce << | AT2: {cf140b33-5bbe-4f1e-891e-c3a2264bea56}
AT3: 0
D4: KRYCÍ LIST ROZPOČTU | M4: v --- nižšie sa nachádzajú doplnkové a pomocné údaje k zostavám --- v | AT4: False
D6: Stavba:
E7: ='Rekapitulácia stavby'!K6 -> Rekonštrukcia spevnených plôch v rámci Mesta Humenné
D8: Objekt:
E9: SO 04 - Spevnená plocha Dobrianskeho
D11: JKSO: | I11: KS:
D12: Miesto: | F12: Humenné | I12: Dátum: | J12: ='Rekapitulácia stavby'!AN8 -> 11. 6. 2021
D14: Objednávateľ: | I14: IČO:
E15: Mesto Humenné | I15: IČ DPH:
D17: Zhotoviteľ: | I17: IČO: | J17: ='Rekapitulácia stavby'!AN13
E18: ='Rekapitulácia stavby'!E14 | I18: IČ DPH: | J18: ='Rekapitulácia stavby'!AN14
D20: Projektant: | I20: IČO: | J20: =IF('Rekapitulácia stavby'!AN16="","",'Rekapitulácia stavby'!AN16)
E21: =IF('Rekapitulácia stavby'!E17="","",'Rekapitulácia stavby'!E17) | I21: IČ DPH: | J21: =IF('Rekapitulácia stavby'!AN17="","",'Rekapitulácia stavby'!AN17)
D23: Spracovateľ: | I23: IČO: | J23: =IF('Rekapitulácia stavby'!AN19="","",'Rekapitulácia stavby'!AN19)
E24: =IF('Rekapitulácia stavby'!E20="","",'Rekapitulácia stavby'!E20) | I24: IČ DPH: | J24: =IF('Rekapitulácia stavby'!AN20="","",'Rekapitulácia stavby'!AN20)
D26: Poznámka:
D30: Cena bez DPH | J30: =ROUND(J120, 2) -> 0
F32: Základ dane | I32: Sadzba dane | J32: Výška dane
D33: DPH | E33: základná | F33: =ROUND((SUM(BE120:BE148)), 2) -> 0 | I33: 0.2 | J33: =ROUND(((SUM(BE120:BE148))*I33), 2) -> 0
E34: znížená | F34: =ROUND((SUM(BF120:BF148)), 2) -> 0 | I34: 0.2 | J34: =ROUND(((SUM(BF120:BF148))*I34), 2) -> 0
E35: zákl. prenesená | F35: =ROUND((SUM(BG120:BG148)), 2) -> 0 | I35: 0.2 | J35: =0 -> 0
E36: zníž. prenesená | F36: =ROUND((SUM(BH120:BH148)), 2) -> 0 | I36: 0.2 | J36: =0 -> 0
E37: nulová | F37: =ROUND((SUM(BI120:BI148)), 2) -> 0 | I37: 0 | J37: =0 -> 0
D39: Cena s DPH | G39: v | H39: EUR | J39: =SUM(J30:J37) -> 0
D50: Projektant | G50: Spracovateľ
D61: Dátum a podpis: | F61: Pečiatka | G61: Dátum a podpis: | J61: Pečiatka
D65: Objednávateľ | G65: Zhotoviteľ
D76: Dátum a podpis: | F76: Pečiatka | G76: Dátum a podpis: | J76: Pečiatka
C82: REKAPITULÁCIA ROZPOČTU
C84: Stavba:
E85: =E7 -> Rekonštrukcia spevnených plôch v rámci Mesta Humenné
C86: Objekt:
E87: =E9 -> SO 04 - Spevnená plocha Dobrianskeho
C89: Miesto: | F89: =F12 -> Humenné | I89: Dátum: | J89: =IF(J12="","",J12) -> 11. 6. 2021
C91: Objednávateľ: | F91: =E15 -> Mesto Humenné | I91: Projektant: | J91: =E21
C92: Zhotoviteľ: | F92: =IF(E18="","",E18) | I92: Spracovateľ: | J92: =E24
C94: Kód dielu - Popis | J94: Cena celkom [EUR]
C96: Náklady z rozpočtu | J96: =J120 -> 0 | AU96: -1
D97: HSV - Práce a dodávky HSV | J97: =J121 -> 0
D98: 1 - Zemné práce | J98: =J122 -> 0
D99: 5 - Komunikácie | J99: =J132 -> 0
D100: 9 - Ostatné konštrukcie a práce-búranie | J100: =J142 -> 0
C107: ROZPOČET
C109: Stavba:
E110: =E7 -> Rekonštrukcia spevnených plôch v rámci Mesta Humenné
C111: Objekt:
E112: =E9 -> SO 04 - Spevnená plocha Dobrianskeho
C114: Miesto: | F114: =F12 -> Humenné | I114: Dátum: | J114: =IF(J12="","",J12) -> 11. 6. 2021
C116: Objednávateľ: | F116: =E15 -> Mesto Humenné | I116: Projektant: | J116: =E21
C117: Zhotoviteľ: | F117: =IF(E18="","",E18) | I117: Spracovateľ: | J117: =E24
C119: PČ | D119: Typ | E119: Kód | F119: Popis | G119: MJ | H119: Množstvo | I119: J.cena [EUR] | J119: Cena celkom [EUR] | K119: Cenová sústava | N119: DPH | O119: J. Nh [h] | P119: Nh celkom [h] | Q119: J. hmotnosť [t] | R119: Hmotnosť celkom [t] | S119: J. suť [t] | T119: Suť Celkom [t]
C120: Náklady z rozpočtu | J120: =BK120 -> 0 | P120: =P121 -> 149.31354 | R120: =R121 -> 38.560497 | T120: =T121 -> 0 | AT120: D | AU120: -1 | BK120: =BK121 -> 0
D121: D | E121: HSV | F121: Práce a dodávky HSV | J121: =BK121 -> 0 | P121: =P122+P132+P142 -> 149.31354 | R121: =R122+R132+R142 -> 38.560497 | T121: =T122+T132+T142 -> 0 | AR121: 1 | AT121: D | AU121: 0 | AY121: ROZPOCET | BK121: =BK122+BK132+BK142 -> 0
D122: D | E122: 1 | F122: Zemné práce | J122: =BK122 -> 0 | P122: =SUM(P123:P131) -> 37.323458 | R122: =SUM(R123:R131) -> 12.5 | T122: =SUM(T123:T131) -> 0 | AR122: 1 | AT122: D | AU122: 1 | AY122: ROZPOCET | BK122: =SUM(BK123:BK131) -> 0
C123: 1 | D123: K | E123: 121101111.S | F123: Odstránenie ornice s vodor. premiestn. na hromady, so zložením na vzdialenosť do 100 m a do 100m3 | G123: m3 | H123: 18.704 | J123: =ROUND(I123*H123,2) -> 0 | N123: znížená | O123: 0.013 | P123: =O123*H123 -> 0.243152 | Q123: 0 | R123: =Q123*H123 -> 0 | S123: 0 | T123: =S123*H123 -> 0 | AR123: 4 | AT123: K | AU123: 2 | AY123: ROZPOCET | BE123: =IF(N123="základná",J123,0) -> 0 | BF123: =IF(N123="znížená",J123,0) -> 0 | BG123: =IF(N123="zákl. prenesená",J123,0) -> 0 | BH123: =IF(N123="zníž. prenesená",J123,0) -> 0 | BI123: =IF(N123="nulová",J123,0) -> 0 | BJ123: 2 | BK123: =ROUND(I123*H123,2) -> 0 | BL123: 4 | BM123: -669205528
C124: 2 | D124: K | E124: 122201402.S | F124: Výkop v zemníku na suchu v hornine 3, nad 100 do 1000 m3 | G124: m3 | H124: 74.816 | J124: =ROUND(I124*H124,2) -> 0 | N124: znížená | O124: 0.095 | P124: =O124*H124 -> 7.10752 | Q124: 0 | R124: =Q124*H124 -> 0 | S124: 0 | T124: =S124*H124 -> 0 | AR124: 4 | AT124: K | AU124: 2 | AY124: ROZPOCET | BE124: =IF(N124="základná",J124,0) -> 0 | BF124: =IF(N124="znížená",J124,0) -> 0 | BG124: =IF(N124="zákl. prenesená",J124,0) -> 0 | BH124: =IF(N124="zníž. prenesená",J124,0) -> 0 | BI124: =IF(N124="nulová",J124,0) -> 0 | BJ124: 2 | BK124: =ROUND(I124*H124,2) -> 0 | BL124: 4 | BM124: 1793760508
C125: 3 | D125: K | E125: 122201409.S | F125: Príplatok k cenám za lepivosť výkopu v zemníkoch na suchu v hornine 3 | G125: m3 | H125: 74.816 | J125: =ROUND(I125*H125,2) -> 0 | N125: znížená | O125: 0.023 | P125: =O125*H125 -> 1.720768 | Q125: 0 | R125: =Q125*H125 -> 0 | S125: 0 | T125: =S125*H125 -> 0 | AR125: 4 | AT125: K | AU125: 2 | AY125: ROZPOCET | BE125: =IF(N125="základná",J125,0) -> 0 | BF125: =IF(N125="znížená",J125,0) -> 0 | BG125: =IF(N125="zákl. prenesená",J125,0) -> 0 | BH125: =IF(N125="zníž. prenesená",J125,0) -> 0 | BI125: =IF(N125="nulová",J125,0) -> 0 | BJ125: 2 | BK125: =ROUND(I125*H125,2) -> 0 | BL125: 4 | BM125: 774023654
C126: 4 | D126: K | E126: 162301101.S | F126: Vodorovné premiestnenie výkopku po spevnenej ceste z horniny tr.1-4, do 100 m3 na vzdialenosť do 500 m | G126: m3 | H126: 74.816 | J126: =ROUND(I126*H126,2) -> 0 | N126: znížená | O126: 0.0269 | P126: =O126*H126 -> 2.0125504 | Q126: 0 | R126: =Q126*H126 -> 0 | S126: 0 | T126: =S126*H126 -> 0 | AR126: 4 | AT126: K | AU126: 2 | AY126: ROZPOCET | BE126: =IF(N126="základná",J126,0) -> 0 | BF126: =IF(N126="znížená",J126,0) -> 0 | BG126: =IF(N126="zákl. prenesená",J126,0) -> 0 | BH126: =IF(N126="zníž. prenesená",J126,0) -> 0 | BI126: =IF(N126="nulová",J126,0) -> 0 | BJ126: 2 | BK126: =ROUND(I126*H126,2) -> 0 | BL126: 4 | BM126: -1450817790
C127: 5 | D127: K | E127: 162501105.S | F127: Vodorovné premiestnenie výkopku po spevnenej ceste z horniny tr.1-4, do 100 m3, príplatok k cene za každých ďalšich a začatých 1000 m | G127: m3 | H127: 448.896 | J127: =ROUND(I127*H127,2) -> 0 | N127: znížená | O127: 0.00737 | P127: =O127*H127 -> 3.3083635 | Q127: 0 | R127: =Q127*H127 -> 0 | S127: 0 | T127: =S127*H127 -> 0 | AR127: 4 | AT127: K | AU127: 2 | AY127: ROZPOCET | BE127: =IF(N127="základná",J127,0) -> 0 | BF127: =IF(N127="znížená",J127,0) -> 0 | BG127: =IF(N127="zákl. prenesená",J127,0) -> 0 | BH127: =IF(N127="zníž. prenesená",J127,0) -> 0 | BI127: =IF(N127="nulová",J127,0) -> 0 | BJ127: 2 | BK127: =ROUND(I127*H127,2) -> 0 | BL127: 4 | BM127: -835986032
C128: 6 | D128: K | E128: 171201201.S | F128: Uloženie sypaniny na skládky do 100 m3 | G128: m3 | H128: 74.816 | J128: =ROUND(I128*H128,2) -> 0 | N128: znížená | O128: 0.009 | P128: =O128*H128 -> 0.673344 | Q128: 0 | R128: =Q128*H128 -> 0 | S128: 0 | T128: =S128*H128 -> 0 | AR128: 4 | AT128: K | AU128: 2 | AY128: ROZPOCET | BE128: =IF(N128="základná",J128,0) -> 0 | BF128: =IF(N128="znížená",J128,0) -> 0 | BG128: =IF(N128="zákl. prenesená",J128,0) -> 0 | BH128: =IF(N128="zníž. prenesená",J128,0) -> 0 | BI128: =IF(N128="nulová",J128,0) -> 0 | BJ128: 2 | BK128: =ROUND(I128*H128,2) -> 0 | BL128: 4 | BM128: 328892975
C129: 7 | D129: K | E129: 171209002.S | F129: Poplatok za skladovanie - zemina a kamenivo (17 05) ostatné | G129: t | H129: 74.816 | J129: =ROUND(I129*H129,2) -> 0 | N129: znížená | O129: 0 | P129: =O129*H129 -> 0 | Q129: 0 | R129: =Q129*H129 -> 0 | S129: 0 | T129: =S129*H129 -> 0 | AR129: 4 | AT129: K | AU129: 2 | AY129: ROZPOCET | BE129: =IF(N129="základná",J129,0) -> 0 | BF129: =IF(N129="znížená",J129,0) -> 0 | BG129: =IF(N129="zákl. prenesená",J129,0) -> 0 | BH129: =IF(N129="zníž. prenesená",J129,0) -> 0 | BI129: =IF(N129="nulová",J129,0) -> 0 | BJ129: 2 | BK129: =ROUND(I129*H129,2) -> 0 | BL129: 4 | BM129: -847484584
C130: 8 | D130: K | E130: 182313101.S | F130: Vyplnenie otvoru v tvárniciach ornicou | G130: m2 | H130: 187.04 | J130: =ROUND(I130*H130,2) -> 0 | N130: znížená | O130: 0.119 | P130: =O130*H130 -> 22.25776 | Q130: 0 | R130: =Q130*H130 -> 0 | S130: 0 | T130: =S130*H130 -> 0 | AR130: 4 | AT130: K | AU130: 2 | AY130: ROZPOCET | BE130: =IF(N130="základná",J130,0) -> 0 | BF130: =IF(N130="znížená",J130,0) -> 0 | BG130: =IF(N130="zákl. prenesená",J130,0) -> 0 | BH130: =IF(N130="zníž. prenesená",J130,0) -> 0 | BI130: =IF(N130="nulová",J130,0) -> 0 | BJ130: 2 | BK130: =ROUND(I130*H130,2) -> 0 | BL130: 4 | BM130: -25891247
C131: 9 | D131: M | E131: 583310002700.S | F131: Štrkopiesok frakcia 0-8 mm | G131: t | H131: 12.5 | J131: =ROUND(I131*H131,2) -> 0 | N131: znížená | O131: 0 | P131: =O131*H131 -> 0 | Q131: 1 | R131: =Q131*H131 -> 12.5 | S131: 0 | T131: =S131*H131 -> 0 | AR131: 8 | AT131: M | AU131: 2 | AY131: ROZPOCET | BE131: =IF(N131="základná",J131,0) -> 0 | BF131: =IF(N131="znížená",J131,0) -> 0 | BG131: =IF(N131="zákl. prenesená",J131,0) -> 0 | BH131: =IF(N131="zníž. prenesená",J131,0) -> 0 | BI131: =IF(N131="nulová",J131,0) -> 0 | BJ131: 2 | BK131: =ROUND(I131*H131,2) -> 0 | BL131: 4 | BM131: -846262098
D132: D | E132: 5 | F132: Komunikácie | J132: =BK132 -> 0 | P132: =SUM(P133:P141) -> 91.72408 | R132: =SUM(R133:R141) -> 25.46372 | T132: =SUM(T133:T141) -> 0 | AR132: 1 | AT132: D | AU132: 1 | AY132: ROZPOCET | BK132: =SUM(BK133:BK141) -> 0
C133: 10 | D133: K | E133: 564231111 | F133: Podklad alebo podsyp zo štrkopiesku s rozprestretím, vlhčením a zhutnením, po zhutnení hr. 100 mm | G133: m2 | H133: 175.04 | J133: =ROUND(I133*H133,2) -> 0 | N133: znížená | O133: 0 | P133: =O133*H133 -> 0 | Q133: 0 | R133: =Q133*H133 -> 0 | S133: 0 | T133: =S133*H133 -> 0 | AR133: 4 | AT133: K | AU133: 2 | AY133: ROZPOCET | BE133: =IF(N133="základná",J133,0) -> 0 | BF133: =IF(N133="znížená",J133,0) -> 0 | BG133: =IF(N133="zákl. prenesená",J133,0) -> 0 | BH133: =IF(N133="zníž. prenesená",J133,0) -> 0 | BI133: =IF(N133="nulová",J133,0) -> 0 | BJ133: 2 | BK133: =ROUND(I133*H133,2) -> 0 | BL133: 4 | BM133: -809363372
C134: 11 | D134: K | E134: 564251111 | F134: Podklad alebo podsyp zo štrkopiesku s rozprestretím, vlhčením a zhutnením, po zhutnení hr. 150 mm | G134: m2 | H134: 187.04 | J134: =ROUND(I134*H134,2) -> 0 | N134: znížená | O134: 0 | P134: =O134*H134 -> 0 | Q134: 0 | R134: =Q134*H134 -> 0 | S134: 0 | T134: =S134*H134 -> 0 | AR134: 4 | AT134: K | AU134: 2 | AY134: ROZPOCET | BE134: =IF(N134="základná",J134,0) -> 0 | BF134: =IF(N134="znížená",J134,0) -> 0 | BG134: =IF(N134="zákl. prenesená",J134,0) -> 0 | BH134: =IF(N134="zníž. prenesená",J134,0) -> 0 | BI134: =IF(N134="nulová",J134,0) -> 0 | BJ134: 2 | BK134: =ROUND(I134*H134,2) -> 0 | BL134: 4 | BM134: -728454002
C135: 12 | D135: K | E135: 564811112 | F135: Podklad zo štrkodrviny s rozprestretím a zhutnením, po zhutnení hr. 60 mm | G135: m2 | H135: 187.04 | J135: =ROUND(I135*H135,2) -> 0 | N135: znížená | O135: 0 | P135: =O135*H135 -> 0 | Q135: 0 | R135: =Q135*H135 -> 0 | S135: 0 | T135: =S135*H135 -> 0 | AR135: 4 | AT135: K | AU135: 2 | AY135: ROZPOCET | BE135: =IF(N135="základná",J135,0) -> 0 | BF135: =IF(N135="znížená",J135,0) -> 0 | BG135: =IF(N135="zákl. prenesená",J135,0) -> 0 | BH135: =IF(N135="zníž. prenesená",J135,0) -> 0 | BI135: =IF(N135="nulová",J135,0) -> 0 | BJ135: 2 | BK135: =ROUND(I135*H135,2) -> 0 | BL135: 4 | BM135: 1032645910
C136: 13 | D136: K | E136: 564851111 | F136: Podklad zo štrkodrviny fr. 16-32mm, s rozprestretím a zhutnením, po zhutnení hr. 150 mm | G136: m2 | H136: 187.04 | J136: =ROUND(I136*H136,2) -> 0 | N136: znížená | O136: 0 | P136: =O136*H136 -> 0 | Q136: 0 | R136: =Q136*H136 -> 0 | S136: 0 | T136: =S136*H136 -> 0 | AR136: 4 | AT136: K | AU136: 2 | AY136: ROZPOCET | BE136: =IF(N136="základná",J136,0) -> 0 | BF136: =IF(N136="znížená",J136,0) -> 0 | BG136: =IF(N136="zákl. prenesená",J136,0) -> 0 | BH136: =IF(N136="zníž. prenesená",J136,0) -> 0 | BI136: =IF(N136="nulová",J136,0) -> 0 | BJ136: 2 | BK136: =ROUND(I136*H136,2) -> 0 | BL136: 4 | BM136: -1122006473
C137: 24 | D137: K | E137: 567114211 | F137: Podklad z podkladového betónu PB II tr. C 16/20 hr. 100 mm | G137: m2 | H137: 12 | J137: =ROUND(I137*H137,2) -> 0 | N137: znížená | O137: 0 | P137: =O137*H137 -> 0 | Q137: 0.26577 | R137: =Q137*H137 -> 3.18924 | S137: 0 | T137: =S137*H137 -> 0 | AR137: 4 | AT137: K | AU137: 2 | AY137: ROZPOCET | BE137: =IF(N137="základná",J137,0) -> 0 | BF137: =IF(N137="znížená",J137,0) -> 0 | BG137: =IF(N137="zákl. prenesená",J137,0) -> 0 | BH137: =IF(N137="zníž. prenesená",J137,0) -> 0 | BI137: =IF(N137="nulová",J137,0) -> 0 | BJ137: 2 | BK137: =ROUND(I137*H137,2) -> 0 | BL137: 4 | BM137: 1574802360
C138: 22 | D138: K | E138: 596911142.S | F138: Kladenie betónovej zámkovej dlažby komunikácií pre peších hr. 60 mm pre peších nad 50 do 100 m2 so zriadením lôžka z kameniva hr. 30 mm | G138: m2 | H138: 12 | J138: =ROUND(I138*H138,2) -> 0 | N138: znížená | O138: 0.70042 | P138: =O138*H138 -> 8.40504 | Q138: 0.0925 | R138: =Q138*H138 -> 1.11 | S138: 0 | T138: =S138*H138 -> 0 | AR138: 4 | AT138: K | AU138: 2 | AY138: ROZPOCET | BE138: =IF(N138="základná",J138,0) -> 0 | BF138: =IF(N138="znížená",J138,0) -> 0 | BG138: =IF(N138="zákl. prenesená",J138,0) -> 0 | BH138: =IF(N138="zníž. prenesená",J138,0) -> 0 | BI138: =IF(N138="nulová",J138,0) -> 0 | BJ138: 2 | BK138: =ROUND(I138*H138,2) -> 0 | BL138: 4 | BM138: -1621545135
C139: 23 | D139: M | E139: 592460007500 | F139: Dlažba betónová bezškárová,hr. 60 mm, sivá | G139: m2 | H139: 12 | J139: =ROUND(I139*H139,2) -> 0 | N139: znížená | O139: 0 | P139: =O139*H139 -> 0 | Q139: 0.13 | R139: =Q139*H139 -> 1.56 | S139: 0 | T139: =S139*H139 -> 0 | AR139: 8 | AT139: M | AU139: 2 | AY139: ROZPOCET | BE139: =IF(N139="základná",J139,0) -> 0 | BF139: =IF(N139="znížená",J139,0) -> 0 | BG139: =IF(N139="zákl. prenesená",J139,0) -> 0 | BH139: =IF(N139="zníž. prenesená",J139,0) -> 0 | BI139: =IF(N139="nulová",J139,0) -> 0 | BJ139: 2 | BK139: =ROUND(I139*H139,2) -> 0 | BL139: 4 | BM139: 315284098
C140: 14 | D140: K | E140: 596912214.S | F140: Kladenie betónovej dlažby z vegetačných tvárnic hr. 80 mm, do lôžka z kameniva ťaženého, veľkosti do 0,25 m2, plochy nad 300 m2 | G140: m2 | H140: 175.04 | J140: =ROUND(I140*H140,2) -> 0 | N140: znížená | O140: 0.476 | P140: =O140*H140 -> 83.31904 | Q140: 0.112 | R140: =Q140*H140 -> 19.60448 | S140: 0 | T140: =S140*H140 -> 0 | AR140: 4 | AT140: K | AU140: 2 | AY140: ROZPOCET | BE140: =IF(N140="základná",J140,0) -> 0 | BF140: =IF(N140="znížená",J140,0) -> 0 | BG140: =IF(N140="zákl. prenesená",J140,0) -> 0 | BH140: =IF(N140="zníž. prenesená",J140,0) -> 0 | BI140: =IF(N140="nulová",J140,0) -> 0 | BJ140: 2 | BK140: =ROUND(I140*H140,2) -> 0 | BL140: 4 | BM140: 764633898
C141: 15 | D141: M | E141: 592460013500 | F141: Dlažba betónová Low value PREMAC VEGA zatrávňovacia, rozmer 610x405x80 mm, sivá | G141: m2 | H141: 175.04 | J141: =ROUND(I141*H141,2) -> 0 | N141: znížená | O141: 0 | P141: =O141*H141 -> 0 | Q141: 0 | R141: =Q141*H141 -> 0 | S141: 0 | T141: =S141*H141 -> 0 | AR141: 8 | AT141: M | AU141: 2 | AY141: ROZPOCET | BE141: =IF(N141="základná",J141,0) -> 0 | BF141: =IF(N141="znížená",J141,0) -> 0 | BG141: =IF(N141="zákl. prenesená",J141,0) -> 0 | BH141: =IF(N141="zníž. prenesená",J141,0) -> 0 | BI141: =IF(N141="nulová",J141,0) -> 0 | BJ141: 2 | BK141: =ROUND(I141*H141,2) -> 0 | BL141: 4 | BM141: 1660486462
D142: D | E142: 9 | F142: Ostatné konštrukcie a práce-búranie | J142: =BK142 -> 0 | P142: =SUM(P143:P148) -> 20.266 | R142: =SUM(R143:R148) -> 0.59677723 | T142: =SUM(T143:T148) -> 0 | AR142: 1 | AT142: D | AU142: 1 | AY142: ROZPOCET | BK142: =SUM(BK143:BK148) -> 0
C143: 16 | D143: K | E143: 915711111 | F143: Vodorovné značenie krytu striekané farbou deliacich čiar šírky 120 mm | G143: m | H143: 28 | J143: =ROUND(I143*H143,2) -> 0 | N143: znížená | O143: 0 | P143: =O143*H143 -> 0 | Q143: 8.9987163e-05 | R143: =Q143*H143 -> 0.0025196406 | S143: 0 | T143: =S143*H143 -> 0 | AR143: 4 | AT143: K | AU143: 2 | AY143: ROZPOCET | BE143: =IF(N143="základná",J143,0) -> 0 | BF143: =IF(N143="znížená",J143,0) -> 0 | BG143: =IF(N143="zákl. prenesená",J143,0) -> 0 | BH143: =IF(N143="zníž. prenesená",J143,0) -> 0 | BI143: =IF(N143="nulová",J143,0) -> 0 | BJ143: 2 | BK143: =ROUND(I143*H143,2) -> 0 | BL143: 4 | BM143: 1572333624
C144: 17 | D144: K | E144: 915719111 | F144: Príplatok k cene za reflexnú úpravu balotinovú deliacich čiar šírky 120 mm | G144: m | H144: 28 | J144: =ROUND(I144*H144,2) -> 0 | N144: znížená | O144: 0 | P144: =O144*H144 -> 0 | Q144: 3.9987163e-05 | R144: =Q144*H144 -> 0.0011196406 | S144: 0 | T144: =S144*H144 -> 0 | AR144: 4 | AT144: K | AU144: 2 | AY144: ROZPOCET | BE144: =IF(N144="základná",J144,0) -> 0 | BF144: =IF(N144="znížená",J144,0) -> 0 | BG144: =IF(N144="zákl. prenesená",J144,0) -> 0 | BH144: =IF(N144="zníž. prenesená",J144,0) -> 0 | BI144: =IF(N144="nulová",J144,0) -> 0 | BJ144: 2 | BK144: =ROUND(I144*H144,2) -> 0 | BL144: 4 | BM144: -99749075
C145: 18 | D145: K | E145: 915791111 | F145: Predznačenie pre značenie striekané farbou z náterových hmôt deliace čiary, vodiace prúžky | G145: m | H145: 28 | J145: =ROUND(I145*H145,2) -> 0 | N145: znížená | O145: 0 | P145: =O145*H145 -> 0 | Q145: 3.4980745e-06 | R145: =Q145*H145 -> 9.7946085e-05 | S145: 0 | T145: =S145*H145 -> 0 | AR145: 4 | AT145: K | AU145: 2 | AY145: ROZPOCET | BE145: =IF(N145="základná",J145,0) -> 0 | BF145: =IF(N145="znížená",J145,0) -> 0 | BG145: =IF(N145="zákl. prenesená",J145,0) -> 0 | BH145: =IF(N145="zníž. prenesená",J145,0) -> 0 | BI145: =IF(N145="nulová",J145,0) -> 0 | BJ145: 2 | BK145: =ROUND(I145*H145,2) -> 0 | BL145: 4 | BM145: -2071840251
C146: 19 | D146: K | E146: 916531111.S | F146: Osadenie záhonového alebo parkového obrubníka betón., do lôžka z bet. pros. tr. C 12/15 bez bočnej opory | G146: m | H146: 5.6 | J146: =ROUND(I146*H146,2) -> 0 | N146: znížená | O146: 0.1 | P146: =O146*H146 -> 0.56 | Q146: 0.08267 | R146: =Q146*H146 -> 0.462952 | S146: 0 | T146: =S146*H146 -> 0 | AR146: 4 | AT146: K | AU146: 2 | AY146: ROZPOCET | BE146: =IF(N146="základná",J146,0) -> 0 | BF146: =IF(N146="znížená",J146,0) -> 0 | BG146: =IF(N146="zákl. prenesená",J146,0) -> 0 | BH146: =IF(N146="zníž. prenesená",J146,0) -> 0 | BI146: =IF(N146="nulová",J146,0) -> 0 | BJ146: 2 | BK146: =ROUND(I146*H146,2) -> 0 | BL146: 4 | BM146: -1704182249
C147: 20 | D147: M | E147: 592170001800.S | F147: Obrubník parkový, lxšxv 1000x50x200 mm, prírodný | G147: ks | H147: 5.656 | J147: =ROUND(I147*H147,2) -> 0 | N147: znížená | O147: 0 | P147: =O147*H147 -> 0 | Q147: 0.023 | R147: =Q147*H147 -> 0.130088 | S147: 0 | T147: =S147*H147 -> 0 | AR147: 8 | AT147: M | AU147: 2 | AY147: ROZPOCET | BE147: =IF(N147="základná",J147,0) -> 0 | BF147: =IF(N147="znížená",J147,0) -> 0 | BG147: =IF(N147="zákl. prenesená",J147,0) -> 0 | BH147: =IF(N147="zníž. prenesená",J147,0) -> 0 | BI147: =IF(N147="nulová",J147,0) -> 0 | BJ147: 2 | BK147: =ROUND(I147*H147,2) -> 0 | BL147: 4 | BM147: -143545380
C148: 21 | D148: K | E148: 919735113.S | F148: Rezanie existujúceho asfaltového krytu alebo podkladu hĺbky nad 100 do 150 mm | G148: m | H148: 66.8 | J148: =ROUND(I148*H148,2) -> 0 | N148: znížená | O148: 0.295 | P148: =O148*H148 -> 19.706 | Q148: 0 | R148: =Q148*H148 -> 0 | S148: 0 | T148: =S148*H148 -> 0 | AR148: 4 | AT148: K | AU148: 2 | AY148: ROZPOCET | BE148: =IF(N148="základná",J148,0) -> 0 | BF148: =IF(N148="znížená",J148,0) -> 0 | BG148: =IF(N148="zákl. prenesená",J148,0) -> 0 | BH148: =IF(N148="zníž. prenesená",J148,0) -> 0 | BI148: =IF(N148="nulová",J148,0) -> 0 | BJ148: 2 | BK148: =ROUND(I148*H148,2) -> 0 | BL148: 4 | BM148: -1524926623

Sheet SO 05 - Sídlisko pod Soko...
L2: >> skryté stĺpce << | AT2: {b20bcaaa-327d-4d0a-bc7e-807b34fd7154}
AT3: 0
D4: KRYCÍ LIST ROZPOČTU | M4: v --- nižšie sa nachádzajú doplnkové a pomocné údaje k zostavám --- v | AT4: False
D6: Stavba:
E7: ='Rekapitulácia stavby'!K6 -> Rekonštrukcia spevnených plôch v rámci Mesta Humenné
D8: Objekt:
E9: SO 05 - Sídlisko pod Sokolejom - spevnené plochy II.etapa
D11: JKSO: | I11: KS:
D12: Miesto: | F12: Humenné | I12: Dátum: | J12: ='Rekapitulácia stavby'!AN8 -> 11. 6. 2021
D14: Objednávateľ: | I14: IČO:
E15: Mesto Humenné | I15: IČ DPH:
D17: Zhotoviteľ: | I17: IČO: | J17: ='Rekapitulácia stavby'!AN13
E18: ='Rekapitulácia stavby'!E14 | I18: IČ DPH: | J18: ='Rekapitulácia stavby'!AN14
D20: Projektant: | I20: IČO: | J20: =IF('Rekapitulácia stavby'!AN16="","",'Rekapitulácia stavby'!AN16)
E21: =IF('Rekapitulácia stavby'!E17="","",'Rekapitulácia stavby'!E17) | I21: IČ DPH: | J21: =IF('Rekapitulácia stavby'!AN17="","",'Rekapitulácia stavby'!AN17)
D23: Spracovateľ: | I23: IČO: | J23: =IF('Rekapitulácia stavby'!AN19="","",'Rekapitulácia stavby'!AN19)
E24: =IF('Rekapitulácia stavby'!E20="","",'Rekapitulácia stavby'!E20) | I24: IČ DPH: | J24: =IF('Rekapitulácia stavby'!AN20="","",'Rekapitulácia stavby'!AN20)
D26: Poznámka:
D30: Cena bez DPH | J30: =ROUND(J124, 2) -> 0
F32: Základ dane | I32: Sadzba dane | J32: Výška dane
D33: DPH | E33: základná | F33: =ROUND((SUM(BE124:BE167)), 2) -> 0 | I33: 0.2 | J33: =ROUND(((SUM(BE124:BE167))*I33), 2) -> 0
E34: znížená | F34: =ROUND((SUM(BF124:BF167)), 2) -> 0 | I34: 0.2 | J34: =ROUND(((SUM(BF124:BF167))*I34), 2) -> 0
E35: zákl. prenesená | F35: =ROUND((SUM(BG124:BG167)), 2) -> 0 | I35: 0.2 | J35: =0 -> 0
E36: zníž. prenesená | F36: =ROUND((SUM(BH124:BH167)), 2) -> 0 | I36: 0.2 | J36: =0 -> 0
E37: nulová | F37: =ROUND((SUM(BI124:BI167)), 2) -> 0 | I37: 0 | J37: =0 -> 0
D39: Cena s DPH | G39: v | H39: EUR | J39: =SUM(J30:J37) -> 0
D50: Projektant | G50: Spracovateľ
D61: Dátum a podpis: | F61: Pečiatka | G61: Dátum a podpis: | J61: Pečiatka
D65: Objednávateľ | G65: Zhotoviteľ
D76: Dátum a podpis: | F76: Pečiatka | G76: Dátum a podpis: | J76: Pečiatka
C82: REKAPITULÁCIA ROZPOČTU
C84: Stavba:
E85: =E7 -> Rekonštrukcia spevnených plôch v rámci Mesta Humenné
C86: Objekt:
E87: =E9 -> SO 05 - Sídlisko pod Sokolejom - spevnené plochy II.etapa
C89: Miesto: | F89: =F12 -> Humenné | I89: Dátum: | J89: =IF(J12="","",J12) -> 11. 6. 2021
C91: Objednávateľ: | F91: =E15 -> Mesto Humenné | I91: Projektant: | J91: =E21
C92: Zhotoviteľ: | F92: =IF(E18="","",E18) | I92: Spracovateľ: | J92: =E24
C94: Kód dielu - Popis | J94: Cena celkom [EUR]
C96: Náklady z rozpočtu | J96: =J124 -> 0 | AU96: -1
D97: HSV - Práce a dodávky HSV | J97: =J125 -> 0
D98: 1 - Zemné práce | J98: =J126 -> 0
D99: 5 - Komunikácie | J99: =J137 -> 0
D100: 8 - Rúrové vedenie | J100: =J145 -> 0
D101: 9 - Ostatné konštrukcie a práce-búranie | J101: =J147 -> 0
D102: 99 - Presun hmôt HSV | J102: =J163 -> 0
D103: M - Práce a dodávky M | J103: =J165 -> 0
D104: 21-M - Elektromontáže | J104: =J166 -> 0
C111: ROZPOČET
C113: Stavba:
E114: =E7 -> Rekonštrukcia spevnených plôch v rámci Mesta Humenné
C115: Objekt:
E116: =E9 -> SO 05 - Sídlisko pod Sokolejom - spevnené plochy II.etapa
C118: Miesto: | F118: =F12 -> Humenné | I118: Dátum: | J118: =IF(J12="","",J12) -> 11. 6. 2021
C120: Objednávateľ: | F120: =E15 -> Mesto Humenné | I120: Projektant: | J120: =E21
C121: Zhotoviteľ: | F121: =IF(E18="","",E18) | I121: Spracovateľ: | J121: =E24
C123: PČ | D123: Typ | E123: Kód | F123: Popis | G123: MJ | H123: Množstvo | I123: J.cena [EUR] | J123: Cena celkom [EUR] | K123: Cenová sústava | N123: DPH | O123: J. Nh [h] | P123: Nh celkom [h] | Q123: J. hmotnosť [t] | R123: Hmotnosť celkom [t] | S123: J. suť [t] | T123: Suť Celkom [t]
C124: Náklady z rozpočtu | J124: =BK124 -> 0 | P124: =P125+P165 -> 1192.5748 | R124: =R125+R165 -> 801.79912 | T124: =T125+T165 -> 26.593 | AT124: D | AU124: -1 | BK124: =BK125+BK165 -> 0
D125: D | E125: HSV | F125: Práce a dodávky HSV | J125: =BK125 -> 0 | P125: =P126+P137+P145+P147+P163 -> 1192.5748 | R125: =R126+R137+R145+R147+R163 -> 801.79912 | T125: =T126+T137+T145+T147+T163 -> 26.593 | AR125: 1 | AT125: D | AU125: 0 | AY125: ROZPOCET | BK125: =BK126+BK137+BK145+BK147+BK163 -> 0
D126: D | E126: 1 | F126: Zemné práce | J126: =BK126 -> 0 | P126: =SUM(P127:P136) -> 312.60063 | R126: =SUM(R127:R136) -> 40.89 | T126: =SUM(T127:T136) -> 26.593 | AR126: 1 | AT126: D | AU126: 1 | AY126: ROZPOCET | BK126: =SUM(BK127:BK136) -> 0
C127: 1 | D127: K | E127: 113206111.S | F127: Vytrhanie obrúb betónových, s vybúraním lôžka, z krajníkov alebo obrubníkov stojatých, -0,14500t | G127: m | H127: 183.4 | J127: =ROUND(I127*H127,2) -> 0 | N127: znížená | O127: 0.127 | P127: =O127*H127 -> 23.2918 | Q127: 0 | R127: =Q127*H127 -> 0 | S127: 0.145 | T127: =S127*H127 -> 26.593 | AR127: 4 | AT127: K | AU127: 2 | AY127: ROZPOCET | BE127: =IF(N127="základná",J127,0) -> 0 | BF127: =IF(N127="znížená",J127,0) -> 0 | BG127: =IF(N127="zákl. prenesená",J127,0) -> 0 | BH127: =IF(N127="zníž. prenesená",J127,0) -> 0 | BI127: =IF(N127="nulová",J127,0) -> 0 | BJ127: 2 | BK127: =ROUND(I127*H127,2) -> 0 | BL127: 4 | BM127: 1947416161
C128: 2 | D128: K | E128: 121101111.S | F128: Odstránenie ornice s vodor. premiestn. na hromady, so zložením na vzdialenosť do 100 m a do 100m3 | G128: m3 | H128: 68.5 | J128: =ROUND(I128*H128,2) -> 0 | N128: znížená | O128: 0.013 | P128: =O128*H128 -> 0.8905 | Q128: 0 | R128: =Q128*H128 -> 0 | S128: 0 | T128: =S128*H128 -> 0 | AR128: 4 | AT128: K | AU128: 2 | AY128: ROZPOCET | BE128: =IF(N128="základná",J128,0) -> 0 | BF128: =IF(N128="znížená",J128,0) -> 0 | BG128: =IF(N128="zákl. prenesená",J128,0) -> 0 | BH128: =IF(N128="zníž. prenesená",J128,0) -> 0 | BI128: =IF(N128="nulová",J128,0) -> 0 | BJ128: 2 | BK128: =ROUND(I128*H128,2) -> 0 | BL128: 4 | BM128: 492603939
C129: 3 | D129: K | E129: 122201101.S | F129: Odkopávka a prekopávka nezapažená v hornine 3, do 100 m3 | G129: m3 | H129: 272.5 | J129: =ROUND(I129*H129,2) -> 0 | N129: znížená | O129: 0.46 | P129: =O129*H129 -> 125.35 | Q129: 0 | R129: =Q129*H129 -> 0 | S129: 0 | T129: =S129*H129 -> 0 | AR129: 4 | AT129: K | AU129: 2 | AY129: ROZPOCET | BE129: =IF(N129="základná",J129,0) -> 0 | BF129: =IF(N129="znížená",J129,0) -> 0 | BG129: =IF(N129="zákl. prenesená",J129,0) -> 0 | BH129: =IF(N129="zníž. prenesená",J129,0) -> 0 | BI129: =IF(N129="nulová",J129,0) -> 0 | BJ129: 2 | BK129: =ROUND(I129*H129,2) -> 0 | BL129: 4 | BM129: -2095498564
C130: 4 | D130: K | E130: 122201109.S | F130: Odkopávky a prekopávky nezapažené. Príplatok k cenám za lepivosť horniny 3 | G130: m3 | H130: 272.5 | J130: =ROUND(I130*H130,2) -> 0 | N130: znížená | O130: 0.056 | P130: =O130*H130 -> 15.26 | Q130: 0 | R130: =Q130*H130 -> 0 | S130: 0 | T130: =S130*H130 -> 0 | AR130: 4 | AT130: K | AU130: 2 | AY130: ROZPOCET | BE130: =IF(N130="základná",J130,0) -> 0 | BF130: =IF(N130="znížená",J130,0) -> 0 | BG130: =IF(N130="zákl. prenesená",J130,0) -> 0 | BH130: =IF(N130="zníž. prenesená",J130,0) -> 0 | BI130: =IF(N130="nulová",J130,0) -> 0 | BJ130: 2 | BK130: =ROUND(I130*H130,2) -> 0 | BL130: 4 | BM130: -1164444613
C131: 5 | D131: K | E131: 162503102.S | F131: Vodorovné premiestnenie výkopku pre cesty po spevnenej ceste z horniny tr.1-4 do 1000 m3 na vzdialenosť do 3000 m | G131: m3 | H131: 341 | J131: =ROUND(I131*H131,2) -> 0 | N131: znížená | O131: 0.0489 | P131: =O131*H131 -> 16.6749 | Q131: 0 | R131: =Q131*H131 -> 0 | S131: 0 | T131: =S131*H131 -> 0 | AR131: 4 | AT131: K | AU131: 2 | AY131: ROZPOCET | BE131: =IF(N131="základná",J131,0) -> 0 | BF131: =IF(N131="znížená",J131,0) -> 0 | BG131: =IF(N131="zákl. prenesená",J131,0) -> 0 | BH131: =IF(N131="zníž. prenesená",J131,0) -> 0 | BI131: =IF(N131="nulová",J131,0) -> 0 | BJ131: 2 | BK131: =ROUND(I131*H131,2) -> 0 | BL131: 4 | BM131: 1258195273
C132: 6 | D132: K | E132: 162503103.S | F132: Vodorovné premiestnenie výkopku pre cesty po spevnenej ceste z horniny tr.1-4 do 1000 m3, príplatok k cene za každých ďalšich a začatých 1000 m | G132: m3 | H132: 2387 | J132: =ROUND(I132*H132,2) -> 0 | N132: znížená | O132: 0.00539 | P132: =O132*H132 -> 12.86593 | Q132: 0 | R132: =Q132*H132 -> 0 | S132: 0 | T132: =S132*H132 -> 0 | AR132: 4 | AT132: K | AU132: 2 | AY132: ROZPOCET | BE132: =IF(N132="základná",J132,0) -> 0 | BF132: =IF(N132="znížená",J132,0) -> 0 | BG132: =IF(N132="zákl. prenesená",J132,0) -> 0 | BH132: =IF(N132="zníž. prenesená",J132,0) -> 0 | BI132: =IF(N132="nulová",J132,0) -> 0 | BJ132: 2 | BK132: =ROUND(I132*H132,2) -> 0 | BL132: 4 | BM132: -920688379
C133: 7 | D133: K | E133: 167101102.S | F133: Nakladanie neuľahnutého výkopku z hornín tr.1-4 nad 100 do 1000 m3 | G133: m3 | H133: 341 | J133: =ROUND(I133*H133,2) -> 0 | N133: znížená | O133: 0.087 | P133: =O133*H133 -> 29.667 | Q133: 0 | R133: =Q133*H133 -> 0 | S133: 0 | T133: =S133*H133 -> 0 | AR133: 4 | AT133: K | AU133: 2 | AY133: ROZPOCET | BE133: =IF(N133="základná",J133,0) -> 0 | BF133: =IF(N133="znížená",J133,0) -> 0 | BG133: =IF(N133="zákl. prenesená",J133,0) -> 0 | BH133: =IF(N133="zníž. prenesená",J133,0) -> 0 | BI133: =IF(N133="nulová",J133,0) -> 0 | BJ133: 2 | BK133: =ROUND(I133*H133,2) -> 0 | BL133: 4 | BM133: -751204632
C134: 8 | D134: K | E134: 171102102.S | F134: Uloženie sypaniny do násypu súdržných hornín pre diaľnice na 96% Proctor-Standard | G134: m3 | H134: 341 | J134: =ROUND(I134*H134,2) -> 0 | N134: znížená | O134: 0.022 | P134: =O134*H134 -> 7.502 | Q134: 0 | R134: =Q134*H134 -> 0 | S134: 0 | T134: =S134*H134 -> 0 | AR134: 4 | AT134: K | AU134: 2 | AY134: ROZPOCET | BE134: =IF(N134="základná",J134,0) -> 0 | BF134: =IF(N134="znížená",J134,0) -> 0 | BG134: =IF(N134="zákl. prenesená",J134,0) -> 0 | BH134: =IF(N134="zníž. prenesená",J134,0) -> 0 | BI134: =IF(N134="nulová",J134,0) -> 0 | BJ134: 2 | BK134: =ROUND(I134*H134,2) -> 0 | BL134: 4 | BM134: 74139114
C135: 9 | D135: K | E135: 182313101.S | F135: Vyplnenie otvoru v tvárniciach | G135: m2 | H135: 681.5 | J135: =ROUND(I135*H135,2) -> 0 | N135: znížená | O135: 0.119 | P135: =O135*H135 -> 81.0985 | Q135: 0 | R135: =Q135*H135 -> 0 | S135: 0 | T135: =S135*H135 -> 0 | AR135: 4 | AT135: K | AU135: 2 | AY135: ROZPOCET | BE135: =IF(N135="základná",J135,0) -> 0 | BF135: =IF(N135="znížená",J135,0) -> 0 | BG135: =IF(N135="zákl. prenesená",J135,0) -> 0 | BH135: =IF(N135="zníž. prenesená",J135,0) -> 0 | BI135: =IF(N135="nulová",J135,0) -> 0 | BJ135: 2 | BK135: =ROUND(I135*H135,2) -> 0 | BL135: 4 | BM135: -362509331
C136: 10 | D136: M | E136: 58331000270011 | F136: Štrkopiesok so zeminou na zasypávanie polovegetačných tvárnic | G136: t | H136: 40.89 | J136: =ROUND(I136*H136,2) -> 0 | N136: znížená | O136: 0 | P136: =O136*H136 -> 0 | Q136: 1 | R136: =Q136*H136 -> 40.89 | S136: 0 | T136: =S136*H136 -> 0 | AR136: 8 | AT136: M | AU136: 2 | AY136: ROZPOCET | BE136: =IF(N136="základná",J136,0) -> 0 | BF136: =IF(N136="znížená",J136,0) -> 0 | BG136: =IF(N136="zákl. prenesená",J136,0) -> 0 | BH136: =IF(N136="zníž. prenesená",J136,0) -> 0 | BI136: =IF(N136="nulová",J136,0) -> 0 | BJ136: 2 | BK136: =ROUND(I136*H136,2) -> 0 | BL136: 4 | BM136: -812112841
D137: D | E137: 5 | F137: Komunikácie | J137: =BK137 -> 0 | P137: =SUM(P138:P144) -> 462.68812 | R137: =SUM(R138:R144) -> 702.05395 | T137: =SUM(T138:T144) -> 0 | AR137: 1 | AT137: D | AU137: 1 | AY137: ROZPOCET | BK137: =SUM(BK138:BK144) -> 0
C138: 15 | D138: K | E138: 564730111.S | F138: Podklad alebo kryt z kameniva hrubého drveného veľ. 8-16 mm s rozprestretím a zhutnením hr. 100 mm | G138: m2 | H138: 681.5 | J138: =ROUND(I138*H138,2) -> 0 | N138: znížená | O138: 0.02512 | P138: =O138*H138 -> 17.11928 | Q138: 0.199 | R138: =Q138*H138 -> 135.6185 | S138: 0 | T138: =S138*H138 -> 0 | AR138: 4 | AT138: K | AU138: 2 | AY138: ROZPOCET | BE138: =IF(N138="základná",J138,0) -> 0 | BF138: =IF(N138="znížená",J138,0) -> 0 | BG138: =IF(N138="zákl. prenesená",J138,0) -> 0 | BH138: =IF(N138="zníž. prenesená",J138,0) -> 0 | BI138: =IF(N138="nulová",J138,0) -> 0 | BJ138: 2 | BK138: =ROUND(I138*H138,2) -> 0 | BL138: 4 | BM138: -2103536310
C139: 16 | D139: K | E139: 564730211.S | F139: Podklad alebo kryt z kameniva hrubého drveného veľ. 16-32 mm s rozprestretím a zhutnením hr. 100 mm | G139: m2 | H139: 681.5 | J139: =ROUND(I139*H139,2) -> 0 | N139: znížená | O139: 0.02512 | P139: =O139*H139 -> 17.11928 | Q139: 0.199 | R139: =Q139*H139 -> 135.6185 | S139: 0 | T139: =S139*H139 -> 0 | AR139: 4 | AT139: K | AU139: 2 | AY139: ROZPOCET | BE139: =IF(N139="základná",J139,0) -> 0 | BF139: =IF(N139="znížená",J139,0) -> 0 | BG139: =IF(N139="zákl. prenesená",J139,0) -> 0 | BH139: =IF(N139="zníž. prenesená",J139,0) -> 0 | BI139: =IF(N139="nulová",J139,0) -> 0 | BJ139: 2 | BK139: =ROUND(I139*H139,2) -> 0 | BL139: 4 | BM139: 64947542
C140: 17 | D140: K | E140: 5647511111 | F140: Podklad alebo kryt z kameniva hrubého drveného veľ. 16-63 mm s rozprestretím a zhutnením hr. 150 mm | G140: m2 | H140: 681.5 | J140: =ROUND(I140*H140,2) -> 0 | N140: znížená | O140: 0.02112 | P140: =O140*H140 -> 14.39328 | Q140: 0.2916 | R140: =Q140*H140 -> 198.7254 | S140: 0 | T140: =S140*H140 -> 0 | AR140: 4 | AT140: K | AU140: 2 | AY140: ROZPOCET | BE140: =IF(N140="základná",J140,0) -> 0 | BF140: =IF(N140="znížená",J140,0) -> 0 | BG140: =IF(N140="zákl. prenesená",J140,0) -> 0 | BH140: =IF(N140="zníž. prenesená",J140,0) -> 0 | BI140: =IF(N140="nulová",J140,0) -> 0 | BJ140: 2 | BK140: =ROUND(I140*H140,2) -> 0 | BL140: 4 | BM140: -1921564082
C141: 18 | D141: K | E141: 564811112.S | F141: Podklad zo štrkodrviny s rozprestretím a zhutnením, po zhutnení hr. 60 mm | G141: m2 | H141: 681.5 | J141: =ROUND(I141*H141,2) -> 0 | N141: znížená | O141: 0.02212 | P141: =O141*H141 -> 15.07478 | Q141: 0.11637 | R141: =Q141*H141 -> 79.306155 | S141: 0 | T141: =S141*H141 -> 0 | AR141: 4 | AT141: K | AU141: 2 | AY141: ROZPOCET | BE141: =IF(N141="základná",J141,0) -> 0 | BF141: =IF(N141="znížená",J141,0) -> 0 | BG141: =IF(N141="zákl. prenesená",J141,0) -> 0 | BH141: =IF(N141="zníž. prenesená",J141,0) -> 0 | BI141: =IF(N141="nulová",J141,0) -> 0 | BJ141: 2 | BK141: =ROUND(I141*H141,2) -> 0 | BL141: 4 | BM141: 685585466
C142: 39 | D142: K | E142: 57299113511 | F142: Vyspravenie asfaltovou sanačnou hmotou šírky nad 70 mm | G142: m | H142: 140 | J142: =ROUND(I142*H142,2) -> 0 | N142: znížená | O142: 0.119 | P142: =O142*H142 -> 16.66 | Q142: 0.01066 | R142: =Q142*H142 -> 1.4924 | S142: 0 | T142: =S142*H142 -> 0 | AR142: 4 | AT142: K | AU142: 2 | AY142: ROZPOCET | BE142: =IF(N142="základná",J142,0) -> 0 | BF142: =IF(N142="znížená",J142,0) -> 0 | BG142: =IF(N142="zákl. prenesená",J142,0) -> 0 | BH142: =IF(N142="zníž. prenesená",J142,0) -> 0 | BI142: =IF(N142="nulová",J142,0) -> 0 | BJ142: 2 | BK142: =ROUND(I142*H142,2) -> 0 | BL142: 4 | BM142: 1682093510
C143: 19 | D143: K | E143: 596912212.S | F143: Kladenie betónovej dlažby z vegetačných tvárnic hr. 80 mm, do lôžka z kameniva ťaženého, veľkosti do 0,25 m2, plochy nad 50 do 100 m2 | G143: m2 | H143: 681.5 | J143: =ROUND(I143*H143,2) -> 0 | N143: znížená | O143: 0.561 | P143: =O143*H143 -> 382.3215 | Q143: 0.112 | R143: =Q143*H143 -> 76.328 | S143: 0 | T143: =S143*H143 -> 0 | AR143: 4 | AT143: K | AU143: 2 | AY143: ROZPOCET | BE143: =IF(N143="základná",J143,0) -> 0 | BF143: =IF(N143="znížená",J143,0) -> 0 | BG143: =IF(N143="zákl. prenesená",J143,0) -> 0 | BH143: =IF(N143="zníž. prenesená",J143,0) -> 0 | BI143: =IF(N143="nulová",J143,0) -> 0 | BJ143: 2 | BK143: =ROUND(I143*H143,2) -> 0 | BL143: 4 | BM143: -1023727278
C144: 20 | D144: M | E144: 592460013500 | F144: Dlažba betónová zatrávňovacia, hr. 80 mm, sivá | G144: m2 | H144: 681.5 | J144: =ROUND(I144*H144,2) -> 0 | N144: znížená | O144: 0 | P144: =O144*H144 -> 0 | Q144: 0.11 | R144: =Q144*H144 -> 74.965 | S144: 0 | T144: =S144*H144 -> 0 | AR144: 8 | AT144: M | AU144: 2 | AY144: ROZPOCET | BE144: =IF(N144="základná",J144,0) -> 0 | BF144: =IF(N144="znížená",J144,0) -> 0 | BG144: =IF(N144="zákl. prenesená",J144,0) -> 0 | BH144: =IF(N144="zníž. prenesená",J144,0) -> 0 | BI144: =IF(N144="nulová",J144,0) -> 0 | BJ144: 2 | BK144: =ROUND(I144*H144,2) -> 0 | BL144: 4 | BM144: 1959728139
D145: D | E145: 8 | F145: Rúrové vedenie | J145: =BK145 -> 0 | P145: =P146 -> 7.224 | R145: =R146 -> 0.82128 | T145: =T146 -> 0 | AR145: 1 | AT145: D | AU145: 1 | AY145: ROZPOCET | BK145: =BK146 -> 0
C146: 33 | D146: K | E146: 89933111111 | F146: Výšková úprava kanalizačnej šachty | G146: ks | H146: 2 | J146: =ROUND(I146*H146,2) -> 0 | N146: znížená | O146: 3.612 | P146: =O146*H146 -> 7.224 | Q146: 0.41064 | R146: =Q146*H146 -> 0.82128 | S146: 0 | T146: =S146*H146 -> 0 | AR146: 4 | AT146: K | AU146: 2 | AY146: ROZPOCET | BE146: =IF(N146="základná",J146,0) -> 0 | BF146: =IF(N146="znížená",J146,0) -> 0 | BG146: =IF(N146="zákl. prenesená",J146,0) -> 0 | BH146: =IF(N146="zníž. prenesená",J146,0) -> 0 | BI146: =IF(N146="nulová",J146,0) -> 0 | BJ146: 2 | BK146: =ROUND(I146*H146,2) -> 0 | BL146: 4 | BM146: 1978430751
D147: D | E147: 9 | F147: Ostatné konštrukcie a práce-búranie | J147: =BK147 -> 0 | P147: =SUM(P148:P162) -> 94.955 | R147: =SUM(R148:R162) -> 58.033888 | T147: =SUM(T148:T162) -> 0 | AR147: 1 | AT147: D | AU147: 1 | AY147: ROZPOCET | BK147: =SUM(BK148:BK162) -> 0
C148: 36 | D148: K | E148: 91239113123 | F148: Výmena kanalizačného poklopu | G148: ks | H148: 2 | J148: =ROUND(I148*H148,2) -> 0 | N148: znížená | O148: 0.243 | P148: =O148*H148 -> 0.486 | Q148: 3e-05 | R148: =Q148*H148 -> 6e-05 | S148: 0 | T148: =S148*H148 -> 0 | AR148: 4 | AT148: K | AU148: 2 | AY148: ROZPOCET | BE148: =IF(N148="základná",J148,0) -> 0 | BF148: =IF(N148="znížená",J148,0) -> 0 | BG148: =IF(N148="zákl. prenesená",J148,0) -> 0 | BH148: =IF(N148="zníž. prenesená",J148,0) -> 0 | BI148: =IF(N148="nulová",J148,0) -> 0 | BJ148: 2 | BK148: =ROUND(I148*H148,2) -> 0 | BL148: 4 | BM148: -988638644
C149: 37 | D149: M | E149: 552410002300.S | F149: Poklop liatinový D400 priemer 600 mm | G149: ks | H149: 2 | J149: =ROUND(I149*H149,2) -> 0 | N149: znížená | O149: 0 | P149: =O149*H149 -> 0 | Q149: 0.0864 | R149: =Q149*H149 -> 0.1728 | S149: 0 | T149: =S149*H149 -> 0 | AR149: 8 | AT149: M | AU149: 2 | AY149: ROZPOCET | BE149: =IF(N149="základná",J149,0) -> 0 | BF149: =IF(N149="znížená",J149,0) -> 0 | BG149: =IF(N149="zákl. prenesená",J149,0) -> 0 | BH149: =IF(N149="zníž. prenesená",J149,0) -> 0 | BI149: =IF(N149="nulová",J149,0) -> 0 | BJ149: 2 | BK149: =ROUND(I149*H149,2) -> 0 | BL149: 4 | BM149: -1697907005
C150: 21 | D150: K | E150: 915711111 | F150: Vodorovné značenie krytu striekané farbou deliacich čiar šírky 120 mm | G150: m | H150: 335 | J150: =ROUND(I150*H150,2) -> 0 | N150: znížená | O150: 0 | P150: =O150*H150 -> 0 | Q150: 8.9987163e-05 | R150: =Q150*H150 -> 0.0301457 | S150: 0 | T150: =S150*H150 -> 0 | AR150: 4 | AT150: K | AU150: 2 | AY150: ROZPOCET | BE150: =IF(N150="základná",J150,0) -> 0 | BF150: =IF(N150="znížená",J150,0) -> 0 | BG150: =IF(N150="zákl. prenesená",J150,0) -> 0 | BH150: =IF(N150="zníž. prenesená",J150,0) -> 0 | BI150: =IF(N150="nulová",J150,0) -> 0 | BJ150: 2 | BK150: =ROUND(I150*H150,2) -> 0 | BL150: 4 | BM150: -483415924
C151: 22 | D151: K | E151: 915719111 | F151: Príplatok k cene za reflexnú úpravu balotinovú deliacich čiar šírky 120 mm | G151: m | H151: 335 | J151: =ROUND(I151*H151,2) -> 0 | N151: znížená | O151: 0 | P151: =O151*H151 -> 0 | Q151: 3.9987163e-05 | R151: =Q151*H151 -> 0.0133957 | S151: 0 | T151: =S151*H151 -> 0 | AR151: 4 | AT151: K | AU151: 2 | AY151: ROZPOCET | BE151: =IF(N151="základná",J151,0) -> 0 | BF151: =IF(N151="znížená",J151,0) -> 0 | BG151: =IF(N151="zákl. prenesená",J151,0) -> 0 | BH151: =IF(N151="zníž. prenesená",J151,0) -> 0 | BI151: =IF(N151="nulová",J151,0) -> 0 | BJ151: 2 | BK151: =ROUND(I151*H151,2) -> 0 | BL151: 4 | BM151: -1372668336
C152: 23 | D152: K | E152: 915791111 | F152: Predznačenie pre značenie striekané farbou z náterových hmôt deliace čiary, vodiace prúžky | G152: m | H152: 335 | J152: =ROUND(I152*H152,2) -> 0 | N152: znížená | O152: 0 | P152: =O152*H152 -> 0 | Q152: 3.4980745e-06 | R152: =Q152*H152 -> 0.0011718549 | S152: 0 | T152: =S152*H152 -> 0 | AR152: 4 | AT152: K | AU152: 2 | AY152: ROZPOCET | BE152: =IF(N152="základná",J152,0) -> 0 | BF152: =IF(N152="znížená",J152,0) -> 0 | BG152: =IF(N152="zákl. prenesená",J152,0) -> 0 | BH152: =IF(N152="zníž. prenesená",J152,0) -> 0 | BI152: =IF(N152="nulová",J152,0) -> 0 | BJ152: 2 | BK152: =ROUND(I152*H152,2) -> 0 | BL152: 4 | BM152: -1534280286
C153: 24 | D153: K | E153: 916331111.S | F153: Osadenie cestného obrubníka betónového ležatého do lôžka z betónu prostého tr. C 12/15 bez bočnej opory | G153: m | H153: 177.5 | J153: =ROUND(I153*H153,2) -> 0 | N153: znížená | O153: 0.27 | P153: =O153*H153 -> 47.925 | Q153: 0.14041 | R153: =Q153*H153 -> 24.922775 | S153: 0 | T153: =S153*H153 -> 0 | AR153: 4 | AT153: K | AU153: 2 | AY153: ROZPOCET | BE153: =IF(N153="základná",J153,0) -> 0 | BF153: =IF(N153="znížená",J153,0) -> 0 | BG153: =IF(N153="zákl. prenesená",J153,0) -> 0 | BH153: =IF(N153="zníž. prenesená",J153,0) -> 0 | BI153: =IF(N153="nulová",J153,0) -> 0 | BJ153: 2 | BK153: =ROUND(I153*H153,2) -> 0 | BL153: 4 | BM153: -1502018126
C154: 25 | D154: M | E154: 592170002400 | F154: Obrubník cestný nábehový, lxšxv 1000x200x150(100) mm | G154: ks | H154: 177.5 | J154: =ROUND(I154*H154,2) -> 0 | N154: znížená | O154: 0 | P154: =O154*H154 -> 0 | Q154: 0.065 | R154: =Q154*H154 -> 11.5375 | S154: 0 | T154: =S154*H154 -> 0 | AR154: 8 | AT154: M | AU154: 2 | AY154: ROZPOCET | BE154: =IF(N154="základná",J154,0) -> 0 | BF154: =IF(N154="znížená",J154,0) -> 0 | BG154: =IF(N154="zákl. prenesená",J154,0) -> 0 | BH154: =IF(N154="zníž. prenesená",J154,0) -> 0 | BI154: =IF(N154="nulová",J154,0) -> 0 | BJ154: 2 | BK154: =ROUND(I154*H154,2) -> 0 | BL154: 4 | BM154: 737271295
C155: 26 | D155: K | E155: 916362111.S | F155: Osadenie cestného obrubníka betónového stojatého do lôžka z betónu prostého tr. C 12/15 s bočnou oporou | G155: m | H155: 112.5 | J155: =ROUND(I155*H155,2) -> 0 | N155: znížená | O155: 0.27 | P155: =O155*H155 -> 30.375 | Q155: 0.15223 | R155: =Q155*H155 -> 17.125875 | S155: 0 | T155: =S155*H155 -> 0 | AR155: 4 | AT155: K | AU155: 2 | AY155: ROZPOCET | BE155: =IF(N155="základná",J155,0) -> 0 | BF155: =IF(N155="znížená",J155,0) -> 0 | BG155: =IF(N155="zákl. prenesená",J155,0) -> 0 | BH155: =IF(N155="zníž. prenesená",J155,0) -> 0 | BI155: =IF(N155="nulová",J155,0) -> 0 | BJ155: 2 | BK155: =ROUND(I155*H155,2) -> 0 | BL155: 4 | BM155: 563812129
C156: 27 | D156: M | E156: 59217000180011 | F156: Obrubník parkový so skosenou hranou, lxšxv 1000x80x250 mm, sivá | G156: ks | H156: 113.625 | J156: =ROUND(I156*H156,2) -> 0 | N156: znížená | O156: 0 | P156: =O156*H156 -> 0 | Q156: 0.023 | R156: =Q156*H156 -> 2.613375 | S156: 0 | T156: =S156*H156 -> 0 | AR156: 8 | AT156: M | AU156: 2 | AY156: ROZPOCET | BE156: =IF(N156="základná",J156,0) -> 0 | BF156: =IF(N156="znížená",J156,0) -> 0 | BG156: =IF(N156="zákl. prenesená",J156,0) -> 0 | BH156: =IF(N156="zníž. prenesená",J156,0) -> 0 | BI156: =IF(N156="nulová",J156,0) -> 0 | BJ156: 2 | BK156: =ROUND(I156*H156,2) -> 0 | BL156: 4 | BM156: -723962354
C157: 38 | D157: K | E157: 919731122.S | F157: Zarovnanie styčnej plochy pozdĺž vybúranej časti komunikácie asfaltovej hr. nad 50 do 100 mm | G157: m | H157: 177.5 | J157: =ROUND(I157*H157,2) -> 0 | N157: znížená | O157: 0.088 | P157: =O157*H157 -> 15.62 | Q157: 0 | R157: =Q157*H157 -> 0 | S157: 0 | T157: =S157*H157 -> 0 | AR157: 4 | AT157: K | AU157: 2 | AY157: ROZPOCET | BE157: =IF(N157="základná",J157,0) -> 0 | BF157: =IF(N157="znížená",J157,0) -> 0 | BG157: =IF(N157="zákl. prenesená",J157,0) -> 0 | BH157: =IF(N157="zníž. prenesená",J157,0) -> 0 | BI157: =IF(N157="nulová",J157,0) -> 0 | BJ157: 2 | BK157: =ROUND(I157*H157,2) -> 0 | BL157: 4 | BM157: 1969210219
C158: 34 | D158: K | E158: 919794441.S | F158: Úprava plôch okolo hydrantov | G158: ks | H158: 1 | J158: =ROUND(I158*H158,2) -> 0 | N158: znížená | O158: 0.549 | P158: =O158*H158 -> 0.549 | Q158: 1.61679 | R158: =Q158*H158 -> 1.61679 | S158: 0 | T158: =S158*H158 -> 0 | AR158: 4 | AT158: K | AU158: 2 | AY158: ROZPOCET | BE158: =IF(N158="základná",J158,0) -> 0 | BF158: =IF(N158="znížená",J158,0) -> 0 | BG158: =IF(N158="zákl. prenesená",J158,0) -> 0 | BH158: =IF(N158="zníž. prenesená",J158,0) -> 0 | BI158: =IF(N158="nulová",J158,0) -> 0 | BJ158: 2 | BK158: =ROUND(I158*H158,2) -> 0 | BL158: 4 | BM158: -481609225
C159: 28 | D159: K | E159: 979081111 | F159: Odvoz sutiny a vybúraných hmôt na skládku do 1 km | G159: t | H159: 36.68 | J159: =ROUND(I159*H159,2) -> 0 | N159: znížená | O159: 0 | P159: =O159*H159 -> 0 | Q159: 0 | R159: =Q159*H159 -> 0 | S159: 0 | T159: =S159*H159 -> 0 | AR159: 4 | AT159: K | AU159: 2 | AY159: ROZPOCET | BE159: =IF(N159="základná",J159,0) -> 0 | BF159: =IF(N159="znížená",J159,0) -> 0 | BG159: =IF(N159="zákl. prenesená",J159,0) -> 0 | BH159: =IF(N159="zníž. prenesená",J159,0) -> 0 | BI159: =IF(N159="nulová",J159,0) -> 0 | BJ159: 2 | BK159: =ROUND(I159*H159,2) -> 0 | BL159: 4 | BM159: -1777217274
... C162: 31 | D162: K | E162: 979082121 | F162: Poplatok za uskladnenie TKO | G162: t | H162: 36.68 | J162: =ROUND(I162*H162,2) -> 0 | N162: znížená | O162: 0 | P162: =O162*H162 -> 0 | Q162: 0 | R162: =Q162*H162 -> 0 | S162: 0 | T162: =S162*H162 -> 0 | AR162: 4 | AT162: K | AU162: 2 | AY162: ROZPOCET | BE162: =IF(N162="základná",J162,0) -> 0 | BF162: =IF(N162="znížená",J162,0) -> 0 | BG162: =IF(N162="zákl. prenesená",J162,0) -> 0 | BH162: =IF(N162="zníž. prenesená",J162,0) -> 0 | BI162: =IF(N162="nulová",J162,0) -> 0 | BJ162: 2 | BK162: =ROUND(I162*H162,2) -> 0 | BL162: 4 | BM162: -192208908
D163: D | E163: 99 | F163: Presun hmôt HSV | J163: =BK163 -> 0 | P163: =P164 -> 315.10701 | R163: =R164 -> 0 | T163: =T164 -> 0 | AR163: 1 | AT163: D | AU163: 1 | AY163: ROZPOCET | BK163: =BK164 -> 0
C164: 41 | D164: K | E164: 998223011.S | F164: Presun hmôt pre pozemné komunikácie s krytom dláždeným (822 2.3, 822 5.3) akejkoľvek dĺžky objektu | G164: t | H164: 801.799 | J164: =ROUND(I164*H164,2) -> 0 | N164: znížená | O164: 0.393 | P164: =O164*H164 -> 315.10701 | Q164: 0 | R164: =Q164*H164 -> 0 | S164: 0 | T164: =S164*H164 -> 0 | AR164: 4 | AT164: K | AU164: 2 | AY164: ROZPOCET | BE164: =IF(N164="základná",J164,0) -> 0 | BF164: =IF(N164="znížená",J164,0) -> 0 | BG164: =IF(N164="zákl. prenesená",J164,0) -> 0 | BH164: =IF(N164="zníž. prenesená",J164,0) -> 0 | BI164: =IF(N164="nulová",J164,0) -> 0 | BJ164: 2 | BK164: =ROUND(I164*H164,2) -> 0 | BL164: 4 | BM164: 712937692
D165: D | E165: M | F165: Práce a dodávky M | J165: =BK165 -> 0 | P165: =P166 -> 0 | R165: =R166 -> 0 | T165: =T166 -> 0 | AR165: 3 | AT165: D | AU165: 0 | AY165: ROZPOCET | BK165: =BK166 -> 0
D166: D | E166: 21-M | F166: Elektromontáže | J166: =BK166 -> 0 | P166: =P167 -> 0 | R166: =R167 -> 0 | T166: =T167 -> 0 | AR166: 3 | AT166: D | AU166: 1 | AY166: ROZPOCET | BK166: =BK167 -> 0
C167: 35 | D167: K | E167: 21025134111 | F167: Ochrana stĺpa VO D+M | G167: ks | H167: 4 | J167: =ROUND(I167*H167,2) -> 0 | N167: znížená | O167: 0 | P167: =O167*H167 -> 0 | Q167: 0 | R167: =Q167*H167 -> 0 | S167: 0 | T167: =S167*H167 -> 0 | AR167: 64 | AT167: K | AU167: 2 | AY167: ROZPOCET | BE167: =IF(N167="základná",J167,0) -> 0 | BF167: =IF(N167="znížená",J167,0) -> 0 | BG167: =IF(N167="zákl. prenesená",J167,0) -> 0 | BH167: =IF(N167="zníž. prenesená",J167,0) -> 0 | BI167: =IF(N167="nulová",J167,0) -> 0 | BJ167: 2 | BK167: =ROUND(I167*H167,2) -> 0 | BL167: 64 | BM167: 98731679

Sheet SO 06 - Stojiská na nádob...
L2: >> skryté stĺpce << | AT2: {6ce7039f-4f9a-4d77-be5a-20721a28d505}
AT3: 0
D4: KRYCÍ LIST ROZPOČTU | M4: v --- nižšie sa nachádzajú doplnkové a pomocné údaje k zostavám --- v | AT4: False
D6: Stavba:
E7: ='Rekapitulácia stavby'!K6 -> Rekonštrukcia spevnených plôch v rámci Mesta Humenné
D8: Objekt:
E9: SO 06 - Stojiská na nádoby na komunálny odpad a rozšírenie odstavnej plochy pri BD Pugačevova 1399
D11: JKSO: | I11: KS:
D12: Miesto: | F12: Humenné | I12: Dátum: | J12: ='Rekapitulácia stavby'!AN8 -> 11. 6. 2021
D14: Objednávateľ: | I14: IČO:
E15: Mesto Humenné | I15: IČ DPH:
D17: Zhotoviteľ: | I17: IČO: | J17: ='Rekapitulácia stavby'!AN13
E18: ='Rekapitulácia stavby'!E14 | I18: IČ DPH: | J18: ='Rekapitulácia stavby'!AN14
D20: Projektant: | I20: IČO: | J20: =IF('Rekapitulácia stavby'!AN16="","",'Rekapitulácia stavby'!AN16)
E21: =IF('Rekapitulácia stavby'!E17="","",'Rekapitulácia stavby'!E17) | I21: IČ DPH: | J21: =IF('Rekapitulácia stavby'!AN17="","",'Rekapitulácia stavby'!AN17)
D23: Spracovateľ: | I23: IČO: | J23: =IF('Rekapitulácia stavby'!AN19="","",'Rekapitulácia stavby'!AN19)
E24: =IF('Rekapitulácia stavby'!E20="","",'Rekapitulácia stavby'!E20) | I24: IČ DPH: | J24: =IF('Rekapitulácia stavby'!AN20="","",'Rekapitulácia stavby'!AN20)
D26: Poznámka:
D30: Cena bez DPH | J30: =ROUND(J124, 2) -> 0
F32: Základ dane | I32: Sadzba dane | J32: Výška dane
D33: DPH | E33: základná | F33: =ROUND((SUM(BE124:BE159)), 2) -> 0 | I33: 0.2 | J33: =ROUND(((SUM(BE124:BE159))*I33), 2) -> 0
E34: znížená | F34: =ROUND((SUM(BF124:BF159)), 2) -> 0 | I34: 0.2 | J34: =ROUND(((SUM(BF124:BF159))*I34), 2) -> 0
E35: zákl. prenesená | F35: =ROUND((SUM(BG124:BG159)), 2) -> 0 | I35: 0.2 | J35: =0 -> 0
E36: zníž. prenesená | F36: =ROUND((SUM(BH124:BH159)), 2) -> 0 | I36: 0.2 | J36: =0 -> 0
E37: nulová | F37: =ROUND((SUM(BI124:BI159)), 2) -> 0 | I37: 0 | J37: =0 -> 0
D39: Cena s DPH | G39: v | H39: EUR | J39: =SUM(J30:J37) -> 0
D50: Projektant | G50: Spracovateľ
D61: Dátum a podpis: | F61: Pečiatka | G61: Dátum a podpis: | J61: Pečiatka
D65: Objednávateľ | G65: Zhotoviteľ
D76: Dátum a podpis: | F76: Pečiatka | G76: Dátum a podpis: | J76: Pečiatka
C82: REKAPITULÁCIA ROZPOČTU
C84: Stavba:
E85: =E7 -> Rekonštrukcia spevnených plôch v rámci Mesta Humenné
C86: Objekt:
E87: =E9 -> SO 06 - Stojiská na nádoby na komunálny odpad a rozšírenie odstavnej plochy pri BD Pugačevova 1399
C89: Miesto: | F89: =F12 -> Humenné | I89: Dátum: | J89: =IF(J12="","",J12) -> 11. 6. 2021
C91: Objednávateľ: | F91: =E15 -> Mesto Humenné | I91: Projektant: | J91: =E21
C92: Zhotoviteľ: | F92: =IF(E18="","",E18) | I92: Spracovateľ: | J92: =E24
C94: Kód dielu - Popis | J94: Cena celkom [EUR]
C96: Náklady z rozpočtu | J96: =J124 -> 0 | AU96: -1
D97: HSV - Práce a dodávky HSV | J97: =J125 -> 0
D98: 1 - Zemné práce | J98: =J126 -> 0
D99: 2 - Zakladanie | J99: =J138 -> 0
D100: 5 - Komunikácie | J100: =J140 -> 0
D101: 9 - Ostatné konštrukcie a práce-búranie | J101: =J150 -> 0
D102: PSV - Práce a dodávky PSV | J102: =J155 -> 0
D103: 767 - Konštrukcie doplnkové kovové | J103: =J156 -> 0
D104: HZS - Hodinové zúčtovacie sadzby | J104: =J158 -> 0
C111: ROZPOČET
C113: Stavba:
E114: =E7 -> Rekonštrukcia spevnených plôch v rámci Mesta Humenné
C115: Objekt:
E116: =E9 -> SO 06 - Stojiská na nádoby na komunálny odpad a rozšírenie odstavnej plochy pri BD Pugačevova 1399
C118: Miesto: | F118: =F12 -> Humenné | I118: Dátum: | J118: =IF(J12="","",J12) -> 11. 6. 2021
C120: Objednávateľ: | F120: =E15 -> Mesto Humenné | I120: Projektant: | J120: =E21
C121: Zhotoviteľ: | F121: =IF(E18="","",E18) | I121: Spracovateľ: | J121: =E24
C123: PČ | D123: Typ | E123: Kód | F123: Popis | G123: MJ | H123: Množstvo | I123: J.cena [EUR] | J123: Cena celkom [EUR] | K123: Cenová sústava | N123: DPH | O123: J. Nh [h] | P123: Nh celkom [h] | Q123: J. hmotnosť [t] | R123: Hmotnosť celkom [t] | S123: J. suť [t] | T123: Suť Celkom [t]
C124: Náklady z rozpočtu | J124: =BK124 -> 0 | P124: =P125+P155+P158 -> 76.736821 | R124: =R125+R155+R158 -> 20.218257 | T124: =T125+T155+T158 -> 1.1 | AT124: D | AU124: -1 | BK124: =BK125+BK155+BK158 -> 0
D125: D | E125: HSV | F125: Práce a dodávky HSV | J125: =BK125 -> 0 | P125: =P126+P138+P140+P150 -> 70.323821 | R125: =R126+R138+R140+R150 -> 20.200457 | T125: =T126+T138+T140+T150 -> 1.1 | AR125: 1 | AT125: D | AU125: 0 | AY125: ROZPOCET | BK125: =BK126+BK138+BK140+BK150 -> 0
D126: D | E126: 1 | F126: Zemné práce | J126: =BK126 -> 0 | P126: =SUM(P127:P137) -> 22.752309 | R126: =SUM(R127:R137) -> 1.50001 | T126: =SUM(T127:T137) -> 0 | AR126: 1 | AT126: D | AU126: 1 | AY126: ROZPOCET | BK126: =SUM(BK127:BK137) -> 0
C127: 21 | D127: K | E127: 1112011011 | F127: Odstránenie krovín | G127: m2 | H127: 1.5 | J127: =ROUND(I127*H127,2) -> 0 | N127: znížená | O127: 0.163 | P127: =O127*H127 -> 0.2445 | Q127: 0 | R127: =Q127*H127 -> 0 | S127: 0 | T127: =S127*H127 -> 0 | AR127: 4 | AT127: K | AU127: 2 | AY127: ROZPOCET | BE127: =IF(N127="základná",J127,0) -> 0 | BF127: =IF(N127="znížená",J127,0) -> 0 | BG127: =IF(N127="zákl. prenesená",J127,0) -> 0 | BH127: =IF(N127="zníž. prenesená",J127,0) -> 0 | BI127: =IF(N127="nulová",J127,0) -> 0 | BJ127: 2 | BK127: =ROUND(I127*H127,2) -> 0 | BL127: 4 | BM127: 413049357
C128: 22 | D128: K | E128: 112201102.S | F128: Odstránenie pňov na vzdial. 50 m priemeru nad 300 do 500 mm | G128: ks | H128: 1 | J128: =ROUND(I128*H128,2) -> 0 | N128: znížená | O128: 1.57 | P128: =O128*H128 -> 1.57 | Q128: 1e-05 | R128: =Q128*H128 -> 1e-05 | S128: 0 | T128: =S128*H128 -> 0 | AR128: 4 | AT128: K | AU128: 2 | AY128: ROZPOCET | BE128: =IF(N128="základná",J128,0) -> 0 | BF128: =IF(N128="znížená",J128,0) -> 0 | BG128: =IF(N128="zákl. prenesená",J128,0) -> 0 | BH128: =IF(N128="zníž. prenesená",J128,0) -> 0 | BI128: =IF(N128="nulová",J128,0) -> 0 | BJ128: 2 | BK128: =ROUND(I128*H128,2) -> 0 | BL128: 4 | BM128: -1309311207
C129: 1 | D129: K | E129: 122201101.S | F129: Odkopávka a prekopávka nezapažená v hornine 3, do 100 m3 | G129: m3 | H129: 23.8 | J129: =ROUND(I129*H129,2) -> 0 | N129: znížená | O129: 0.46 | P129: =O129*H129 -> 10.948 | Q129: 0 | R129: =Q129*H129 -> 0 | S129: 0 | T129: =S129*H129 -> 0 | AR129: 4 | AT129: K | AU129: 2 | AY129: ROZPOCET | BE129: =IF(N129="základná",J129,0) -> 0 | BF129: =IF(N129="znížená",J129,0) -> 0 | BG129: =IF(N129="zákl. prenesená",J129,0) -> 0 | BH129: =IF(N129="zníž. prenesená",J129,0) -> 0 | BI129: =IF(N129="nulová",J129,0) -> 0 | BJ129: 2 | BK129: =ROUND(I129*H129,2) -> 0 | BL129: 4 | BM129: 837179744
C130: 19 | D130: K | E130: 1332011011 | F130: Výkop šachty hornina 3 do 100 m3-osadenie sušiak | G130: m3 | H130: 0.5 | J130: =ROUND(I130*H130,2) -> 0 | N130: znížená | O130: 0 | P130: =O130*H130 -> 0 | Q130: 0 | R130: =Q130*H130 -> 0 | S130: 0 | T130: =S130*H130 -> 0 | AR130: 4 | AT130: K | AU130: 2 | AY130: ROZPOCET | BE130: =IF(N130="základná",J130,0) -> 0 | BF130: =IF(N130="znížená",J130,0) -> 0 | BG130: =IF(N130="zákl. prenesená",J130,0) -> 0 | BH130: =IF(N130="zníž. prenesená",J130,0) -> 0 | BI130: =IF(N130="nulová",J130,0) -> 0 | BJ130: 2 | BK130: =ROUND(I130*H130,2) -> 0 | BL130: 4 | BM130: 361144272
C131: 20 | D131: K | E131: 133201109 | F131: Príplatok k cenám za lepivosť horniny | G131: m3 | H131: 0.5 | J131: =ROUND(I131*H131,2) -> 0 | N131: znížená | O131: 0 | P131: =O131*H131 -> 0 | Q131: 0 | R131: =Q131*H131 -> 0 | S131: 0 | T131: =S131*H131 -> 0 | AR131: 4 | AT131: K | AU131: 2 | AY131: ROZPOCET | BE131: =IF(N131="základná",J131,0) -> 0 | BF131: =IF(N131="znížená",J131,0) -> 0 | BG131: =IF(N131="zákl. prenesená",J131,0) -> 0 | BH131: =IF(N131="zníž. prenesená",J131,0) -> 0 | BI131: =IF(N131="nulová",J131,0) -> 0 | BJ131: 2 | BK131: =ROUND(I131*H131,2) -> 0 | BL131: 4 | BM131: -1633117423
C132: 10 | D132: K | E132: 162503102.S | F132: Vodorovné premiestnenie výkopku pre cesty po spevnenej ceste z horniny tr.1-4 do 1000 m3 na vzdialenosť do 3000 m | G132: m3 | H132: 24.3 | J132: =ROUND(I132*H132,2) -> 0 | N132: znížená | O132: 0.0489 | P132: =O132*H132 -> 1.18827 | Q132: 0 | R132: =Q132*H132 -> 0 | S132: 0 | T132: =S132*H132 -> 0 | AR132: 4 | AT132: K | AU132: 2 | AY132: ROZPOCET | BE132: =IF(N132="základná",J132,0) -> 0 | BF132: =IF(N132="znížená",J132,0) -> 0 | BG132: =IF(N132="zákl. prenesená",J132,0) -> 0 | BH132: =IF(N132="zníž. prenesená",J132,0) -> 0 | BI132: =IF(N132="nulová",J132,0) -> 0 | BJ132: 2 | BK132: =ROUND(I132*H132,2) -> 0 | BL132: 4 | BM132: 1194268297
C133: 11 | D133: K | E133: 162503103.S | F133: Vodorovné premiestnenie výkopku pre cesty po spevnenej ceste z horniny tr.1-4 do 1000 m3, príplatok k cene za každých ďalšich a začatých 1000 m | G133: m3 | H133: 170.1 | J133: =ROUND(I133*H133,2) -> 0 | N133: znížená | O133: 0.00539 | P133: =O133*H133 -> 0.916839 | Q133: 0 | R133: =Q133*H133 -> 0 | S133: 0 | T133: =S133*H133 -> 0 | AR133: 4 | AT133: K | AU133: 2 | AY133: ROZPOCET | BE133: =IF(N133="základná",J133,0) -> 0 | BF133: =IF(N133="znížená",J133,0) -> 0 | BG133: =IF(N133="zákl. prenesená",J133,0) -> 0 | BH133: =IF(N133="zníž. prenesená",J133,0) -> 0 | BI133: =IF(N133="nulová",J133,0) -> 0 | BJ133: 2 | BK133: =ROUND(I133*H133,2) -> 0 | BL133: 4 | BM133: 749874407
C134: 12 | D134: K | E134: 167101102.S | F134: Nakladanie neuľahnutého výkopku z hornín tr.1-4 nad 100 do 1000 m3 | G134: m3 | H134: 24.3 | J134: =ROUND(I134*H134,2) -> 0 | N134: znížená | O134: 0.087 | P134: =O134*H134 -> 2.1141 | Q134: 0 | R134: =Q134*H134 -> 0 | S134: 0 | T134: =S134*H134 -> 0 | AR134: 4 | AT134: K | AU134: 2 | AY134: ROZPOCET | BE134: =IF(N134="základná",J134,0) -> 0 | BF134: =IF(N134="znížená",J134,0) -> 0 | BG134: =IF(N134="zákl. prenesená",J134,0) -> 0 | BH134: =IF(N134="zníž. prenesená",J134,0) -> 0 | BI134: =IF(N134="nulová",J134,0) -> 0 | BJ134: 2 | BK134: =ROUND(I134*H134,2) -> 0 | BL134: 4 | BM134: 1661289727
C135: 13 | D135: K | E135: 171102102.S | F135: Uloženie sypaniny do násypu súdržných hornín pre diaľnice na 96% Proctor-Standard | G135: m3 | H135: 24.3 | J135: =ROUND(I135*H135,2) -> 0 | N135: znížená | O135: 0.022 | P135: =O135*H135 -> 0.5346 | Q135: 0 | R135: =Q135*H135 -> 0 | S135: 0 | T135: =S135*H135 -> 0 | AR135: 4 | AT135: K | AU135: 2 | AY135: ROZPOCET | BE135: =IF(N135="základná",J135,0) -> 0 | BF135: =IF(N135="znížená",J135,0) -> 0 | BG135: =IF(N135="zákl. prenesená",J135,0) -> 0 | BH135: =IF(N135="zníž. prenesená",J135,0) -> 0 | BI135: =IF(N135="nulová",J135,0) -> 0 | BJ135: 2 | BK135: =ROUND(I135*H135,2) -> 0 | BL135: 4 | BM135: -1491354938
C136: 14 | D136: K | E136: 182313101.S | F136: Vyplnenie otvoru v tvárniciach | G136: m2 | H136: 44 | J136: =ROUND(I136*H136,2) -> 0 | N136: znížená | O136: 0.119 | P136: =O136*H136 -> 5.236 | Q136: 0 | R136: =Q136*H136 -> 0 | S136: 0 | T136: =S136*H136 -> 0 | AR136: 4 | AT136: K | AU136: 2 | AY136: ROZPOCET | BE136: =IF(N136="základná",J136,0) -> 0 | BF136: =IF(N136="znížená",J136,0) -> 0 | BG136: =IF(N136="zákl. prenesená",J136,0) -> 0 | BH136: =IF(N136="zníž. prenesená",J136,0) -> 0 | BI136: =IF(N136="nulová",J136,0) -> 0 | BJ136: 2 | BK136: =ROUND(I136*H136,2) -> 0 | BL136: 4 | BM136: 413053908
C137: 15 | D137: M | E137: 58331000270011 | F137: Štrkopiesok so zeminou na zasypávanie polovegetačných tvárnic | G137: t | H137: 1.5 | J137: =ROUND(I137*H137,2) -> 0 | N137: znížená | O137: 0 | P137: =O137*H137 -> 0 | Q137: 1 | R137: =Q137*H137 -> 1.5 | S137: 0 | T137: =S137*H137 -> 0 | AR137: 8 | AT137: M | AU137: 2 | AY137: ROZPOCET | BE137: =IF(N137="základná",J137,0) -> 0 | BF137: =IF(N137="znížená",J137,0) -> 0 | BG137: =IF(N137="zákl. prenesená",J137,0) -> 0 | BH137: =IF(N137="zníž. prenesená",J137,0) -> 0 | BI137: =IF(N137="nulová",J137,0) -> 0 | BJ137: 2 | BK137: =ROUND(I137*H137,2) -> 0 | BL137: 4 | BM137: 1031853265
D138: D | E138: 2 | F138: Zakladanie | J138: =BK138 -> 0 | P138: =P139 -> 0.35 | R138: =R139 -> 1.15014 | T138: =T139 -> 0 | AR138: 1 | AT138: D | AU138: 1 | AY138: ROZPOCET | BK138: =BK139 -> 0
C139: 25 | D139: K | E139: 275311114.S | F139: Základové pätky a bloky mostných konštrukcií z betónu prostého tr. C 12/15 | G139: m3 | H139: 0.5 | J139: =ROUND(I139*H139,2) -> 0 | N139: znížená | O139: 0.7 | P139: =O139*H139 -> 0.35 | Q139: 2.30028 | R139: =Q139*H139 -> 1.15014 | S139: 0 | T139: =S139*H139 -> 0 | AR139: 4 | AT139: K | AU139: 2 | AY139: ROZPOCET | BE139: =IF(N139="základná",J139,0) -> 0 | BF139: =IF(N139="znížená",J139,0) -> 0 | BG139: =IF(N139="zákl. prenesená",J139,0) -> 0 | BH139: =IF(N139="zníž. prenesená",J139,0) -> 0 | BI139: =IF(N139="nulová",J139,0) -> 0 | BJ139: 2 | BK139: =ROUND(I139*H139,2) -> 0 | BL139: 4 | BM139: 1219038704
D140: D | E140: 5 | F140: Komunikácie | J140: =BK140 -> 0 | P140: =SUM(P141:P149) -> 23.465512 | R140: =SUM(R141:R149) -> 6.685772 | T140: =SUM(T141:T149) -> 0 | AR140: 1 | AT140: D | AU140: 1 | AY140: ROZPOCET | BK140: =SUM(BK141:BK149) -> 0
C141: 2 | D141: K | E141: 564231111 | F141: Podklad alebo podsyp zo štrkopiesku s rozprestretím, vlhčením a zhutnením, po zhutnení hr. 100 mm | G141: m2 | H141: 44 | J141: =ROUND(I141*H141,2) -> 0 | N141: znížená | O141: 0 | P141: =O141*H141 -> 0 | Q141: 0 | R141: =Q141*H141 -> 0 | S141: 0 | T141: =S141*H141 -> 0 | AR141: 4 | AT141: K | AU141: 2 | AY141: ROZPOCET | BE141: =IF(N141="základná",J141,0) -> 0 | BF141: =IF(N141="znížená",J141,0) -> 0 | BG141: =IF(N141="zákl. prenesená",J141,0) -> 0 | BH141: =IF(N141="zníž. prenesená",J141,0) -> 0 | BI141: =IF(N141="nulová",J141,0) -> 0 | BJ141: 2 | BK141: =ROUND(I141*H141,2) -> 0 | BL141: 4 | BM141: 1861405577
C142: 3 | D142: K | E142: 564251111 | F142: Podklad alebo podsyp zo štrkopiesku s rozprestretím, vlhčením a zhutnením, po zhutnení hr. 150 mm | G142: m2 | H142: 47.6 | J142: =ROUND(I142*H142,2) -> 0 | N142: znížená | O142: 0 | P142: =O142*H142 -> 0 | Q142: 0 | R142: =Q142*H142 -> 0 | S142: 0 | T142: =S142*H142 -> 0 | AR142: 4 | AT142: K | AU142: 2 | AY142: ROZPOCET | BE142: =IF(N142="základná",J142,0) -> 0 | BF142: =IF(N142="znížená",J142,0) -> 0 | BG142: =IF(N142="zákl. prenesená",J142,0) -> 0 | BH142: =IF(N142="zníž. prenesená",J142,0) -> 0 | BI142: =IF(N142="nulová",J142,0) -> 0 | BJ142: 2 | BK142: =ROUND(I142*H142,2) -> 0 | BL142: 4 | BM142: -2080436457
C143: 4 | D143: K | E143: 564811112 | F143: Podklad zo štrkodrviny s rozprestretím a zhutnením, po zhutnení hr. 60 mm | G143: m2 | H143: 47.6 | J143: =ROUND(I143*H143,2) -> 0 | N143: znížená | O143: 0 | P143: =O143*H143 -> 0 | Q143: 0 | R143: =Q143*H143 -> 0 | S143: 0 | T143: =S143*H143 -> 0 | AR143: 4 | AT143: K | AU143: 2 | AY143: ROZPOCET | BE143: =IF(N143="základná",J143,0) -> 0 | BF143: =IF(N143="znížená",J143,0) -> 0 | BG143: =IF(N143="zákl. prenesená",J143,0) -> 0 | BH143: =IF(N143="zníž. prenesená",J143,0) -> 0 | BI143: =IF(N143="nulová",J143,0) -> 0 | BJ143: 2 | BK143: =ROUND(I143*H143,2) -> 0 | BL143: 4 | BM143: -1487800441
C144: 5 | D144: K | E144: 564851111 | F144: Podklad zo štrkodrviny fr. 16-32mm, s rozprestretím a zhutnením, po zhutnení hr. 150 mm | G144: m2 | H144: 47.6 | J144: =ROUND(I144*H144,2) -> 0 | N144: znížená | O144: 0 | P144: =O144*H144 -> 0 | Q144: 0 | R144: =Q144*H144 -> 0 | S144: 0 | T144: =S144*H144 -> 0 | AR144: 4 | AT144: K | AU144: 2 | AY144: ROZPOCET | BE144: =IF(N144="základná",J144,0) -> 0 | BF144: =IF(N144="znížená",J144,0) -> 0 | BG144: =IF(N144="zákl. prenesená",J144,0) -> 0 | BH144: =IF(N144="zníž. prenesená",J144,0) -> 0 | BI144: =IF(N144="nulová",J144,0) -> 0 | BJ144: 2 | BK144: =ROUND(I144*H144,2) -> 0 | BL144: 4 | BM144: -1318412099
C145: 27 | D145: K | E145: 567114211 | F145: Podklad z podkladového betónu PB II tr. C 16/20 hr. 100 mm | G145: m2 | H145: 3.6 | J145: =ROUND(I145*H145,2) -> 0 | N145: znížená | O145: 0 | P145: =O145*H145 -> 0 | Q145: 0.26577 | R145: =Q145*H145 -> 0.956772 | S145: 0 | T145: =S145*H145 -> 0 | AR145: 4 | AT145: K | AU145: 2 | AY145: ROZPOCET | BE145: =IF(N145="základná",J145,0) -> 0 | BF145: =IF(N145="znížená",J145,0) -> 0 | BG145: =IF(N145="zákl. prenesená",J145,0) -> 0 | BH145: =IF(N145="zníž. prenesená",J145,0) -> 0 | BI145: =IF(N145="nulová",J145,0) -> 0 | BJ145: 2 | BK145: =ROUND(I145*H145,2) -> 0 | BL145: 4 | BM145: -1965997274
C146: 17 | D146: K | E146: 596911142.S | F146: Kladenie betónovej zámkovej dlažby komunikácií pre peších hr. 60 mm pre peších nad 50 do 100 m2 so zriadením lôžka z kameniva hr. 30 mm | G146: m2 | H146: 3.6 | J146: =ROUND(I146*H146,2) -> 0 | N146: znížená | O146: 0.70042 | P146: =O146*H146 -> 2.521512 | Q146: 0.0925 | R146: =Q146*H146 -> 0.333 | S146: 0 | T146: =S146*H146 -> 0 | AR146: 4 | AT146: K | AU146: 2 | AY146: ROZPOCET | BE146: =IF(N146="základná",J146,0) -> 0 | BF146: =IF(N146="znížená",J146,0) -> 0 | BG146: =IF(N146="zákl. prenesená",J146,0) -> 0 | BH146: =IF(N146="zníž. prenesená",J146,0) -> 0 | BI146: =IF(N146="nulová",J146,0) -> 0 | BJ146: 2 | BK146: =ROUND(I146*H146,2) -> 0 | BL146: 4 | BM146: 1430824818
C147: 18 | D147: M | E147: 592460007500 | F147: Dlažba betónová bezškárová,hr. 60 mm, sivá | G147: m2 | H147: 3.6 | J147: =ROUND(I147*H147,2) -> 0 | N147: znížená | O147: 0 | P147: =O147*H147 -> 0 | Q147: 0.13 | R147: =Q147*H147 -> 0.468 | S147: 0 | T147: =S147*H147 -> 0 | AR147: 8 | AT147: M | AU147: 2 | AY147: ROZPOCET | BE147: =IF(N147="základná",J147,0) -> 0 | BF147: =IF(N147="znížená",J147,0) -> 0 | BG147: =IF(N147="zákl. prenesená",J147,0) -> 0 | BH147: =IF(N147="zníž. prenesená",J147,0) -> 0 | BI147: =IF(N147="nulová",J147,0) -> 0 | BJ147: 2 | BK147: =ROUND(I147*H147,2) -> 0 | BL147: 4 | BM147: 417030576
C148: 6 | D148: K | E148: 596912214.S | F148: Kladenie betónovej dlažby z vegetačných tvárnic hr. 80 mm, do lôžka z kameniva ťaženého, veľkosti do 0,25 m2, plochy nad 300 m2 | G148: m2 | H148: 44 | J148: =ROUND(I148*H148,2) -> 0 | N148: znížená | O148: 0.476 | P148: =O148*H148 -> 20.944 | Q148: 0.112 | R148: =Q148*H148 -> 4.928 | S148: 0 | T148: =S148*H148 -> 0 | AR148: 4 | AT148: K | AU148: 2 | AY148: ROZPOCET | BE148: =IF(N148="základná",J148,0) -> 0 | BF148: =IF(N148="znížená",J148,0) -> 0 | BG148: =IF(N148="zákl. prenesená",J148,0) -> 0 | BH148: =IF(N148="zníž. prenesená",J148,0) -> 0 | BI148: =IF(N148="nulová",J148,0) -> 0 | BJ148: 2 | BK148: =ROUND(I148*H148,2) -> 0 | BL148: 4 | BM148: -224506827
C149: 7 | D149: M | E149: 592460013500 | F149: Dlažba betónová zatrávňovacia, hr. 80 mm, sivá | G149: m2 | H149: 44 | J149: =ROUND(I149*H149,2) -> 0 | N149: znížená | O149: 0 | P149: =O149*H149 -> 0 | Q149: 0 | R149: =Q149*H149 -> 0 | S149: 0 | T149: =S149*H149 -> 0 | AR149: 8 | AT149: M | AU149: 2 | AY149: ROZPOCET | BE149: =IF(N149="základná",J149,0) -> 0 | BF149: =IF(N149="znížená",J149,0) -> 0 | BG149: =IF(N149="zákl. prenesená",J149,0) -> 0 | BH149: =IF(N149="zníž. prenesená",J149,0) -> 0 | BI149: =IF(N149="nulová",J149,0) -> 0 | BJ149: 2 | BK149: =ROUND(I149*H149,2) -> 0 | BL149: 4 | BM149: 278233410
D150: D | E150: 9 | F150: Ostatné konštrukcie a práce-búranie | J150: =BK150 -> 0 | P150: =SUM(P151:P154) -> 23.756 | R150: =SUM(R151:R154) -> 10.864535 | T150: =SUM(T151:T154) -> 1.1 | AR150: 1 | AT150: D | AU150: 1 | AY150: ROZPOCET | BK150: =SUM(BK151:BK154) -> 0
C151: 8 | D151: K | E151: 916362111.S | F151: Osadenie cestného obrubníka betónového stojatého do lôžka z betónu prostého tr. C 12/15 s bočnou oporou | G151: m | H151: 62 | J151: =ROUND(I151*H151,2) -> 0 | N151: znížená | O151: 0.27 | P151: =O151*H151 -> 16.74 | Q151: 0.15223 | R151: =Q151*H151 -> 9.43826 | S151: 0 | T151: =S151*H151 -> 0 | AR151: 4 | AT151: K | AU151: 2 | AY151: ROZPOCET | BE151: =IF(N151="základná",J151,0) -> 0 | BF151: =IF(N151="znížená",J151,0) -> 0 | BG151: =IF(N151="zákl. prenesená",J151,0) -> 0 | BH151: =IF(N151="zníž. prenesená",J151,0) -> 0 | BI151: =IF(N151="nulová",J151,0) -> 0 | BJ151: 2 | BK151: =ROUND(I151*H151,2) -> 0 | BL151: 4 | BM151: 209240301
C152: 9 | D152: M | E152: 59217000180011 | F152: Obrubník parkový so skosenou hranou, lxšxv 1000x80x250 mm, sivá | G152: ks | H152: 62 | J152: =ROUND(I152*H152,2) -> 0 | N152: znížená | O152: 0 | P152: =O152*H152 -> 0 | Q152: 0.023 | R152: =Q152*H152 -> 1.426 | S152: 0 | T152: =S152*H152 -> 0 | AR152: 8 | AT152: M | AU152: 2 | AY152: ROZPOCET | BE152: =IF(N152="základná",J152,0) -> 0 | BF152: =IF(N152="znížená",J152,0) -> 0 | BG152: =IF(N152="zákl. prenesená",J152,0) -> 0 | BH152: =IF(N152="zníž. prenesená",J152,0) -> 0 | BI152: =IF(N152="nulová",J152,0) -> 0 | BJ152: 2 | BK152: =ROUND(I152*H152,2) -> 0 | BL152: 4 | BM152: 1679653784
C153: 16 | D153: K | E153: 95290311233 | F153: Vyčistenie asfaltovej plochy okolo obrubníkov | G153: m2 | H153: 27.5 | J153: =ROUND(I153*H153,2) -> 0 | N153: znížená | O153: 0.162 | P153: =O153*H153 -> 4.455 | Q153: 1e-05 | R153: =Q153*H153 -> 0.000275 | S153: 0 | T153: =S153*H153 -> 0 | AR153: 4 | AT153: K | AU153: 2 | AY153: ROZPOCET | BE153: =IF(N153="základná",J153,0) -> 0 | BF153: =IF(N153="znížená",J153,0) -> 0 | BG153: =IF(N153="zákl. prenesená",J153,0) -> 0 | BH153: =IF(N153="zníž. prenesená",J153,0) -> 0 | BI153: =IF(N153="nulová",J153,0) -> 0 | BJ153: 2 | BK153: =ROUND(I153*H153,2) -> 0 | BL153: 4 | BM153: 1705469870
C154: 24 | D154: K | E154: 9610431111 | F154: Búranie základovej pätky | G154: m3 | H154: 0.5 | J154: =ROUND(I154*H154,2) -> 0 | N154: znížená | O154: 5.122 | P154: =O154*H154 -> 2.561 | Q154: 0 | R154: =Q154*H154 -> 0 | S154: 2.2 | T154: =S154*H154 -> 1.1 | AR154: 4 | AT154: K | AU154: 2 | AY154: ROZPOCET | BE154: =IF(N154="základná",J154,0) -> 0 | BF154: =IF(N154="znížená",J154,0) -> 0 | BG154: =IF(N154="zákl. prenesená",J154,0) -> 0 | BH154: =IF(N154="zníž. prenesená",J154,0) -> 0 | BI154: =IF(N154="nulová",J154,0) -> 0 | BJ154: 2 | BK154: =ROUND(I154*H154,2) -> 0 | BL154: 4 | BM154: 112002161
D155: D | E155: PSV | F155: Práce a dodávky PSV | J155: =BK155 -> 0 | P155: =P156 -> 1.113 | R155: =R156 -> 0.0178 | T155: =T156 -> 0 | AR155: 2 | AT155: D | AU155: 0 | AY155: ROZPOCET | BK155: =BK156 -> 0
D156: D | E156: 767 | F156: Konštrukcie doplnkové kovové | J156: =BK156 -> 0 | P156: =P157 -> 1.113 | R156: =R157 -> 0.0178 | T156: =T157 -> 0 | AR156: 2 | AT156: D | AU156: 1 | AY156: ROZPOCET | BK156: =BK157 -> 0
C157: 26 | D157: K | E157: 7679165501 | F157: Osadenie kovového stojanu | G157: ks | H157: 4 | J157: =ROUND(I157*H157,2) -> 0 | N157: znížená | O157: 0.27825 | P157: =O157*H157 -> 1.113 | Q157: 0.00445 | R157: =Q157*H157 -> 0.0178 | S157: 0 | T157: =S157*H157 -> 0 | AR157: 16 | AT157: K | AU157: 2 | AY157: ROZPOCET | BE157: =IF(N157="základná",J157,0) -> 0 | BF157: =IF(N157="znížená",J157,0) -> 0 | BG157: =IF(N157="zákl. prenesená",J157,0) -> 0 | BH157: =IF(N157="zníž. prenesená",J157,0) -> 0 | BI157: =IF(N157="nulová",J157,0) -> 0 | BJ157: 2 | BK157: =ROUND(I157*H157,2) -> 0 | BL157: 16 | BM157: -1730917032
D158: D | E158: HZS | F158: Hodinové zúčtovacie sadzby | J158: =BK158 -> 0 | P158: =P159 -> 5.3 | R158: =R159 -> 0 | T158: =T159 -> 0 | AR158: 4 | AT158: D | AU158: 0 | AY158: ROZPOCET | BK158: =BK159 -> 0
C159: 23 | D159: K | E159: HZS0001111 | F159: Premiestnenie kovového stojana | G159: hod | H159: 5 | J159: =ROUND(I159*H159,2) -> 0 | N159: znížená | O159: 1.06 | P159: =O159*H159 -> 5.3 | Q159: 0 | R159: =Q159*H159 -> 0 | S159: 0 | T159: =S159*H159 -> 0 | AR159: 512 | AT159: K | AU159: 1 | AY159: ROZPOCET | BE159: =IF(N159="základná",J159,0) -> 0 | BF159: =IF(N159="znížená",J159,0) -> 0 | BG159: =IF(N159="zákl. prenesená",J159,0) -> 0 | BH159: =IF(N159="zníž. prenesená",J159,0) -> 0 | BI159: =IF(N159="nulová",J159,0) -> 0 | BJ159: 2 | BK159: =ROUND(I159*H159,2) -> 0 | BL159: 512 | BM159: 133626403
